BEGIN:VCALENDAR
VERSION:2.0
PRODID:-// - ECPv6.15.20//NONSGML v1.0//EN
CALSCALE:GREGORIAN
METHOD:PUBLISH
X-ORIGINAL-URL:https://fantastische-welten-rostock.de
X-WR-CALDESC:Veranstaltungen für 
REFRESH-INTERVAL;VALUE=DURATION:PT1H
X-Robots-Tag:noindex
X-PUBLISHED-TTL:PT1H
BEGIN:VTIMEZONE
TZID:UTC
BEGIN:STANDARD
TZOFFSETFROM:+0000
TZOFFSETTO:+0000
TZNAME:UTC
DTSTART:20240101T000000
END:STANDARD
END:VTIMEZONE
BEGIN:VEVENT
DTSTART;TZID=UTC:20250531T000000
DTEND;TZID=UTC:20250531T153000
DTSTAMP:20260425T113115
CREATED:20250218T104147Z
LAST-MODIFIED:20250507T122957Z
UID:848-1748649600-1748705400@fantastische-welten-rostock.de
SUMMARY:One Piece OP 11 Release - Sealed
DESCRIPTION:Anmeldungen ab 11.30 Uhr\, Beginn: 12.00 Uhr\, Teilnahme: 40\,00 € \n  \nJeder Teilnehmer bekommt 6 Booster zum Deckbau\, 2 weitere Booster gehen in den Preispool.
URL:https://fantastische-welten-rostock.de/event/magic-commander-casual-2-2-2-5-3-2-2-2/
LOCATION:Fantastische Welten\, Kistenmacherstr. 17\, Rostock\, Mecklenburg-Vorpommern\, 18055\, Germany
CATEGORIES:One Piece
ORGANIZER;CN="Fantastische Welten":MAILTO:Sven-adam@fantastische-welten-rostock.de
END:VEVENT
BEGIN:VEVENT
DTSTART;TZID=UTC:20250531T103000
DTEND;TZID=UTC:20250531T160000
DTSTAMP:20260425T113115
CREATED:20250503T101859Z
LAST-MODIFIED:20250516T133921Z
UID:1144-1748687400-1748707200@fantastische-welten-rostock.de
SUMMARY:Lorcana PreRelease Domäne von Dschafar - Sealed
DESCRIPTION:Anmeldungen ab 10.00 Uhr\, Beginn: 10.30 Uhr\, Teilnahme: 40\,00 € \n  \nJeder Teilnehmer bekommt 6 Booster zum Deckbau\, 2 weitere Booster gehen in den Preispool.
URL:https://fantastische-welten-rostock.de/event/magic-commander-casual-2-2-2-5-3-2-4/
LOCATION:Fantastische Welten\, Kistenmacherstr. 17\, Rostock\, Mecklenburg-Vorpommern\, 18055\, Germany
CATEGORIES:Lorcana
ORGANIZER;CN="Fantastische Welten":MAILTO:Sven-adam@fantastische-welten-rostock.de
END:VEVENT
BEGIN:VEVENT
DTSTART;TZID=UTC:20250531T110000
DTEND;TZID=UTC:20250531T160000
DTSTAMP:20260425T113115
CREATED:20250409T163033Z
LAST-MODIFIED:20250507T122913Z
UID:1032-1748689200-1748707200@fantastische-welten-rostock.de
SUMMARY:Yu-Gi-Oh! OTS Championship Alliance Insight
DESCRIPTION:Anmeldungen ab 10.30 Uhr\, Beginn: 11.00 Uhr\, Teilnahme: 15\,00 € \nJeder Teilnehmer erhält 3 OTS Packs\, 2 weitere OTS Packs wandern in den Preispool# \nAchtung! Das Event findet im neuen Laden (Kistenmacherstraße 17-18\, 18055 Rostock) statt!
URL:https://fantastische-welten-rostock.de/event/yu-gi-oh-ots-3-2-2-3-4-2-2-2/
LOCATION:Fantastische Welten\, Kistenmacherstr. 17\, Rostock\, Mecklenburg-Vorpommern\, 18055\, Germany
CATEGORIES:Yu-Gi-Oh!
ORGANIZER;CN="Fantastische Welten":MAILTO:Sven-adam@fantastische-welten-rostock.de
END:VEVENT
BEGIN:VEVENT
DTSTART;TZID=UTC:20250531T113000
DTEND;TZID=UTC:20250531T153000
DTSTAMP:20260425T113115
CREATED:20250506T133558Z
LAST-MODIFIED:20250507T122624Z
UID:1147-1748691000-1748705400@fantastische-welten-rostock.de
SUMMARY:Flesh & Blood PreRelease High Seas - Sealed
DESCRIPTION:Anmeldungen ab 11.00 Uhr\, Beginn: 11.30 Uhr\, Teilnahme: 40\,00 € \n  \nJeder Teilnehmer bekommt 6 Booster zum Deckbau\, 2 weitere Booster gehen in den Preispool.
URL:https://fantastische-welten-rostock.de/event/magic-commander-casual-2-2-2-5-3-2-2-2-2-2/
LOCATION:Fantastische Welten\, Kistenmacherstr. 17\, Rostock\, Mecklenburg-Vorpommern\, 18055\, Germany
CATEGORIES:Flesh & Blood
ORGANIZER;CN="Fantastische Welten":MAILTO:Sven-adam@fantastische-welten-rostock.de
END:VEVENT
BEGIN:VEVENT
DTSTART;TZID=UTC:20250531T130000
DTEND;TZID=UTC:20250531T160000
DTSTAMP:20260425T113115
CREATED:20250423T161032Z
LAST-MODIFIED:20250423T161032Z
UID:1121-1748696400-1748707200@fantastische-welten-rostock.de
SUMMARY:Altered PreRelease Geflüster aus dem Labyrinth
DESCRIPTION:Anmeldungen ab 12.30 Uhr\, Beginn: 13.00 Uhr \nTeilnahme: 30\,00 €
URL:https://fantastische-welten-rostock.de/event/altered-local-4-3-2/
CATEGORIES:Altered
END:VEVENT
END:VCALENDAR