BEGIN:VCALENDAR
VERSION:2.0
PRODID:-// - ECPv6.15.20//NONSGML v1.0//EN
CALSCALE:GREGORIAN
METHOD:PUBLISH
X-ORIGINAL-URL:https://fantastische-welten-rostock.de
X-WR-CALDESC:Veranstaltungen für 
REFRESH-INTERVAL;VALUE=DURATION:PT1H
X-Robots-Tag:noindex
X-PUBLISHED-TTL:PT1H
BEGIN:VTIMEZONE
TZID:UTC
BEGIN:STANDARD
TZOFFSETFROM:+0000
TZOFFSETTO:+0000
TZNAME:UTC
DTSTART:20240101T000000
END:STANDARD
END:VTIMEZONE
BEGIN:VEVENT
DTSTART;TZID=UTC:20250607T113000
DTEND;TZID=UTC:20250607T183000
DTSTAMP:20260425T113244
CREATED:20250218T180142Z
LAST-MODIFIED:20250219T152951Z
UID:969-1749295800-1749321000@fantastische-welten-rostock.de
SUMMARY:Magic PreRelease Final Fantasy - Sealed
DESCRIPTION:Anmeldungen ab 11.00 Uhr\, Beginn: 11.30 Uhr\, Teilnahme: 45\,00 €
URL:https://fantastische-welten-rostock.de/event/magic-commander-casual-2-2-2-5-3-4/
LOCATION:Fantastische Welten\, Kistenmacherstr. 17\, Rostock\, Mecklenburg-Vorpommern\, 18055\, Germany
CATEGORIES:Magic
ORGANIZER;CN="Fantastische Welten":MAILTO:Sven-adam@fantastische-welten-rostock.de
END:VEVENT
END:VCALENDAR