BEGIN:VCALENDAR
VERSION:2.0
PRODID:-// - ECPv6.15.20//NONSGML v1.0//EN
CALSCALE:GREGORIAN
METHOD:PUBLISH
X-ORIGINAL-URL:https://fantastische-welten-rostock.de
X-WR-CALDESC:Veranstaltungen für 
REFRESH-INTERVAL;VALUE=DURATION:PT1H
X-Robots-Tag:noindex
X-PUBLISHED-TTL:PT1H
BEGIN:VTIMEZONE
TZID:UTC
BEGIN:STANDARD
TZOFFSETFROM:+0000
TZOFFSETTO:+0000
TZNAME:UTC
DTSTART:20240101T000000
END:STANDARD
END:VTIMEZONE
BEGIN:VEVENT
DTSTART;TZID=UTC:20250620T160000
DTEND;TZID=UTC:20250620T190000
DTSTAMP:20260425T113301
CREATED:20250516T130655Z
LAST-MODIFIED:20250516T130655Z
UID:1175-1750435200-1750446000@fantastische-welten-rostock.de
SUMMARY:Yu-Gi-Oh! OTS
DESCRIPTION:Anmeldungen ab 15.30 Uhr\, Beginn: 16.00 Uhr\, Teilnahme: 5\,00 €
URL:https://fantastische-welten-rostock.de/event/yu-gi-oh-ots-3-2-2-3-4-2-4-2-3-2-2-2/
LOCATION:Fantastische Welten\, Kistenmacherstr. 17\, Rostock\, Mecklenburg-Vorpommern\, 18055\, Germany
CATEGORIES:Yu-Gi-Oh!
END:VEVENT
BEGIN:VEVENT
DTSTART;TZID=UTC:20250620T160000
DTEND;TZID=UTC:20250620T190000
DTSTAMP:20260425T113301
CREATED:20250516T135942Z
LAST-MODIFIED:20250516T135942Z
UID:1232-1750435200-1750446000@fantastische-welten-rostock.de
SUMMARY:Star Wars Unlimited Liga
DESCRIPTION:Anmeldungen ab 15.30 Uhr\, Beginn: 16.00 Uhr\, Teilnahme: 0\,00 €
URL:https://fantastische-welten-rostock.de/event/star-wars-unlimited-weekly-play-4-2-3-2-2-3/
LOCATION:Fantastische Welten\, Kistenmacherstr. 17\, Rostock\, Mecklenburg-Vorpommern\, 18055\, Germany
CATEGORIES:Star Wars
END:VEVENT
BEGIN:VEVENT
DTSTART;TZID=UTC:20250620T160000
DTEND;TZID=UTC:20250620T190000
DTSTAMP:20260425T113301
CREATED:20250516T151328Z
LAST-MODIFIED:20250516T151328Z
UID:1244-1750435200-1750446000@fantastische-welten-rostock.de
SUMMARY:Pokémon Mid-Year TCG Liga
DESCRIPTION:Anmeldungen ab 15.30 Uhr\, Beginn: 16.00 Uhr\, kostenlos
URL:https://fantastische-welten-rostock.de/event/pokemon-liga-2-2-2-2-2-2-3-2-2-2-2-2-3/
LOCATION:Fantastische Welten\, Kistenmacherstr. 17\, Rostock\, Mecklenburg-Vorpommern\, 18055\, Germany
CATEGORIES:Pokémon
END:VEVENT
BEGIN:VEVENT
DTSTART;TZID=UTC:20250620T170000
DTEND;TZID=UTC:20250620T190000
DTSTAMP:20260425T113301
CREATED:20250516T125425Z
LAST-MODIFIED:20250516T125425Z
UID:1165-1750438800-1750446000@fantastische-welten-rostock.de
SUMMARY:One Piece Store Tournament
DESCRIPTION:Anmeldungen ab 16.30 Uhr\, Beginn: 17.00 Uhr\, Teilnahme: 5\,00 €
URL:https://fantastische-welten-rostock.de/event/one-piece-store-tournament-2-5-2-4-2-3-2-2-2/
LOCATION:Fantastische Welten\, Kistenmacherstr. 17\, Rostock\, Mecklenburg-Vorpommern\, 18055\, Germany
CATEGORIES:One Piece
END:VEVENT
END:VCALENDAR