BEGIN:VCALENDAR
VERSION:2.0
PRODID:-// - ECPv6.15.20//NONSGML v1.0//EN
CALSCALE:GREGORIAN
METHOD:PUBLISH
X-ORIGINAL-URL:https://fantastische-welten-rostock.de
X-WR-CALDESC:Veranstaltungen für 
REFRESH-INTERVAL;VALUE=DURATION:PT1H
X-Robots-Tag:noindex
X-PUBLISHED-TTL:PT1H
BEGIN:VTIMEZONE
TZID:UTC
BEGIN:STANDARD
TZOFFSETFROM:+0000
TZOFFSETTO:+0000
TZNAME:UTC
DTSTART:20240101T000000
END:STANDARD
END:VTIMEZONE
BEGIN:VEVENT
DTSTART;TZID=UTC:20250621T100000
DTEND;TZID=UTC:20250621T180000
DTSTAMP:20260425T113013
CREATED:20250516T153855Z
LAST-MODIFIED:20250516T153855Z
UID:1273-1750500000-1750528800@fantastische-welten-rostock.de
SUMMARY:Offener TableTopTreff auf der Likedeeler
DESCRIPTION:Start 10.00 Uhr\, kostenlos \nIn der Zeit zwischen 10 und 18 Uhr kann gemalt\, gebastelt und natürlich gezockt werden. Zusätzlich wird auch ein Spielfeld für TCG aufgebaut. Hier können Magic und andere TCGs gespielt werden. Wer sich für einen Tisch melden will oder Systeme testen möchte\, meldet sich bei mir und wir können dann alles Weitere klären. \n  \nAnschrift: \nJugendschiff Likedeeler\nSchmarl Dorf 20\n18106 Rostock
URL:https://fantastische-welten-rostock.de/event/tabletop-hobby-treff-3-2-2-5-2-2-2-3-2-2/
CATEGORIES:Tabletop
END:VEVENT
BEGIN:VEVENT
DTSTART;TZID=UTC:20250621T110000
DTEND;TZID=UTC:20250621T160000
DTSTAMP:20260425T113013
CREATED:20250516T134720Z
LAST-MODIFIED:20250516T134720Z
UID:1204-1750503600-1750521600@fantastische-welten-rostock.de
SUMMARY:Lorcana Local
DESCRIPTION:Anmeldungen ab 10.30\, Beginn: 11.00 Uhr\, Teilnahme: 10\,00 € \n  \nJeder Teilnehmer bekommt ein Teilnahmebooster und ein Booster geht in den Preispool.
URL:https://fantastische-welten-rostock.de/event/lorcana-ligaspiel-6-3-7-9-9-2/
LOCATION:Fantastische Welten\, Kistenmacherstr. 17\, Rostock\, Mecklenburg-Vorpommern\, 18055\, Germany
CATEGORIES:Lorcana
END:VEVENT
BEGIN:VEVENT
DTSTART;TZID=UTC:20250621T110000
DTEND;TZID=UTC:20250621T160000
DTSTAMP:20260425T113013
CREATED:20250516T151826Z
LAST-MODIFIED:20250516T151826Z
UID:1250-1750503600-1750521600@fantastische-welten-rostock.de
SUMMARY:Pokémon Store Tournament
DESCRIPTION:Anmeldungen ab 10.30 Uhr\, Beginn: 11.00 Uhr\, Teilnahme: 5\,00€
URL:https://fantastische-welten-rostock.de/event/275-2-2-3-2-2-2/
LOCATION:Fantastische Welten\, Kistenmacherstr. 17\, Rostock\, Mecklenburg-Vorpommern\, 18055\, Germany
CATEGORIES:Pokémon
END:VEVENT
BEGIN:VEVENT
DTSTART;TZID=UTC:20250621T113000
DTEND;TZID=UTC:20250621T160000
DTSTAMP:20260425T113013
CREATED:20250516T152124Z
LAST-MODIFIED:20250516T152124Z
UID:1252-1750505400-1750521600@fantastische-welten-rostock.de
SUMMARY:Magic Casual Multiplayer-Commander
DESCRIPTION:Anmeldungen ab 11.00 Uhr\, Beginn: 11.30 Uhr\, Teilnahme: 6\,00 €
URL:https://fantastische-welten-rostock.de/event/magic-commander-casual-2-2-4-2-2-2-2-2/
LOCATION:Fantastische Welten\, Kistenmacherstr. 17\, Rostock\, Mecklenburg-Vorpommern\, 18055\, Germany
CATEGORIES:Magic
END:VEVENT
END:VCALENDAR