BEGIN:VCALENDAR
VERSION:2.0
PRODID:-// - ECPv6.15.20//NONSGML v1.0//EN
CALSCALE:GREGORIAN
METHOD:PUBLISH
X-ORIGINAL-URL:https://fantastische-welten-rostock.de
X-WR-CALDESC:Veranstaltungen für 
REFRESH-INTERVAL;VALUE=DURATION:PT1H
X-Robots-Tag:noindex
X-PUBLISHED-TTL:PT1H
BEGIN:VTIMEZONE
TZID:UTC
BEGIN:STANDARD
TZOFFSETFROM:+0000
TZOFFSETTO:+0000
TZNAME:UTC
DTSTART:20240101T000000
END:STANDARD
END:VTIMEZONE
BEGIN:VEVENT
DTSTART;TZID=UTC:20250711T160000
DTEND;TZID=UTC:20250711T183000
DTSTAMP:20260423T095934
CREATED:20250707T091716Z
LAST-MODIFIED:20250707T091716Z
UID:1618-1752249600-1752258600@fantastische-welten-rostock.de
SUMMARY:Star Wars: Unlimited Draft: Legenden der Macht
DESCRIPTION:Anmeldungen ab 15.30 Uhr\, Beginn: 16.00 Uhr\, Teilnahme: 20\,00 € \nJeder Spieler bekommt 3 Booster für den Draft\, 1 Booster geht in den Preispool.
URL:https://fantastische-welten-rostock.de/event/magic-draft-foundations-3-3-2-2-2/
CATEGORIES:Magic
END:VEVENT
BEGIN:VEVENT
DTSTART;TZID=UTC:20250711T160000
DTEND;TZID=UTC:20250711T190000
DTSTAMP:20260423T095934
CREATED:20250623T145122Z
LAST-MODIFIED:20250623T145122Z
UID:1451-1752249600-1752260400@fantastische-welten-rostock.de
SUMMARY:Yu-Gi-Oh! OTS
DESCRIPTION:Anmeldungen ab 15.30 Uhr\, Beginn: 16.00 Uhr\, Teilnahme: 5\,00 €
URL:https://fantastische-welten-rostock.de/event/yu-gi-oh-ots-3-2-2-3-4-2-4-2-3-2-2-2-2-2-3/
CATEGORIES:Yu-Gi-Oh!
END:VEVENT
BEGIN:VEVENT
DTSTART;TZID=UTC:20250711T160000
DTEND;TZID=UTC:20250711T190000
DTSTAMP:20260423T095934
CREATED:20250623T150854Z
LAST-MODIFIED:20250623T150854Z
UID:1481-1752249600-1752260400@fantastische-welten-rostock.de
SUMMARY:Magic FNM Pioneer
DESCRIPTION:Anmeldungen ab 15.30 Uhr\, Beginn: 16.00 Uhr\, Teilnahme: 6\,00 €
URL:https://fantastische-welten-rostock.de/event/magic-fnm-pioneer-2-3-2-2-2-2-2-2/
CATEGORIES:Magic
END:VEVENT
BEGIN:VEVENT
DTSTART;TZID=UTC:20250711T160000
DTEND;TZID=UTC:20250711T190000
DTSTAMP:20260423T095934
CREATED:20250623T152928Z
LAST-MODIFIED:20250623T152928Z
UID:1513-1752249600-1752260400@fantastische-welten-rostock.de
SUMMARY:Pokémon TCG Liga
DESCRIPTION:Anmeldungen ab 15.30 Uhr\, Beginn: 16.00 Uhr\, kostenlos
URL:https://fantastische-welten-rostock.de/event/pokemon-liga-2-2-2-2-2-2-3-2-2-2-2-4/
CATEGORIES:Pokémon
END:VEVENT
BEGIN:VEVENT
DTSTART;TZID=UTC:20250711T160000
DTEND;TZID=UTC:20250711T190000
DTSTAMP:20260423T095934
CREATED:20250623T161306Z
LAST-MODIFIED:20250623T161306Z
UID:1564-1752249600-1752260400@fantastische-welten-rostock.de
SUMMARY:Star Wars Unlimited Liga
DESCRIPTION:Anmeldungen ab 15.30 Uhr\, Beginn: 16.00 Uhr\, Teilnahme: 0\,00 €
URL:https://fantastische-welten-rostock.de/event/star-wars-unlimited-weekly-play-4-2-3-2-2-4-3/
CATEGORIES:Star Wars
END:VEVENT
BEGIN:VEVENT
DTSTART;TZID=UTC:20250711T163000
DTEND;TZID=UTC:20250711T190000
DTSTAMP:20260423T095934
CREATED:20250623T163602Z
LAST-MODIFIED:20250623T163602Z
UID:1584-1752251400-1752260400@fantastische-welten-rostock.de
SUMMARY:Altered Liga
DESCRIPTION:Anmeldungen ab 16.00 Uhr\, Beginn: 16.30 Uhr \nTeilnahme: 0\,00 €
URL:https://fantastische-welten-rostock.de/event/altered-local-4-4-3-2/
CATEGORIES:Altered
END:VEVENT
END:VCALENDAR