BEGIN:VCALENDAR
VERSION:2.0
PRODID:-// - ECPv6.15.20//NONSGML v1.0//EN
CALSCALE:GREGORIAN
METHOD:PUBLISH
X-ORIGINAL-URL:https://fantastische-welten-rostock.de
X-WR-CALDESC:Veranstaltungen für 
REFRESH-INTERVAL;VALUE=DURATION:PT1H
X-Robots-Tag:noindex
X-PUBLISHED-TTL:PT1H
BEGIN:VTIMEZONE
TZID:UTC
BEGIN:STANDARD
TZOFFSETFROM:+0000
TZOFFSETTO:+0000
TZNAME:UTC
DTSTART:20240101T000000
END:STANDARD
END:VTIMEZONE
BEGIN:VEVENT
DTSTART;TZID=UTC:20250719T110000
DTEND;TZID=UTC:20250719T160000
DTSTAMP:20260421T131130
CREATED:20250218T105231Z
LAST-MODIFIED:20250218T105231Z
UID:852-1752922800-1752940800@fantastische-welten-rostock.de
SUMMARY:Digimon BT 22 Release - Sealed
DESCRIPTION:Anmeldungen ab 10:30 Uhr\, Beginn: 11:00 Uhr\, Teilnahme: 35\,00 €
URL:https://fantastische-welten-rostock.de/event/store-tournament-4-5-2-2-2/
LOCATION:Fantastische Welten\, Kistenmacherstr. 17\, Rostock\, Mecklenburg-Vorpommern\, 18055\, Germany
CATEGORIES:Digimon
ORGANIZER;CN="Fantastische Welten":MAILTO:Sven-adam@fantastische-welten-rostock.de
END:VEVENT
BEGIN:VEVENT
DTSTART;TZID=UTC:20250719T110000
DTEND;TZID=UTC:20250719T160000
DTSTAMP:20260421T131130
CREATED:20250428T140636Z
LAST-MODIFIED:20250623T153925Z
UID:1134-1752922800-1752940800@fantastische-welten-rostock.de
SUMMARY:Digimon BT22 PreRelease
DESCRIPTION:Anmeldungen ab 10:30 Uhr\, Beginn: 11:00 Uhr\, Teilnahme: 35\,00 €
URL:https://fantastische-welten-rostock.de/event/store-tournament-4-5-2-2-2-4/
CATEGORIES:Digimon
END:VEVENT
BEGIN:VEVENT
DTSTART;TZID=UTC:20250719T110000
DTEND;TZID=UTC:20250719T160000
DTSTAMP:20260421T131130
CREATED:20250623T152555Z
LAST-MODIFIED:20250623T152606Z
UID:1507-1752922800-1752940800@fantastische-welten-rostock.de
SUMMARY:Pokémon TCG Store Tournament
DESCRIPTION:Anmeldungen ab 10.30 Uhr\, Beginn: 11.00 Uhr\, Teilnahme: 5\,00€
URL:https://fantastische-welten-rostock.de/event/275-2-2-3-2-2-2-2/
CATEGORIES:Pokémon
END:VEVENT
BEGIN:VEVENT
DTSTART;TZID=UTC:20250719T110000
DTEND;TZID=UTC:20250719T190000
DTSTAMP:20260421T131130
CREATED:20250623T161138Z
LAST-MODIFIED:20250623T161138Z
UID:1561-1752922800-1752951600@fantastische-welten-rostock.de
SUMMARY:Lorcana Store Tournament
DESCRIPTION:Anmeldungen ab 10.30\, Beginn: 11.00 Uhr\, Teilnahme: 10\,00 € \nJeder Teilnehmer bekommt ein Teilnahmebooster und ein Booster geht in den Preispool.
URL:https://fantastische-welten-rostock.de/event/lorcana-ligaspiel-6-3-7-9-9-2-2/
CATEGORIES:Lorcana
END:VEVENT
END:VCALENDAR