BEGIN:VCALENDAR
VERSION:2.0
PRODID:-// - ECPv6.15.20//NONSGML v1.0//EN
CALSCALE:GREGORIAN
METHOD:PUBLISH
X-ORIGINAL-URL:https://fantastische-welten-rostock.de
X-WR-CALDESC:Veranstaltungen für 
REFRESH-INTERVAL;VALUE=DURATION:PT1H
X-Robots-Tag:noindex
X-PUBLISHED-TTL:PT1H
BEGIN:VTIMEZONE
TZID:UTC
BEGIN:STANDARD
TZOFFSETFROM:+0000
TZOFFSETTO:+0000
TZNAME:UTC
DTSTART:20240101T000000
END:STANDARD
END:VTIMEZONE
BEGIN:VEVENT
DTSTART;TZID=UTC:20250727T113000
DTEND;TZID=UTC:20250727T180000
DTSTAMP:20260423T093713
CREATED:20250701T071954Z
LAST-MODIFIED:20250701T071954Z
UID:1610-1753615800-1753639200@fantastische-welten-rostock.de
SUMMARY:Magic PreRelease Edge of Eternities
DESCRIPTION:Anmeldungen ab 11.00 Uhr\, Beginn: 11.30 Uhr\, Teilnahme: 40\,00 €
URL:https://fantastische-welten-rostock.de/event/magic-commander-casual-2-2-2-5-3-6-3/
CATEGORIES:Magic
END:VEVENT
BEGIN:VEVENT
DTSTART;TZID=UTC:20250727T120000
DTEND;TZID=UTC:20250727T180000
DTSTAMP:20260423T093713
CREATED:20250701T100000Z
LAST-MODIFIED:20250701T100008Z
UID:1615-1753617600-1753639200@fantastische-welten-rostock.de
SUMMARY:Digimon Store Tournament
DESCRIPTION:Anmeldungen ab 11:30 Uhr\, Beginn: 12:00 Uhr\, Teilnahme: 5\,00 €
URL:https://fantastische-welten-rostock.de/event/store-tournament-4-2-2-5-5-5-3-2-4-6-2/
CATEGORIES:Digimon
END:VEVENT
END:VCALENDAR