BEGIN:VCALENDAR
VERSION:2.0
PRODID:-// - ECPv6.15.20//NONSGML v1.0//EN
CALSCALE:GREGORIAN
METHOD:PUBLISH
X-ORIGINAL-URL:https://fantastische-welten-rostock.de
X-WR-CALDESC:Veranstaltungen für 
REFRESH-INTERVAL;VALUE=DURATION:PT1H
X-Robots-Tag:noindex
X-PUBLISHED-TTL:PT1H
BEGIN:VTIMEZONE
TZID:UTC
BEGIN:STANDARD
TZOFFSETFROM:+0000
TZOFFSETTO:+0000
TZNAME:UTC
DTSTART:20240101T000000
END:STANDARD
END:VTIMEZONE
BEGIN:VEVENT
DTSTART;TZID=UTC:20250731T150000
DTEND;TZID=UTC:20250731T190000
DTSTAMP:20260421T131130
CREATED:20250623T161000Z
LAST-MODIFIED:20250623T161000Z
UID:1550-1753974000-1753988400@fantastische-welten-rostock.de
SUMMARY:Lorcana Liga
DESCRIPTION:Beginn: 15.00 Uhr\, Teilnahme: kostenlos
URL:https://fantastische-welten-rostock.de/event/lorcana-ligaspiel-6-3-7-9-8-2-10-2-4-9-11/
CATEGORIES:Lorcana
END:VEVENT
BEGIN:VEVENT
DTSTART;TZID=UTC:20250731T170000
DTEND;TZID=UTC:20250731T180000
DTSTAMP:20260421T131130
CREATED:20250623T151721Z
LAST-MODIFIED:20250623T151721Z
UID:1487-1753981200-1753984800@fantastische-welten-rostock.de
SUMMARY:Pokémon Go
DESCRIPTION:Anmeldungen ab 16.30 Uhr\, Beginn: 17.00 Uhr\, Teilnahme: 3\,00 €
URL:https://fantastische-welten-rostock.de/event/pokemon-go-2-6-2-2-2-2-6/
CATEGORIES:Pokémon
END:VEVENT
BEGIN:VEVENT
DTSTART;TZID=UTC:20250731T180000
DTEND;TZID=UTC:20250731T190000
DTSTAMP:20260421T131130
CREATED:20250623T152405Z
LAST-MODIFIED:20250623T152405Z
UID:1497-1753984800-1753988400@fantastische-welten-rostock.de
SUMMARY:Pokémon Pocket
DESCRIPTION:Anmeldungen ab 17.30 Uhr\, Beginn: 18.00 Uhr\, Teilnahme: 3\,00 €
URL:https://fantastische-welten-rostock.de/event/pokemon-go-2-2-2-2-3-3-2-2-2-2-6/
CATEGORIES:Pokémon
END:VEVENT
END:VCALENDAR