BEGIN:VCALENDAR
VERSION:2.0
PRODID:-// - ECPv6.15.20//NONSGML v1.0//EN
CALSCALE:GREGORIAN
METHOD:PUBLISH
X-ORIGINAL-URL:https://fantastische-welten-rostock.de
X-WR-CALDESC:Veranstaltungen für 
REFRESH-INTERVAL;VALUE=DURATION:PT1H
X-Robots-Tag:noindex
X-PUBLISHED-TTL:PT1H
BEGIN:VTIMEZONE
TZID:UTC
BEGIN:STANDARD
TZOFFSETFROM:+0000
TZOFFSETTO:+0000
TZNAME:UTC
DTSTART:20240101T000000
END:STANDARD
END:VTIMEZONE
BEGIN:VEVENT
DTSTART;TZID=UTC:20250806T130000
DTEND;TZID=UTC:20250806T180000
DTSTAMP:20260421T114205
CREATED:20250724T125918Z
LAST-MODIFIED:20250724T125918Z
UID:1663-1754485200-1754503200@fantastische-welten-rostock.de
SUMMARY:Pokémon Junior Day
DESCRIPTION:Beginn: 13.00 Uhr\, kostenlos \nErfüllt kleine Aufgaben und füllt euren Poképass. Für einen vollen Poképass erwarten euch tolle kleine Überraschungen! \nUnsere Professoren helfen bei den Aufgaben und bringen euch das Spiel bei.
URL:https://fantastische-welten-rostock.de/event/pokemon-go-2-2-3-2/
CATEGORIES:Pokémon
END:VEVENT
BEGIN:VEVENT
DTSTART;TZID=UTC:20250806T150000
DTEND;TZID=UTC:20250806T190000
DTSTAMP:20260421T114205
CREATED:20250724T131900Z
LAST-MODIFIED:20250724T131900Z
UID:1713-1754492400-1754506800@fantastische-welten-rostock.de
SUMMARY:Lorcana Liga
DESCRIPTION:Beginn: 15.00 Uhr\, Teilnahme: kostenlos
URL:https://fantastische-welten-rostock.de/event/lorcana-ligaspiel-6-3-7-9-8-2-10-2-4-9-11-2/
CATEGORIES:Lorcana
END:VEVENT
BEGIN:VEVENT
DTSTART;TZID=UTC:20250806T163000
DTEND;TZID=UTC:20250806T190000
DTSTAMP:20260421T114205
CREATED:20250724T132604Z
LAST-MODIFIED:20250724T132604Z
UID:1739-1754497800-1754506800@fantastische-welten-rostock.de
SUMMARY:Flesh & Blood Armory Event
DESCRIPTION:Anmeldungen ab 16.00 Uhr\, Beginn: 16.30 Uhr\, Teilnahme: 10\,00 €
URL:https://fantastische-welten-rostock.de/event/flesh-blood-armory-event-3-2-4-5-5-6-3-5-6-2/
CATEGORIES:Flesh & Blood
END:VEVENT
END:VCALENDAR