BEGIN:VCALENDAR
VERSION:2.0
PRODID:-// - ECPv6.15.20//NONSGML v1.0//EN
CALSCALE:GREGORIAN
METHOD:PUBLISH
X-ORIGINAL-URL:https://fantastische-welten-rostock.de
X-WR-CALDESC:Veranstaltungen für 
REFRESH-INTERVAL;VALUE=DURATION:PT1H
X-Robots-Tag:noindex
X-PUBLISHED-TTL:PT1H
BEGIN:VTIMEZONE
TZID:UTC
BEGIN:STANDARD
TZOFFSETFROM:+0000
TZOFFSETTO:+0000
TZNAME:UTC
DTSTART:20240101T000000
END:STANDARD
END:VTIMEZONE
BEGIN:VEVENT
DTSTART;TZID=UTC:20250814T150000
DTEND;TZID=UTC:20250814T190000
DTSTAMP:20260421T114223
CREATED:20250724T131956Z
LAST-MODIFIED:20250724T131956Z
UID:1716-1755183600-1755198000@fantastische-welten-rostock.de
SUMMARY:Lorcana Liga
DESCRIPTION:Beginn: 15.00 Uhr\, Teilnahme: kostenlos
URL:https://fantastische-welten-rostock.de/event/lorcana-ligaspiel-6-3-7-9-8-2-10-2-4-9-11-5/
CATEGORIES:Lorcana
END:VEVENT
BEGIN:VEVENT
DTSTART;TZID=UTC:20250814T160000
DTEND;TZID=UTC:20250814T190000
DTSTAMP:20260421T114223
CREATED:20250724T130048Z
LAST-MODIFIED:20250724T130048Z
UID:1666-1755187200-1755198000@fantastische-welten-rostock.de
SUMMARY:Pokémon Go Liga
DESCRIPTION:Anmeldungen ab 16.30 Uhr\, Beginn: 17.00 Uhr\, Teilnahme: 3\,00 €
URL:https://fantastische-welten-rostock.de/event/pokemon-go-2-6-2-2-2-2-6-3/
CATEGORIES:Pokémon
END:VEVENT
BEGIN:VEVENT
DTSTART;TZID=UTC:20250814T160000
DTEND;TZID=UTC:20250814T190000
DTSTAMP:20260421T114223
CREATED:20250724T134055Z
LAST-MODIFIED:20250724T134055Z
UID:1762-1755187200-1755198000@fantastische-welten-rostock.de
SUMMARY:Tabletop Hobby-Treff
DESCRIPTION:Start 16.00 Uhr\, kostenlos \nJede Woche Donnerstag wird nach vorheriger Absprache mit der Spielergemeinschaft Tabletop gespielt.\nFür einen ersten Eindruck kommt einfach vorbei\, schaut zu und besprecht bei Interesse\, wie ihr dabei sein könnt. 🙂
URL:https://fantastische-welten-rostock.de/event/tabletop-hobby-treff-3-2-2-5-4-5-5-3-2-3-2-5-3/
CATEGORIES:Tabletop
END:VEVENT
BEGIN:VEVENT
DTSTART;TZID=UTC:20250814T170000
DTEND;TZID=UTC:20250814T190000
DTSTAMP:20260421T114223
CREATED:20250724T130349Z
LAST-MODIFIED:20250724T130349Z
UID:1674-1755190800-1755198000@fantastische-welten-rostock.de
SUMMARY:Pokémon Pocket Liga
DESCRIPTION:Anmeldungen ab 17.30 Uhr\, Beginn: 18.00 Uhr\, Teilnahme: 3\,00 €
URL:https://fantastische-welten-rostock.de/event/pokemon-go-2-2-2-2-3-3-2-2-2-2-6-3/
CATEGORIES:Pokémon
END:VEVENT
END:VCALENDAR