BEGIN:VCALENDAR
VERSION:2.0
PRODID:-// - ECPv6.15.20//NONSGML v1.0//EN
CALSCALE:GREGORIAN
METHOD:PUBLISH
X-ORIGINAL-URL:https://fantastische-welten-rostock.de
X-WR-CALDESC:Veranstaltungen für 
REFRESH-INTERVAL;VALUE=DURATION:PT1H
X-Robots-Tag:noindex
X-PUBLISHED-TTL:PT1H
BEGIN:VTIMEZONE
TZID:UTC
BEGIN:STANDARD
TZOFFSETFROM:+0000
TZOFFSETTO:+0000
TZNAME:UTC
DTSTART:20240101T000000
END:STANDARD
END:VTIMEZONE
BEGIN:VEVENT
DTSTART;TZID=UTC:20250815T160000
DTEND;TZID=UTC:20250815T190000
DTSTAMP:20260421T114255
CREATED:20250724T124601Z
LAST-MODIFIED:20250724T124601Z
UID:1626-1755273600-1755284400@fantastische-welten-rostock.de
SUMMARY:Yu-Gi-Oh! OTS
DESCRIPTION:Anmeldungen ab 15.30 Uhr\, Beginn: 16.00 Uhr\, Teilnahme: 5\,00 €
URL:https://fantastische-welten-rostock.de/event/yu-gi-oh-ots-3-2-2-3-4-2-4-2-3-2-2-2-2-2-4-4/
CATEGORIES:Yu-Gi-Oh!
END:VEVENT
BEGIN:VEVENT
DTSTART;TZID=UTC:20250815T160000
DTEND;TZID=UTC:20250815T190000
DTSTAMP:20260421T114255
CREATED:20250724T130855Z
LAST-MODIFIED:20250724T130855Z
UID:1686-1755273600-1755284400@fantastische-welten-rostock.de
SUMMARY:Pokémon TCG Liga
DESCRIPTION:Anmeldungen ab 15.30 Uhr\, Beginn: 16.00 Uhr\, kostenlos
URL:https://fantastische-welten-rostock.de/event/pokemon-liga-2-2-2-2-2-2-3-2-2-2-2-4-2/
CATEGORIES:Pokémon
END:VEVENT
BEGIN:VEVENT
DTSTART;TZID=UTC:20250815T160000
DTEND;TZID=UTC:20250815T190000
DTSTAMP:20260421T114255
CREATED:20250724T132232Z
LAST-MODIFIED:20250724T132232Z
UID:1730-1755273600-1755284400@fantastische-welten-rostock.de
SUMMARY:Star Wars Unlimited Liga
DESCRIPTION:Anmeldungen ab 15.30 Uhr\, Beginn: 16.00 Uhr\, Teilnahme: 0\,00 €
URL:https://fantastische-welten-rostock.de/event/star-wars-unlimited-weekly-play-4-2-3-2-2-4-5-3/
CATEGORIES:Star Wars
END:VEVENT
BEGIN:VEVENT
DTSTART;TZID=UTC:20250815T170000
DTEND;TZID=UTC:20250815T190000
DTSTAMP:20260421T114255
CREATED:20250724T125743Z
LAST-MODIFIED:20250812T115601Z
UID:1659-1755277200-1755284400@fantastische-welten-rostock.de
SUMMARY:Magic FNM Pioneer
DESCRIPTION:Anmeldungen ab 16.30 Uhr\, Beginn: 17.00 Uhr\, Teilnahme: 6\,00 € \nProxies sind erlaubt.
URL:https://fantastische-welten-rostock.de/event/magic-fnm-pioneer-2-3-2-2-2-2-2-2-2/
CATEGORIES:Magic
END:VEVENT
BEGIN:VEVENT
DTSTART;TZID=UTC:20250816T000000
DTEND;TZID=UTC:20250816T160000
DTSTAMP:20260421T114255
CREATED:20250218T104951Z
LAST-MODIFIED:20250808T115808Z
UID:850-1755302400-1755360000@fantastische-welten-rostock.de
SUMMARY:Gundam Wing GD01 PreRelease - sealed
DESCRIPTION:Anmeldungen ab 11.30 Uhr\, Beginn: 12.00 Uhr\, Teilnahme: 40\,00 € \nJeder Teilnehmer bekommt 6 Booster zum Deckbau\, 2 weitere Booster gehen in den Preispool.
URL:https://fantastische-welten-rostock.de/event/magic-commander-casual-2-2-2-5-3-2-2-2-2/
LOCATION:Fantastische Welten\, Kistenmacherstr. 17\, Rostock\, Mecklenburg-Vorpommern\, 18055\, Germany
CATEGORIES:Gundam Wing
ORGANIZER;CN="Fantastische Welten":MAILTO:Sven-adam@fantastische-welten-rostock.de
END:VEVENT
END:VCALENDAR