BEGIN:VCALENDAR
VERSION:2.0
PRODID:-// - ECPv6.15.20//NONSGML v1.0//EN
CALSCALE:GREGORIAN
METHOD:PUBLISH
X-ORIGINAL-URL:https://fantastische-welten-rostock.de
X-WR-CALDESC:Veranstaltungen für 
REFRESH-INTERVAL;VALUE=DURATION:PT1H
X-Robots-Tag:noindex
X-PUBLISHED-TTL:PT1H
BEGIN:VTIMEZONE
TZID:UTC
BEGIN:STANDARD
TZOFFSETFROM:+0000
TZOFFSETTO:+0000
TZNAME:UTC
DTSTART:20240101T000000
END:STANDARD
END:VTIMEZONE
BEGIN:VEVENT
DTSTART;TZID=UTC:20251005T130000
DTEND;TZID=UTC:20251005T180000
DTSTAMP:20260421T112244
CREATED:20250925T125015Z
LAST-MODIFIED:20250925T125505Z
UID:2150-1759669200-1759687200@fantastische-welten-rostock.de
SUMMARY:Verkaufsoffener Sonntag
DESCRIPTION:Wir haben geöffnet: 13 Uhr bis 18 Uhr.
URL:https://fantastische-welten-rostock.de/event/tabletop-hobby-treff-3-2-2-2-4-5-6-4-3-4-2-5-5-6-2-2/
END:VEVENT
BEGIN:VEVENT
DTSTART;TZID=UTC:20251005T133000
DTEND;TZID=UTC:20251005T180000
DTSTAMP:20260421T112244
CREATED:20250923T120324Z
LAST-MODIFIED:20251001T113950Z
UID:2128-1759671000-1759687200@fantastische-welten-rostock.de
SUMMARY:Pokémon TCG Liga
DESCRIPTION:Anmeldungen ab 13.00 Uhr\, Beginn: 13.30 Uhr\, kostenlos
URL:https://fantastische-welten-rostock.de/event/pokemon-liga-2-2-2-2-2-2-3-2-2-2-2-4-3-3-2-2/
CATEGORIES:Pokémon
END:VEVENT
BEGIN:VEVENT
DTSTART;TZID=UTC:20251005T133000
DTEND;TZID=UTC:20251005T180000
DTSTAMP:20260421T112244
CREATED:20250925T124049Z
LAST-MODIFIED:20251001T114027Z
UID:2147-1759671000-1759687200@fantastische-welten-rostock.de
SUMMARY:Yu-Gi-Oh! OTS
DESCRIPTION:Anmeldungen ab 13.00 Uhr\, Beginn: 13.30 Uhr\, Teilnahme: 10\,00 € \nJeder Spieler erhält 2 OTS Packs\, 1 OTS Pack wandert in den Preispool. Pro 3 Spieler wandert ein weiteres OTS Pack in den Preispool.
URL:https://fantastische-welten-rostock.de/event/yu-gi-oh-ots-3-2-2-3-4-2-4-2-3-2-2-2-2-2-5-2-2-2/
CATEGORIES:Yu-Gi-Oh!
END:VEVENT
END:VCALENDAR