BEGIN:VCALENDAR
VERSION:2.0
PRODID:-// - ECPv6.15.20//NONSGML v1.0//EN
CALSCALE:GREGORIAN
METHOD:PUBLISH
X-ORIGINAL-URL:https://fantastische-welten-rostock.de
X-WR-CALDESC:Veranstaltungen für 
REFRESH-INTERVAL;VALUE=DURATION:PT1H
X-Robots-Tag:noindex
X-PUBLISHED-TTL:PT1H
BEGIN:VTIMEZONE
TZID:UTC
BEGIN:STANDARD
TZOFFSETFROM:+0000
TZOFFSETTO:+0000
TZNAME:UTC
DTSTART:20240101T000000
END:STANDARD
END:VTIMEZONE
BEGIN:VEVENT
DTSTART;TZID=UTC:20251011T103000
DTEND;TZID=UTC:20251011T180000
DTSTAMP:20260421T083405
CREATED:20250815T113837Z
LAST-MODIFIED:20251006T111349Z
UID:1822-1760178600-1760205600@fantastische-welten-rostock.de
SUMMARY:Star Wars Store Showdown (Draft)
DESCRIPTION:Anmeldungen ab 10.00 Uhr\, Beginn: 10.30 Uhr\, Teilnahme: 20\,00 € \nJeder Teilnehmer bekommt 3 Teilnahmebooster zum Bauen\, 1 Booster gehen in den Preispool.
URL:https://fantastische-welten-rostock.de/event/magic-fnm-pioneer-2-2-2-2-2-2-2/
CATEGORIES:Star Wars
END:VEVENT
BEGIN:VEVENT
DTSTART;TZID=UTC:20251011T110000
DTEND;TZID=UTC:20251011T180000
DTSTAMP:20260421T083405
CREATED:20250729T130754Z
LAST-MODIFIED:20250729T130754Z
UID:1799-1760180400-1760205600@fantastische-welten-rostock.de
SUMMARY:Yu-Gi-Oh! OTS Championship Doom of Dimensions
DESCRIPTION:Anmeldungen ab 10.30 Uhr\, Beginn: 11.00 Uhr\, Teilnahme: 15\,00 € \nJeder Teilnehmer erhält 3 OTS Packs\, 2 weitere OTS Packs wandern in den Preispool.
URL:https://fantastische-welten-rostock.de/event/yu-gi-oh-ots-3-2-2-3-4-2-2-2-2-2/
CATEGORIES:Yu-Gi-Oh!
END:VEVENT
BEGIN:VEVENT
DTSTART;TZID=UTC:20251011T110000
DTEND;TZID=UTC:20251011T180000
DTSTAMP:20260421T083405
CREATED:20250902T105950Z
LAST-MODIFIED:20250902T105950Z
UID:2004-1760180400-1760205600@fantastische-welten-rostock.de
SUMMARY:Lorcana Setmeisterschaft Mythen
DESCRIPTION:Anmeldungen ab 10.30 Uhr\, Beginn: 11.00 Uhr\, Teilnahme: 15\,00 € \nJeder Teilnehmer bekommt ein Teilnahmebooster und zwei Booster gehen in den Preispool. \nAnmeldungen unter: https://tcg.ravensburgerplay.com/events/184573
URL:https://fantastische-welten-rostock.de/event/lorcana-localturnier-2-2-2-2-2/
CATEGORIES:Lorcana
END:VEVENT
BEGIN:VEVENT
DTSTART;TZID=UTC:20251011T110000
DTEND;TZID=UTC:20251011T180000
DTSTAMP:20260421T083405
CREATED:20250917T123936Z
LAST-MODIFIED:20250917T123936Z
UID:2031-1760180400-1760205600@fantastische-welten-rostock.de
SUMMARY:Pokémon TCG Challenge
DESCRIPTION:Anmeldungen ab 10.30 Uhr\, Beginn: 11.00 Uhr\, Teilnahme: 5\,00€
URL:https://fantastische-welten-rostock.de/event/275-2-2-3-2-2-3-2-2-3/
CATEGORIES:Pokémon
END:VEVENT
END:VCALENDAR