BEGIN:VCALENDAR
VERSION:2.0
PRODID:-// - ECPv6.15.20//NONSGML v1.0//EN
CALSCALE:GREGORIAN
METHOD:PUBLISH
X-ORIGINAL-URL:https://fantastische-welten-rostock.de
X-WR-CALDESC:Veranstaltungen für 
REFRESH-INTERVAL;VALUE=DURATION:PT1H
X-Robots-Tag:noindex
X-PUBLISHED-TTL:PT1H
BEGIN:VTIMEZONE
TZID:UTC
BEGIN:STANDARD
TZOFFSETFROM:+0000
TZOFFSETTO:+0000
TZNAME:UTC
DTSTART:20240101T000000
END:STANDARD
END:VTIMEZONE
BEGIN:VEVENT
DTSTART;TZID=UTC:20251102T110000
DTEND;TZID=UTC:20251102T160000
DTSTAMP:20260419T120835
CREATED:20251020T145638Z
LAST-MODIFIED:20251020T145638Z
UID:2325-1762081200-1762099200@fantastische-welten-rostock.de
SUMMARY:Pokémon Prerelease Fatale Flammen - sealed
DESCRIPTION:Jeder Teilnehmer bekommt ein Prerelease-Kit zum Deckbau\, 1 Booster geht in den Preispool.
URL:https://fantastische-welten-rostock.de/event/magic-commander-casual-2-2-2-5-3-2-3-2-2-2/
CATEGORIES:Pokémon
END:VEVENT
BEGIN:VEVENT
DTSTART;TZID=UTC:20251102T120000
DTEND;TZID=UTC:20251102T180000
DTSTAMP:20260419T120835
CREATED:20250902T073622Z
LAST-MODIFIED:20251020T144259Z
UID:2002-1762084800-1762106400@fantastische-welten-rostock.de
SUMMARY:One Piece 3rd Anniversary Release OP13 - sealed
DESCRIPTION:Wir spielen als Release-Event zu OP13 mit 6 Boostern OP13 ein Sealed-Event. Zusätzlich gehen 2 Booster in den Preispool.
URL:https://fantastische-welten-rostock.de/event/one-piece-2nd-anniversary-sealed-release-op09-2-2/
CATEGORIES:One Piece
END:VEVENT
BEGIN:VEVENT
DTSTART;TZID=UTC:20251102T120000
DTEND;TZID=UTC:20251102T180000
DTSTAMP:20260419T120835
CREATED:20251020T133706Z
LAST-MODIFIED:20251029T122223Z
UID:2198-1762084800-1762106400@fantastische-welten-rostock.de
SUMMARY:Digimon Store Tournament
DESCRIPTION:
URL:https://fantastische-welten-rostock.de/event/store-tournament-4-2-2-5-5-5-3-2-4-6-6-5-5-2-4-2/
CATEGORIES:Digimon
END:VEVENT
END:VCALENDAR