BEGIN:VCALENDAR
VERSION:2.0
PRODID:-// - ECPv6.15.20//NONSGML v1.0//EN
CALSCALE:GREGORIAN
METHOD:PUBLISH
X-ORIGINAL-URL:https://fantastische-welten-rostock.de
X-WR-CALDESC:Veranstaltungen für 
REFRESH-INTERVAL;VALUE=DURATION:PT1H
X-Robots-Tag:noindex
X-PUBLISHED-TTL:PT1H
BEGIN:VTIMEZONE
TZID:UTC
BEGIN:STANDARD
TZOFFSETFROM:+0000
TZOFFSETTO:+0000
TZNAME:UTC
DTSTART:20240101T000000
END:STANDARD
END:VTIMEZONE
BEGIN:VEVENT
DTSTART;TZID=UTC:20250502T040000
DTEND;TZID=UTC:20250502T200000
DTSTAMP:20260425T113255
CREATED:20250422T093449Z
LAST-MODIFIED:20250422T094023Z
UID:1038-1746158400-1746216000@fantastische-welten-rostock.de
SUMMARY:Yu-Gi-Oh! OTS
DESCRIPTION:Anmeldungen ab 15.30 Uhr\, Beginn: 16.00 Uhr\, Teilnahme: 5\,00 €
URL:https://fantastische-welten-rostock.de/event/yu-gi-oh-ots-3-2-2-3-4-2-4-2-3/
CATEGORIES:Yu-Gi-Oh!
END:VEVENT
BEGIN:VEVENT
DTSTART;TZID=UTC:20250502T160000
DTEND;TZID=UTC:20250502T190000
DTSTAMP:20260425T113255
CREATED:20250422T101422Z
LAST-MODIFIED:20250422T101422Z
UID:1072-1746201600-1746212400@fantastische-welten-rostock.de
SUMMARY:Pokémon Liga
DESCRIPTION:Anmeldungen ab 15.30 Uhr\, Beginn: 16.00 Uhr\, kostenlos
URL:https://fantastische-welten-rostock.de/event/pokemon-liga-2-2-2-2-2-2-3-2-2/
CATEGORIES:Pokémon
END:VEVENT
BEGIN:VEVENT
DTSTART;TZID=UTC:20250503T110000
DTEND;TZID=UTC:20250503T160000
DTSTAMP:20260425T113255
CREATED:20250425T104709Z
LAST-MODIFIED:20250425T104719Z
UID:1125-1746270000-1746288000@fantastische-welten-rostock.de
SUMMARY:Digimon Regulation Battle
DESCRIPTION:Anmeldungen ab 10:30 Uhr\, Beginn: 11:00 Uhr\, Teilnahme: 5\,00 €
URL:https://fantastische-welten-rostock.de/event/store-tournament-4-2-2-5-5-6-2-2/
CATEGORIES:Digimon
END:VEVENT
BEGIN:VEVENT
DTSTART;TZID=UTC:20250503T113000
DTEND;TZID=UTC:20250503T163000
DTSTAMP:20260425T113255
CREATED:20250321T121041Z
LAST-MODIFIED:20250329T092842Z
UID:983-1746271800-1746289800@fantastische-welten-rostock.de
SUMMARY:Star Wars Store Showdown
DESCRIPTION:Anmeldungen ab 11.00 Uhr\, Beginn: 11.30 Uhr\, Teilnahme: 15\,00 € \nJeder Teilnehmer bekommt ein Teilnahmebooster\, zwei Booster gehen in den Preispool.
URL:https://fantastische-welten-rostock.de/event/magic-fnm-pioneer-2-2-2-2-2/
LOCATION:Fantastische Welten\, Kistenmacherstr. 17\, Rostock\, Mecklenburg-Vorpommern\, 18055\, Germany
CATEGORIES:Star Wars
ORGANIZER;CN="Fantastische Welten":MAILTO:Sven-adam@fantastische-welten-rostock.de
END:VEVENT
BEGIN:VEVENT
DTSTART;TZID=UTC:20250503T120000
DTEND;TZID=UTC:20250503T160000
DTSTAMP:20260425T113255
CREATED:20250422T111712Z
LAST-MODIFIED:20250422T111712Z
UID:1100-1746273600-1746288000@fantastische-welten-rostock.de
SUMMARY:One Piece Store Tournament
DESCRIPTION:Anmeldungen ab 11.30 Uhr\, Beginn: 12.00 Uhr \n  \nTeilnahme: 5\,00 €
URL:https://fantastische-welten-rostock.de/event/one-piece-store-tournament-2-5-2-4-2-3-3/
CATEGORIES:One Piece
END:VEVENT
BEGIN:VEVENT
DTSTART;TZID=UTC:20250505T163000
DTEND;TZID=UTC:20250505T190000
DTSTAMP:20260425T113255
CREATED:20250422T112020Z
LAST-MODIFIED:20250422T112020Z
UID:1108-1746462600-1746471600@fantastische-welten-rostock.de
SUMMARY:Zeichner:innen-Treff
DESCRIPTION:Start 16.30 Uhr\, kostenlos \nJede Woche Montag gibt es ein zwangloses Treffen der Zeichner:innen.
URL:https://fantastische-welten-rostock.de/event/tabletop-hobby-treff-3-2-2-2-4-5-6-4-2/
END:VEVENT
BEGIN:VEVENT
DTSTART;TZID=UTC:20250506T170000
DTEND;TZID=UTC:20250506T190000
DTSTAMP:20260425T113255
CREATED:20250422T103835Z
LAST-MODIFIED:20250422T103835Z
UID:1092-1746550800-1746558000@fantastische-welten-rostock.de
SUMMARY:Digimon Store Tournament
DESCRIPTION:Anmeldungen ab 16:30 Uhr\, Beginn: 17:00 Uhr\, Teilnahme: 5\,00 €
URL:https://fantastische-welten-rostock.de/event/store-tournament-4-2-2-5-5-5-2/
CATEGORIES:Digimon
END:VEVENT
BEGIN:VEVENT
DTSTART;TZID=UTC:20250506T170000
DTEND;TZID=UTC:20250506T210000
DTSTAMP:20260425T113255
CREATED:20250422T093654Z
LAST-MODIFIED:20250422T093654Z
UID:1041-1746550800-1746565200@fantastische-welten-rostock.de
SUMMARY:Yu-Gi-Oh! OTS Edison
DESCRIPTION:Anmeldungen ab 16.30 Uhr\, Beginn: 17.00 Uhr\, Teilnahme: 5\,00 €
URL:https://fantastische-welten-rostock.de/event/yu-gi-oh-ots-edison-2-2-3-5-4-5-2/
CATEGORIES:Yu-Gi-Oh!
END:VEVENT
BEGIN:VEVENT
DTSTART;TZID=UTC:20250506T170000
DTEND;TZID=UTC:20250506T210000
DTSTAMP:20260425T113255
CREATED:20250422T095953Z
LAST-MODIFIED:20250422T095953Z
UID:1061-1746550800-1746565200@fantastische-welten-rostock.de
SUMMARY:Magic Casual Multiplayer-Commander
DESCRIPTION:Anmeldungen ab 16.30 Uhr\, Beginn: 17.00 Uhr\, Teilnahme: 6\,00 €
URL:https://fantastische-welten-rostock.de/event/magic-commander-casual-2-2-2-4-5-5-2/
CATEGORIES:Magic
END:VEVENT
BEGIN:VEVENT
DTSTART;TZID=UTC:20250507T150000
DTEND;TZID=UTC:20250507T190000
DTSTAMP:20260425T113255
CREATED:20250422T103242Z
LAST-MODIFIED:20250422T103242Z
UID:1084-1746630000-1746644400@fantastische-welten-rostock.de
SUMMARY:Lorcana Liga
DESCRIPTION:Beginn: 15.00 Uhr\, Teilnahme: kostenlos
URL:https://fantastische-welten-rostock.de/event/lorcana-ligaspiel-6-3-7-9-8-2-10-2/
CATEGORIES:Lorcana
END:VEVENT
BEGIN:VEVENT
DTSTART;TZID=UTC:20250507T163000
DTEND;TZID=UTC:20250507T190000
DTSTAMP:20260425T113255
CREATED:20250422T111601Z
LAST-MODIFIED:20250422T111601Z
UID:1102-1746635400-1746644400@fantastische-welten-rostock.de
SUMMARY:Flesh & Blood Armory Event
DESCRIPTION:Anmeldungen ab 16.00 Uhr\, Beginn: 16.30 Uhr\, Teilnahme: 10\,00 €
URL:https://fantastische-welten-rostock.de/event/flesh-blood-armory-event-3-2-4-5-5-6-2/
CATEGORIES:Flesh & Blood
END:VEVENT
BEGIN:VEVENT
DTSTART;TZID=UTC:20250508T150000
DTEND;TZID=UTC:20250508T190000
DTSTAMP:20260425T113255
CREATED:20250422T103335Z
LAST-MODIFIED:20250422T103335Z
UID:1086-1746716400-1746730800@fantastische-welten-rostock.de
SUMMARY:Lorcana Liga
DESCRIPTION:Beginn: 15.00 Uhr\, Teilnahme: kostenlos
URL:https://fantastische-welten-rostock.de/event/lorcana-ligaspiel-6-3-7-9-8-2-10-2-2/
CATEGORIES:Lorcana
END:VEVENT
BEGIN:VEVENT
DTSTART;TZID=UTC:20250508T160000
DTEND;TZID=UTC:20250508T190000
DTSTAMP:20260425T113255
CREATED:20250422T102230Z
LAST-MODIFIED:20250422T102230Z
UID:1078-1746720000-1746730800@fantastische-welten-rostock.de
SUMMARY:Pokémon Go Challenge
DESCRIPTION:Anmeldungen ab 15.30 Uhr\, Beginn: 16.00 Uhr\, Teilnahme: 5\,00 €
URL:https://fantastische-welten-rostock.de/event/pokemon-go-2-6-3-2-2/
CATEGORIES:Pokémon
END:VEVENT
BEGIN:VEVENT
DTSTART;TZID=UTC:20250508T160000
DTEND;TZID=UTC:20250508T190000
DTSTAMP:20260425T113255
CREATED:20250422T112351Z
LAST-MODIFIED:20250422T112407Z
UID:1112-1746720000-1746730800@fantastische-welten-rostock.de
SUMMARY:Tabletop Hobby-Treff
DESCRIPTION:Start 16.00 Uhr\, kostenlos \nJede Woche Donnerstag wird nach vorheriger Absprache mit der Spielergemeinschaft Tabletop gespielt.\nFür einen ersten Eindruck kommt einfach vorbei\, schaut zu und besprecht bei Interesse\, wie ihr dabei sein könnt. 🙂
URL:https://fantastische-welten-rostock.de/event/tabletop-hobby-treff-3-2-2-5-4-5-5-2/
CATEGORIES:Tabletop
END:VEVENT
BEGIN:VEVENT
DTSTART;TZID=UTC:20250508T173000
DTEND;TZID=UTC:20250508T190000
DTSTAMP:20260425T113255
CREATED:20250422T102627Z
LAST-MODIFIED:20250422T102627Z
UID:1082-1746725400-1746730800@fantastische-welten-rostock.de
SUMMARY:Pokémon Pocket
DESCRIPTION:Anmeldungen ab 17.00 Uhr\, Beginn: 17.30 Uhr\, Teilnahme: 3\,00 €
URL:https://fantastische-welten-rostock.de/event/pokemon-go-2-2-2-2-3-3-2-2/
CATEGORIES:Pokémon
END:VEVENT
BEGIN:VEVENT
DTSTART;TZID=UTC:20250509T160000
DTEND;TZID=UTC:20250509T190000
DTSTAMP:20260425T113255
CREATED:20250422T100233Z
LAST-MODIFIED:20250422T100233Z
UID:1065-1746806400-1746817200@fantastische-welten-rostock.de
SUMMARY:Magic FNM Pioneer
DESCRIPTION:Anmeldungen ab 15.30 Uhr\, Beginn: 16.00 Uhr\, Teilnahme: 6\,00 €
URL:https://fantastische-welten-rostock.de/event/magic-fnm-pioneer-2-3-2-2-2-2/
CATEGORIES:Magic
END:VEVENT
BEGIN:VEVENT
DTSTART;TZID=UTC:20250509T160000
DTEND;TZID=UTC:20250509T210000
DTSTAMP:20260425T113255
CREATED:20250422T094110Z
LAST-MODIFIED:20250422T094430Z
UID:1047-1746806400-1746824400@fantastische-welten-rostock.de
SUMMARY:Yu-Gi-Oh! OTS
DESCRIPTION:Anmeldungen ab 15.30 Uhr\, Beginn: 16.00 Uhr\, Teilnahme: 5\,00 €
URL:https://fantastische-welten-rostock.de/event/yu-gi-oh-ots-3-2-2-3-4-2-4-2-3-2/
CATEGORIES:Yu-Gi-Oh!
END:VEVENT
BEGIN:VEVENT
DTSTART;TZID=UTC:20250509T170000
DTEND;TZID=UTC:20250509T190000
DTSTAMP:20260425T113255
CREATED:20250422T111059Z
LAST-MODIFIED:20250422T111059Z
UID:1098-1746810000-1746817200@fantastische-welten-rostock.de
SUMMARY:One Piece Store Tournament
DESCRIPTION:Anmeldungen ab 16.30 Uhr\, Beginn: 17.00 Uhr \n  \nTeilnahme: 5\,00 €
URL:https://fantastische-welten-rostock.de/event/one-piece-store-tournament-2-5-2-4-2-3-2/
CATEGORIES:One Piece
END:VEVENT
BEGIN:VEVENT
DTSTART;TZID=UTC:20250510T110000
DTEND;TZID=UTC:20250510T150000
DTSTAMP:20260425T113255
CREATED:20250422T101536Z
LAST-MODIFIED:20250422T101536Z
UID:1074-1746874800-1746889200@fantastische-welten-rostock.de
SUMMARY:Pokémon Cup
DESCRIPTION:Anmeldungen ab 10.30 Uhr\, Beginn: 11.00 Uhr \n  \nTeilnahme: 10\,00€
URL:https://fantastische-welten-rostock.de/event/275-2-2-2-2/
CATEGORIES:Pokémon
END:VEVENT
BEGIN:VEVENT
DTSTART;TZID=UTC:20250510T110000
DTEND;TZID=UTC:20250510T180000
DTSTAMP:20260425T113255
CREATED:20250321T124507Z
LAST-MODIFIED:20250402T151957Z
UID:997-1746874800-1746900000@fantastische-welten-rostock.de
SUMMARY:Lorcana Setmeisterschaft Archazias Insel
DESCRIPTION:Anmeldungen ab 10.30 Uhr\, Beginn: 11.00 Uhr\, Teilnahme: 15\,00 € \nJeder Teilnehmer bekommt ein Teilnahmebooster und zwei Booster gehen in den Preispool.
URL:https://fantastische-welten-rostock.de/event/lorcana-localturnier-2-2-2/
LOCATION:Fantastische Welten\, Kistenmacherstr. 17\, Rostock\, Mecklenburg-Vorpommern\, 18055\, Germany
CATEGORIES:Lorcana
ORGANIZER;CN="Fantastische Welten":MAILTO:Sven-adam@fantastische-welten-rostock.de
END:VEVENT
BEGIN:VEVENT
DTSTART;TZID=UTC:20250512T163000
DTEND;TZID=UTC:20250512T190000
DTSTAMP:20260425T113255
CREATED:20250422T112047Z
LAST-MODIFIED:20250422T112047Z
UID:1109-1747067400-1747076400@fantastische-welten-rostock.de
SUMMARY:Zeichner:innen-Treff
DESCRIPTION:Start 16.30 Uhr\, kostenlos \nJede Woche Montag gibt es ein zwangloses Treffen der Zeichner:innen.
URL:https://fantastische-welten-rostock.de/event/tabletop-hobby-treff-3-2-2-2-4-5-6-4-3/
END:VEVENT
BEGIN:VEVENT
DTSTART;TZID=UTC:20250513T170000
DTEND;TZID=UTC:20250513T190000
DTSTAMP:20260425T113255
CREATED:20250422T100110Z
LAST-MODIFIED:20250422T100110Z
UID:1063-1747155600-1747162800@fantastische-welten-rostock.de
SUMMARY:Magic Casual Multiplayer-Commander Party (mit Promo)
DESCRIPTION:Anmeldungen ab 16.30 Uhr\, Beginn: 17.00 Uhr\, Teilnahme: 6\,00 €
URL:https://fantastische-welten-rostock.de/event/magic-commander-casual-2-2-2-4-4-2/
CATEGORIES:Magic
END:VEVENT
BEGIN:VEVENT
DTSTART;TZID=UTC:20250513T170000
DTEND;TZID=UTC:20250513T190000
DTSTAMP:20260425T113255
CREATED:20250422T103904Z
LAST-MODIFIED:20250422T103904Z
UID:1093-1747155600-1747162800@fantastische-welten-rostock.de
SUMMARY:Digimon Store Tournament
DESCRIPTION:Anmeldungen ab 16:30 Uhr\, Beginn: 17:00 Uhr\, Teilnahme: 5\,00 €
URL:https://fantastische-welten-rostock.de/event/store-tournament-4-2-2-5-5-5-3/
CATEGORIES:Digimon
END:VEVENT
BEGIN:VEVENT
DTSTART;TZID=UTC:20250513T170000
DTEND;TZID=UTC:20250513T210000
DTSTAMP:20260425T113255
CREATED:20250422T094215Z
LAST-MODIFIED:20250422T094424Z
UID:1049-1747155600-1747170000@fantastische-welten-rostock.de
SUMMARY:Yu-Gi-Oh! OTS Edison
DESCRIPTION:Anmeldungen ab 16.30 Uhr\, Beginn: 17.00 Uhr\, Teilnahme: 5\,00 €
URL:https://fantastische-welten-rostock.de/event/yu-gi-oh-ots-edison-2-2-3-5-4-5-2-2/
CATEGORIES:Yu-Gi-Oh!
END:VEVENT
BEGIN:VEVENT
DTSTART;TZID=UTC:20250514T150000
DTEND;TZID=UTC:20250514T190000
DTSTAMP:20260425T113255
CREATED:20250422T103406Z
LAST-MODIFIED:20250422T103406Z
UID:1087-1747234800-1747249200@fantastische-welten-rostock.de
SUMMARY:Lorcana Liga
DESCRIPTION:Beginn: 15.00 Uhr\, Teilnahme: kostenlos
URL:https://fantastische-welten-rostock.de/event/lorcana-ligaspiel-6-3-7-9-8-2-10-2-3/
CATEGORIES:Lorcana
END:VEVENT
BEGIN:VEVENT
DTSTART;TZID=UTC:20250514T163000
DTEND;TZID=UTC:20250514T190000
DTSTAMP:20260425T113255
CREATED:20250422T111637Z
LAST-MODIFIED:20250422T111637Z
UID:1103-1747240200-1747249200@fantastische-welten-rostock.de
SUMMARY:Flesh & Blood Armory Event
DESCRIPTION:Anmeldungen ab 16.00 Uhr\, Beginn: 16.30 Uhr\, Teilnahme: 10\,00 €
URL:https://fantastische-welten-rostock.de/event/flesh-blood-armory-event-3-2-4-5-5-6-3/
CATEGORIES:Flesh & Blood
END:VEVENT
BEGIN:VEVENT
DTSTART;TZID=UTC:20250514T163000
DTEND;TZID=UTC:20250514T190000
DTSTAMP:20260425T113255
CREATED:20250423T162457Z
LAST-MODIFIED:20250423T162457Z
UID:1123-1747240200-1747249200@fantastische-welten-rostock.de
SUMMARY:Altered Liga
DESCRIPTION:Anmeldungen ab 16.00 Uhr\, Beginn: 16.30 Uhr \nTeilnahme: 0\,00 €
URL:https://fantastische-welten-rostock.de/event/altered-local-4-4/
CATEGORIES:Altered
END:VEVENT
BEGIN:VEVENT
DTSTART;TZID=UTC:20250515T150000
DTEND;TZID=UTC:20250515T190000
DTSTAMP:20260425T113255
CREATED:20250422T103435Z
LAST-MODIFIED:20250422T103435Z
UID:1088-1747321200-1747335600@fantastische-welten-rostock.de
SUMMARY:Lorcana Liga
DESCRIPTION:Beginn: 15.00 Uhr\, Teilnahme: kostenlos
URL:https://fantastische-welten-rostock.de/event/lorcana-ligaspiel-6-3-7-9-8-2-10-2-4/
CATEGORIES:Lorcana
END:VEVENT
BEGIN:VEVENT
DTSTART;TZID=UTC:20250515T160000
DTEND;TZID=UTC:20250515T190000
DTSTAMP:20260425T113255
CREATED:20250422T111656Z
LAST-MODIFIED:20250422T111656Z
UID:1080-1747324800-1747335600@fantastische-welten-rostock.de
SUMMARY:Pokémon Go Cup
DESCRIPTION:Anmeldungen ab 15.30 Uhr\, Beginn: 16.00 Uhr\, Teilnahme: 5\,00 €
URL:https://fantastische-welten-rostock.de/event/pokemon-go-2-5-2/
CATEGORIES:Pokémon
END:VEVENT
BEGIN:VEVENT
DTSTART;TZID=UTC:20250515T160000
DTEND;TZID=UTC:20250515T190000
DTSTAMP:20260425T113255
CREATED:20250422T112439Z
LAST-MODIFIED:20250422T112439Z
UID:1113-1747324800-1747335600@fantastische-welten-rostock.de
SUMMARY:Tabletop Hobby-Treff
DESCRIPTION:Start 16.00 Uhr\, kostenlos \nJede Woche Donnerstag wird nach vorheriger Absprache mit der Spielergemeinschaft Tabletop gespielt.\nFür einen ersten Eindruck kommt einfach vorbei\, schaut zu und besprecht bei Interesse\, wie ihr dabei sein könnt. 🙂
URL:https://fantastische-welten-rostock.de/event/tabletop-hobby-treff-3-2-2-5-4-5-5-3/
CATEGORIES:Tabletop
END:VEVENT
END:VCALENDAR