BEGIN:VCALENDAR
VERSION:2.0
PRODID:-// - ECPv6.15.20//NONSGML v1.0//EN
CALSCALE:GREGORIAN
METHOD:PUBLISH
X-ORIGINAL-URL:https://fantastische-welten-rostock.de
X-WR-CALDESC:Veranstaltungen für 
REFRESH-INTERVAL;VALUE=DURATION:PT1H
X-Robots-Tag:noindex
X-PUBLISHED-TTL:PT1H
BEGIN:VTIMEZONE
TZID:UTC
BEGIN:STANDARD
TZOFFSETFROM:+0000
TZOFFSETTO:+0000
TZNAME:UTC
DTSTART:20240101T000000
END:STANDARD
END:VTIMEZONE
BEGIN:VEVENT
DTSTART;TZID=UTC:20250701T170000
DTEND;TZID=UTC:20250701T190000
DTSTAMP:20260421T131141
CREATED:20250623T144638Z
LAST-MODIFIED:20250623T144656Z
UID:1438-1751389200-1751396400@fantastische-welten-rostock.de
SUMMARY:Yu-Gi-Oh! OTS Edison
DESCRIPTION:Anmeldungen ab 16.30 Uhr\, Beginn: 17.00 Uhr\, Teilnahme: 5\,00 €
URL:https://fantastische-welten-rostock.de/event/yu-gi-oh-ots-edison-2-2-3-5-4-5-2-2-2-2-2-2/
CATEGORIES:Yu-Gi-Oh!
END:VEVENT
BEGIN:VEVENT
DTSTART;TZID=UTC:20250701T170000
DTEND;TZID=UTC:20250701T190000
DTSTAMP:20260421T131141
CREATED:20250623T145730Z
LAST-MODIFIED:20250623T145730Z
UID:1467-1751389200-1751396400@fantastische-welten-rostock.de
SUMMARY:Magic Casual Multiplayer-Commander
DESCRIPTION:Anmeldungen ab 16.30 Uhr\, Beginn: 17.00 Uhr\, Teilnahme: 6\,00 €
URL:https://fantastische-welten-rostock.de/event/magic-commander-casual-2-2-2-4-5-5-2-2-2-2-2/
CATEGORIES:Magic
END:VEVENT
BEGIN:VEVENT
DTSTART;TZID=UTC:20250701T170000
DTEND;TZID=UTC:20250701T190000
DTSTAMP:20260421T131141
CREATED:20250623T153145Z
LAST-MODIFIED:20250623T153145Z
UID:1518-1751389200-1751396400@fantastische-welten-rostock.de
SUMMARY:Digimon Store Tournament
DESCRIPTION:Anmeldungen ab 16:30 Uhr\, Beginn: 17:00 Uhr\, Teilnahme: 5\,00 €
URL:https://fantastische-welten-rostock.de/event/store-tournament-4-2-2-5-5-5-3-2-4-2/
CATEGORIES:Digimon
END:VEVENT
BEGIN:VEVENT
DTSTART;TZID=UTC:20250702T150000
DTEND;TZID=UTC:20250702T190000
DTSTAMP:20260421T131141
CREATED:20250623T155722Z
LAST-MODIFIED:20250623T155722Z
UID:1541-1751468400-1751482800@fantastische-welten-rostock.de
SUMMARY:Lorcana Liga
DESCRIPTION:Beginn: 15.00 Uhr\, Teilnahme: kostenlos
URL:https://fantastische-welten-rostock.de/event/lorcana-ligaspiel-6-3-7-9-8-2-10-2-4-9-2/
CATEGORIES:Lorcana
END:VEVENT
BEGIN:VEVENT
DTSTART;TZID=UTC:20250702T163000
DTEND;TZID=UTC:20250702T190000
DTSTAMP:20260421T131141
CREATED:20250623T162305Z
LAST-MODIFIED:20250623T162305Z
UID:1574-1751473800-1751482800@fantastische-welten-rostock.de
SUMMARY:Flesh & Blood Armory Event
DESCRIPTION:Anmeldungen ab 16.00 Uhr\, Beginn: 16.30 Uhr\, Teilnahme: 10\,00 €
URL:https://fantastische-welten-rostock.de/event/flesh-blood-armory-event-3-2-4-5-5-6-3-5-2/
CATEGORIES:Flesh & Blood
END:VEVENT
BEGIN:VEVENT
DTSTART;TZID=UTC:20250703T150000
DTEND;TZID=UTC:20250703T190000
DTSTAMP:20260421T131141
CREATED:20250623T155835Z
LAST-MODIFIED:20250623T155835Z
UID:1542-1751554800-1751569200@fantastische-welten-rostock.de
SUMMARY:Lorcana Liga
DESCRIPTION:Beginn: 15.00 Uhr\, Teilnahme: kostenlos
URL:https://fantastische-welten-rostock.de/event/lorcana-ligaspiel-6-3-7-9-8-2-10-2-4-9-3/
CATEGORIES:Lorcana
END:VEVENT
BEGIN:VEVENT
DTSTART;TZID=UTC:20250703T163000
DTEND;TZID=UTC:20250703T190000
DTSTAMP:20260421T131141
CREATED:20250624T125107Z
LAST-MODIFIED:20250624T125107Z
UID:1590-1751560200-1751569200@fantastische-welten-rostock.de
SUMMARY:Tabletop Hobby-Treff
DESCRIPTION:Start 16.00 Uhr\, kostenlos \nJede Woche Donnerstag wird nach vorheriger Absprache mit der Spielergemeinschaft Tabletop gespielt.\nFür einen ersten Eindruck kommt einfach vorbei\, schaut zu und besprecht bei Interesse\, wie ihr dabei sein könnt. 🙂
URL:https://fantastische-welten-rostock.de/event/tabletop-hobby-treff-3-2-2-5-4-5-5-3-2-3-2-2/
CATEGORIES:Tabletop
END:VEVENT
BEGIN:VEVENT
DTSTART;TZID=UTC:20250703T170000
DTEND;TZID=UTC:20250703T180000
DTSTAMP:20260421T131141
CREATED:20250623T151306Z
LAST-MODIFIED:20250623T151306Z
UID:1483-1751562000-1751565600@fantastische-welten-rostock.de
SUMMARY:Pokémon Go
DESCRIPTION:Anmeldungen ab 16.30 Uhr\, Beginn: 17.00 Uhr\, Teilnahme: 3\,00 €
URL:https://fantastische-welten-rostock.de/event/pokemon-go-2-6-2-2-2-2-2/
CATEGORIES:Pokémon
END:VEVENT
BEGIN:VEVENT
DTSTART;TZID=UTC:20250703T180000
DTEND;TZID=UTC:20250703T190000
DTSTAMP:20260421T131141
CREATED:20250623T151815Z
LAST-MODIFIED:20250623T152028Z
UID:1493-1751565600-1751569200@fantastische-welten-rostock.de
SUMMARY:Pokémon Pocket
DESCRIPTION:Anmeldungen ab 17.30 Uhr\, Beginn: 18.30 Uhr\, Teilnahme: 3\,00 €
URL:https://fantastische-welten-rostock.de/event/pokemon-go-2-2-2-2-3-3-2-2-2-2-2/
CATEGORIES:Pokémon
END:VEVENT
BEGIN:VEVENT
DTSTART;TZID=UTC:20250704T160000
DTEND;TZID=UTC:20250704T190000
DTSTAMP:20260421T131141
CREATED:20250623T145047Z
LAST-MODIFIED:20250623T145047Z
UID:1450-1751644800-1751655600@fantastische-welten-rostock.de
SUMMARY:Yu-Gi-Oh! OTS
DESCRIPTION:Anmeldungen ab 15.30 Uhr\, Beginn: 16.00 Uhr\, Teilnahme: 5\,00 €
URL:https://fantastische-welten-rostock.de/event/yu-gi-oh-ots-3-2-2-3-4-2-4-2-3-2-2-2-2-2-2/
CATEGORIES:Yu-Gi-Oh!
END:VEVENT
BEGIN:VEVENT
DTSTART;TZID=UTC:20250704T160000
DTEND;TZID=UTC:20250704T190000
DTSTAMP:20260421T131141
CREATED:20250623T152847Z
LAST-MODIFIED:20250623T152847Z
UID:1512-1751644800-1751655600@fantastische-welten-rostock.de
SUMMARY:Pokémon TCG Liga
DESCRIPTION:Anmeldungen ab 15.30 Uhr\, Beginn: 16.00 Uhr\, kostenlos
URL:https://fantastische-welten-rostock.de/event/pokemon-liga-2-2-2-2-2-2-3-2-2-2-2-3/
CATEGORIES:Pokémon
END:VEVENT
BEGIN:VEVENT
DTSTART;TZID=UTC:20250704T160000
DTEND;TZID=UTC:20250704T190000
DTSTAMP:20260421T131141
CREATED:20250623T161226Z
LAST-MODIFIED:20250623T161226Z
UID:1563-1751644800-1751655600@fantastische-welten-rostock.de
SUMMARY:Star Wars Unlimited Liga
DESCRIPTION:Anmeldungen ab 15.30 Uhr\, Beginn: 16.00 Uhr\, Teilnahme: 0\,00 €
URL:https://fantastische-welten-rostock.de/event/star-wars-unlimited-weekly-play-4-2-3-2-2-4-2/
CATEGORIES:Star Wars
END:VEVENT
BEGIN:VEVENT
DTSTART;TZID=UTC:20250704T170000
DTEND;TZID=UTC:20250704T190000
DTSTAMP:20260421T131141
CREATED:20250623T154724Z
LAST-MODIFIED:20250623T154724Z
UID:1534-1751648400-1751655600@fantastische-welten-rostock.de
SUMMARY:One Piece Store Tournament
DESCRIPTION:Anmeldungen ab 16.30 Uhr\, Beginn: 17.00 Uhr\, Teilnahme: 5\,00 €
URL:https://fantastische-welten-rostock.de/event/one-piece-store-tournament-2-5-2-4-2-3-2-2-2-2/
CATEGORIES:One Piece
END:VEVENT
BEGIN:VEVENT
DTSTART;TZID=UTC:20250705T103000
DTEND;TZID=UTC:20250705T190000
DTSTAMP:20260421T131141
CREATED:20250623T161525Z
LAST-MODIFIED:20250630T080633Z
UID:1571-1751711400-1751742000@fantastische-welten-rostock.de
SUMMARY:Star Wars Unlimited PreRelease Legenden der Macht
DESCRIPTION:Anmeldungen ab 10.00 Uhr\, Beginn: 10.30 Uhr\, Teilnahme: 40\,00 € \nJeder Teilnehmer bekommt 6 Booster zum Deckbau\, 2 weitere Booster gehen in den Preispool. \nDa Feiertag ist\, nutzen wir den Eingang in der Stampfmüllerstr. neben der Apotheke. Abholungen erfolgen ca. alle 10 Minuten. 🙂
URL:https://fantastische-welten-rostock.de/event/magic-commander-casual-2-2-2-5-3-3-2/
CATEGORIES:Star Wars
END:VEVENT
BEGIN:VEVENT
DTSTART;TZID=UTC:20250705T110000
DTEND;TZID=UTC:20250705T160000
DTSTAMP:20260421T131141
CREATED:20250623T152651Z
LAST-MODIFIED:20250623T152651Z
UID:1510-1751713200-1751731200@fantastische-welten-rostock.de
SUMMARY:Pokémon TCG Challenge
DESCRIPTION:Anmeldungen ab 10.30 Uhr\, Beginn: 11.00 Uhr \n  \nTeilnahme: 5\,00€
URL:https://fantastische-welten-rostock.de/event/275-2-2-3-2-2-3/
CATEGORIES:Pokémon
END:VEVENT
BEGIN:VEVENT
DTSTART;TZID=UTC:20250705T113000
DTEND;TZID=UTC:20250705T190000
DTSTAMP:20260421T131141
CREATED:20250623T150540Z
LAST-MODIFIED:20250623T151018Z
UID:1475-1751715000-1751742000@fantastische-welten-rostock.de
SUMMARY:Magic Draft Final Fantasy
DESCRIPTION:Anmeldungen ab 11.00 Uhr\, Beginn: 11.30 Uhr\, Teilnahme: 25\,00 € \nJeder Spieler bekommt 3 Booster für den Draft\, 1 Booster geht in den Preispool.
URL:https://fantastische-welten-rostock.de/event/magic-draft-foundations-3-3-2-2/
CATEGORIES:Magic
END:VEVENT
BEGIN:VEVENT
DTSTART;TZID=UTC:20250705T120000
DTEND;TZID=UTC:20250705T160000
DTSTAMP:20260421T131141
CREATED:20250623T155254Z
LAST-MODIFIED:20250623T155605Z
UID:1538-1751716800-1751731200@fantastische-welten-rostock.de
SUMMARY:One Piece BT10 Display Tournament
DESCRIPTION:Anmeldungen ab 11.30 Uhr\, Beginn: 12.00 Uhr\, Teilnahme: 15\,00 € \nJeder Teilnehmer erhält 1 Booster OP10\, 1 Pre-Release OP11 Event-Pack. 2 Booster gehen pro Teilnehmer in den Preispool. Sieger erhält ein BT10 Display.
URL:https://fantastische-welten-rostock.de/event/one-piece-store-tournament-2-5-2-4-2-3-2-2-2-3-2/
CATEGORIES:One Piece
END:VEVENT
BEGIN:VEVENT
DTSTART;TZID=UTC:20250707T163000
DTEND;TZID=UTC:20250707T190000
DTSTAMP:20260421T131141
CREATED:20250624T130428Z
LAST-MODIFIED:20250624T130428Z
UID:1598-1751905800-1751914800@fantastische-welten-rostock.de
SUMMARY:Zeichner:innen-Treff
DESCRIPTION:Start 16.30 Uhr\, kostenlos \nJede Woche Montag gibt es ein zwangloses Treffen der Zeichner:innen.
URL:https://fantastische-welten-rostock.de/event/tabletop-hobby-treff-3-2-2-2-4-5-6-4-3-4-2-2/
END:VEVENT
BEGIN:VEVENT
DTSTART;TZID=UTC:20250708T170000
DTEND;TZID=UTC:20250708T190000
DTSTAMP:20260421T131141
CREATED:20250623T144728Z
LAST-MODIFIED:20250623T144728Z
UID:1439-1751994000-1752001200@fantastische-welten-rostock.de
SUMMARY:Yu-Gi-Oh! OTS Edison
DESCRIPTION:Anmeldungen ab 16.30 Uhr\, Beginn: 17.00 Uhr\, Teilnahme: 5\,00 €
URL:https://fantastische-welten-rostock.de/event/yu-gi-oh-ots-edison-2-2-3-5-4-5-2-2-2-2-2-3/
CATEGORIES:Yu-Gi-Oh!
END:VEVENT
BEGIN:VEVENT
DTSTART;TZID=UTC:20250708T170000
DTEND;TZID=UTC:20250708T190000
DTSTAMP:20260421T131141
CREATED:20250623T145943Z
LAST-MODIFIED:20250623T145943Z
UID:1468-1751994000-1752001200@fantastische-welten-rostock.de
SUMMARY:Magic Casual Multiplayer-Commander
DESCRIPTION:Anmeldungen ab 16.30 Uhr\, Beginn: 17.00 Uhr\, Teilnahme: 6\,00 €
URL:https://fantastische-welten-rostock.de/event/magic-commander-casual-2-2-2-4-5-5-2-2-2-2-3/
CATEGORIES:Magic
END:VEVENT
BEGIN:VEVENT
DTSTART;TZID=UTC:20250708T170000
DTEND;TZID=UTC:20250708T190000
DTSTAMP:20260421T131141
CREATED:20250623T153217Z
LAST-MODIFIED:20250623T153236Z
UID:1519-1751994000-1752001200@fantastische-welten-rostock.de
SUMMARY:Digimon Store Tournament
DESCRIPTION:Anmeldungen ab 16:30 Uhr\, Beginn: 17:00 Uhr\, Teilnahme: 5\,00 €
URL:https://fantastische-welten-rostock.de/event/store-tournament-4-2-2-5-5-5-3-2-4-3/
CATEGORIES:Digimon
END:VEVENT
BEGIN:VEVENT
DTSTART;TZID=UTC:20250709T150000
DTEND;TZID=UTC:20250709T190000
DTSTAMP:20260421T131141
CREATED:20250623T155904Z
LAST-MODIFIED:20250623T155904Z
UID:1543-1752073200-1752087600@fantastische-welten-rostock.de
SUMMARY:Lorcana Liga
DESCRIPTION:Beginn: 15.00 Uhr\, Teilnahme: kostenlos
URL:https://fantastische-welten-rostock.de/event/lorcana-ligaspiel-6-3-7-9-8-2-10-2-4-9-4/
CATEGORIES:Lorcana
END:VEVENT
BEGIN:VEVENT
DTSTART;TZID=UTC:20250709T163000
DTEND;TZID=UTC:20250709T190000
DTSTAMP:20260421T131141
CREATED:20250623T162345Z
LAST-MODIFIED:20250623T162345Z
UID:1575-1752078600-1752087600@fantastische-welten-rostock.de
SUMMARY:Flesh & Blood Armory Event
DESCRIPTION:Anmeldungen ab 16.00 Uhr\, Beginn: 16.30 Uhr\, Teilnahme: 10\,00 €
URL:https://fantastische-welten-rostock.de/event/flesh-blood-armory-event-3-2-4-5-5-6-3-5-3/
CATEGORIES:Flesh & Blood
END:VEVENT
BEGIN:VEVENT
DTSTART;TZID=UTC:20250710T150000
DTEND;TZID=UTC:20250710T190000
DTSTAMP:20260421T131141
CREATED:20250623T155936Z
LAST-MODIFIED:20250623T155936Z
UID:1544-1752159600-1752174000@fantastische-welten-rostock.de
SUMMARY:Lorcana Liga
DESCRIPTION:Beginn: 15.00 Uhr\, Teilnahme: kostenlos
URL:https://fantastische-welten-rostock.de/event/lorcana-ligaspiel-6-3-7-9-8-2-10-2-4-9-5/
CATEGORIES:Lorcana
END:VEVENT
BEGIN:VEVENT
DTSTART;TZID=UTC:20250710T163000
DTEND;TZID=UTC:20250710T190000
DTSTAMP:20260421T131141
CREATED:20250624T125140Z
LAST-MODIFIED:20250624T125140Z
UID:1591-1752165000-1752174000@fantastische-welten-rostock.de
SUMMARY:Tabletop Hobby-Treff
DESCRIPTION:Start 16.00 Uhr\, kostenlos \nJede Woche Donnerstag wird nach vorheriger Absprache mit der Spielergemeinschaft Tabletop gespielt.\nFür einen ersten Eindruck kommt einfach vorbei\, schaut zu und besprecht bei Interesse\, wie ihr dabei sein könnt. 🙂
URL:https://fantastische-welten-rostock.de/event/tabletop-hobby-treff-3-2-2-5-4-5-5-3-2-3-2-3/
CATEGORIES:Tabletop
END:VEVENT
BEGIN:VEVENT
DTSTART;TZID=UTC:20250710T170000
DTEND;TZID=UTC:20250710T180000
DTSTAMP:20260421T131141
CREATED:20250623T151350Z
LAST-MODIFIED:20250623T151350Z
UID:1484-1752166800-1752170400@fantastische-welten-rostock.de
SUMMARY:Pokémon Go
DESCRIPTION:Anmeldungen ab 16.30 Uhr\, Beginn: 17.00 Uhr\, Teilnahme: 3\,00 €
URL:https://fantastische-welten-rostock.de/event/pokemon-go-2-6-2-2-2-2-3/
CATEGORIES:Pokémon
END:VEVENT
BEGIN:VEVENT
DTSTART;TZID=UTC:20250710T180000
DTEND;TZID=UTC:20250710T190000
DTSTAMP:20260421T131141
CREATED:20250623T151850Z
LAST-MODIFIED:20250623T151958Z
UID:1494-1752170400-1752174000@fantastische-welten-rostock.de
SUMMARY:Pokémon Pocket
DESCRIPTION:Anmeldungen ab 17.30 Uhr\, Beginn: 18.00 Uhr\, Teilnahme: 3\,00 €
URL:https://fantastische-welten-rostock.de/event/pokemon-go-2-2-2-2-3-3-2-2-2-2-3/
CATEGORIES:Pokémon
END:VEVENT
BEGIN:VEVENT
DTSTART;TZID=UTC:20250711T160000
DTEND;TZID=UTC:20250711T183000
DTSTAMP:20260421T131141
CREATED:20250707T091716Z
LAST-MODIFIED:20250707T091716Z
UID:1618-1752249600-1752258600@fantastische-welten-rostock.de
SUMMARY:Star Wars: Unlimited Draft: Legenden der Macht
DESCRIPTION:Anmeldungen ab 15.30 Uhr\, Beginn: 16.00 Uhr\, Teilnahme: 20\,00 € \nJeder Spieler bekommt 3 Booster für den Draft\, 1 Booster geht in den Preispool.
URL:https://fantastische-welten-rostock.de/event/magic-draft-foundations-3-3-2-2-2/
CATEGORIES:Magic
END:VEVENT
BEGIN:VEVENT
DTSTART;TZID=UTC:20250711T160000
DTEND;TZID=UTC:20250711T190000
DTSTAMP:20260421T131141
CREATED:20250623T145122Z
LAST-MODIFIED:20250623T145122Z
UID:1451-1752249600-1752260400@fantastische-welten-rostock.de
SUMMARY:Yu-Gi-Oh! OTS
DESCRIPTION:Anmeldungen ab 15.30 Uhr\, Beginn: 16.00 Uhr\, Teilnahme: 5\,00 €
URL:https://fantastische-welten-rostock.de/event/yu-gi-oh-ots-3-2-2-3-4-2-4-2-3-2-2-2-2-2-3/
CATEGORIES:Yu-Gi-Oh!
END:VEVENT
BEGIN:VEVENT
DTSTART;TZID=UTC:20250711T160000
DTEND;TZID=UTC:20250711T190000
DTSTAMP:20260421T131141
CREATED:20250623T150854Z
LAST-MODIFIED:20250623T150854Z
UID:1481-1752249600-1752260400@fantastische-welten-rostock.de
SUMMARY:Magic FNM Pioneer
DESCRIPTION:Anmeldungen ab 15.30 Uhr\, Beginn: 16.00 Uhr\, Teilnahme: 6\,00 €
URL:https://fantastische-welten-rostock.de/event/magic-fnm-pioneer-2-3-2-2-2-2-2-2/
CATEGORIES:Magic
END:VEVENT
END:VCALENDAR