BEGIN:VCALENDAR
VERSION:2.0
PRODID:-// - ECPv6.15.20//NONSGML v1.0//EN
CALSCALE:GREGORIAN
METHOD:PUBLISH
X-ORIGINAL-URL:https://fantastische-welten-rostock.de
X-WR-CALDESC:Veranstaltungen für 
REFRESH-INTERVAL;VALUE=DURATION:PT1H
X-Robots-Tag:noindex
X-PUBLISHED-TTL:PT1H
BEGIN:VTIMEZONE
TZID:UTC
BEGIN:STANDARD
TZOFFSETFROM:+0000
TZOFFSETTO:+0000
TZNAME:UTC
DTSTART:20240101T000000
END:STANDARD
END:VTIMEZONE
BEGIN:VEVENT
DTSTART;TZID=UTC:20250801T160000
DTEND;TZID=UTC:20250801T190000
DTSTAMP:20260421T101233
CREATED:20250724T124501Z
LAST-MODIFIED:20250724T124501Z
UID:1625-1754064000-1754074800@fantastische-welten-rostock.de
SUMMARY:Yu-Gi-Oh! OTS
DESCRIPTION:Anmeldungen ab 15.30 Uhr\, Beginn: 16.00 Uhr\, Teilnahme: 5\,00 €
URL:https://fantastische-welten-rostock.de/event/yu-gi-oh-ots-3-2-2-3-4-2-4-2-3-2-2-2-2-2-4-2/
CATEGORIES:Yu-Gi-Oh!
END:VEVENT
BEGIN:VEVENT
DTSTART;TZID=UTC:20250801T170000
DTEND;TZID=UTC:20250801T190000
DTSTAMP:20260421T101233
CREATED:20250724T131111Z
LAST-MODIFIED:20250724T131111Z
UID:1696-1754067600-1754074800@fantastische-welten-rostock.de
SUMMARY:One Piece Store Tournament
DESCRIPTION:Anmeldungen ab 16.30 Uhr\, Beginn: 17.00 Uhr\, Teilnahme: 5\,00 €
URL:https://fantastische-welten-rostock.de/event/one-piece-store-tournament-2-5-2-4-2-3-2-2-2-3-3/
CATEGORIES:One Piece
END:VEVENT
BEGIN:VEVENT
DTSTART;TZID=UTC:20250802T110000
DTEND;TZID=UTC:20250802T180000
DTSTAMP:20260421T101233
CREATED:20250728T111039Z
LAST-MODIFIED:20250804T092002Z
UID:1795-1754132400-1754157600@fantastische-welten-rostock.de
SUMMARY:Yu-Gi-Oh! OTS
DESCRIPTION:Anmeldungen ab 11.00 Uhr\, Beginn: 11.30 Uhr\, Teilnahme: 5\,00 €
URL:https://fantastische-welten-rostock.de/event/yu-gi-oh-ots-3-2-2-3-4-2-4-2-3-2-2-2-2-2-5-2/
CATEGORIES:Yu-Gi-Oh!
END:VEVENT
BEGIN:VEVENT
DTSTART;TZID=UTC:20250802T113000
DTEND;TZID=UTC:20250802T180000
DTSTAMP:20260421T101233
CREATED:20250725T141937Z
LAST-MODIFIED:20250725T142233Z
UID:1790-1754134200-1754157600@fantastische-welten-rostock.de
SUMMARY:Magic Release-Draft Edge of Eternities
DESCRIPTION:Anmeldungen ab 11.00 Uhr\, Beginn: 11.30 Uhr\, Teilnahme: 20\,00 €
URL:https://fantastische-welten-rostock.de/event/magic-draft-foundations-3-3-2-3/
CATEGORIES:Magic
END:VEVENT
BEGIN:VEVENT
DTSTART;TZID=UTC:20250804T163000
DTEND;TZID=UTC:20250804T190000
DTSTAMP:20260421T101233
CREATED:20250724T133218Z
LAST-MODIFIED:20250724T133218Z
UID:1753-1754325000-1754334000@fantastische-welten-rostock.de
SUMMARY:Zeichner:innen-Treff
DESCRIPTION:Start 16.30 Uhr\, kostenlos \nJede Woche Montag gibt es ein zwangloses Treffen der Zeichner:innen.
URL:https://fantastische-welten-rostock.de/event/tabletop-hobby-treff-3-2-2-2-4-5-6-4-3-4-2-5-2/
END:VEVENT
BEGIN:VEVENT
DTSTART;TZID=UTC:20250805T170000
DTEND;TZID=UTC:20250805T190000
DTSTAMP:20260421T101233
CREATED:20250724T124712Z
LAST-MODIFIED:20250724T124712Z
UID:1633-1754413200-1754420400@fantastische-welten-rostock.de
SUMMARY:Yu-Gi-Oh! OTS Edison
DESCRIPTION:Anmeldungen ab 16.30 Uhr\, Beginn: 17.00 Uhr\, Teilnahme: 5\,00 €
URL:https://fantastische-welten-rostock.de/event/yu-gi-oh-ots-edison-2-2-3-5-4-5-2-2-2-2-2-5-2/
CATEGORIES:Yu-Gi-Oh!
END:VEVENT
BEGIN:VEVENT
DTSTART;TZID=UTC:20250805T170000
DTEND;TZID=UTC:20250805T190000
DTSTAMP:20260421T101233
CREATED:20250724T125416Z
LAST-MODIFIED:20250724T125416Z
UID:1647-1754413200-1754420400@fantastische-welten-rostock.de
SUMMARY:Magic Casual Multiplayer-Commander
DESCRIPTION:Anmeldungen ab 16.30 Uhr\, Beginn: 17.00 Uhr\, Teilnahme: 6\,00 €
URL:https://fantastische-welten-rostock.de/event/magic-commander-casual-2-2-2-4-5-5-2-2-2-2-5-2/
CATEGORIES:Magic
END:VEVENT
BEGIN:VEVENT
DTSTART;TZID=UTC:20250805T170000
DTEND;TZID=UTC:20250805T190000
DTSTAMP:20260421T101233
CREATED:20250724T131328Z
LAST-MODIFIED:20250724T131328Z
UID:1701-1754413200-1754420400@fantastische-welten-rostock.de
SUMMARY:Digimon Store Tournament
DESCRIPTION:Anmeldungen ab 16:30 Uhr\, Beginn: 17:00 Uhr\, Teilnahme: 5\,00 €
URL:https://fantastische-welten-rostock.de/event/store-tournament-4-2-2-5-5-5-3-2-4-6-3/
CATEGORIES:Digimon
END:VEVENT
BEGIN:VEVENT
DTSTART;TZID=UTC:20250806T130000
DTEND;TZID=UTC:20250806T180000
DTSTAMP:20260421T101233
CREATED:20250724T125918Z
LAST-MODIFIED:20250724T125918Z
UID:1663-1754485200-1754503200@fantastische-welten-rostock.de
SUMMARY:Pokémon Junior Day
DESCRIPTION:Beginn: 13.00 Uhr\, kostenlos \nErfüllt kleine Aufgaben und füllt euren Poképass. Für einen vollen Poképass erwarten euch tolle kleine Überraschungen! \nUnsere Professoren helfen bei den Aufgaben und bringen euch das Spiel bei.
URL:https://fantastische-welten-rostock.de/event/pokemon-go-2-2-3-2/
CATEGORIES:Pokémon
END:VEVENT
BEGIN:VEVENT
DTSTART;TZID=UTC:20250806T150000
DTEND;TZID=UTC:20250806T190000
DTSTAMP:20260421T101233
CREATED:20250724T131900Z
LAST-MODIFIED:20250724T131900Z
UID:1713-1754492400-1754506800@fantastische-welten-rostock.de
SUMMARY:Lorcana Liga
DESCRIPTION:Beginn: 15.00 Uhr\, Teilnahme: kostenlos
URL:https://fantastische-welten-rostock.de/event/lorcana-ligaspiel-6-3-7-9-8-2-10-2-4-9-11-2/
CATEGORIES:Lorcana
END:VEVENT
BEGIN:VEVENT
DTSTART;TZID=UTC:20250806T163000
DTEND;TZID=UTC:20250806T190000
DTSTAMP:20260421T101233
CREATED:20250724T132604Z
LAST-MODIFIED:20250724T132604Z
UID:1739-1754497800-1754506800@fantastische-welten-rostock.de
SUMMARY:Flesh & Blood Armory Event
DESCRIPTION:Anmeldungen ab 16.00 Uhr\, Beginn: 16.30 Uhr\, Teilnahme: 10\,00 €
URL:https://fantastische-welten-rostock.de/event/flesh-blood-armory-event-3-2-4-5-5-6-3-5-6-2/
CATEGORIES:Flesh & Blood
END:VEVENT
BEGIN:VEVENT
DTSTART;TZID=UTC:20250807T150000
DTEND;TZID=UTC:20250807T190000
DTSTAMP:20260421T101233
CREATED:20250724T131919Z
LAST-MODIFIED:20250724T131919Z
UID:1714-1754578800-1754593200@fantastische-welten-rostock.de
SUMMARY:Lorcana Liga
DESCRIPTION:Beginn: 15.00 Uhr\, Teilnahme: kostenlos
URL:https://fantastische-welten-rostock.de/event/lorcana-ligaspiel-6-3-7-9-8-2-10-2-4-9-11-3/
CATEGORIES:Lorcana
END:VEVENT
BEGIN:VEVENT
DTSTART;TZID=UTC:20250807T160000
DTEND;TZID=UTC:20250807T190000
DTSTAMP:20260421T101233
CREATED:20250724T130028Z
LAST-MODIFIED:20250724T130028Z
UID:1665-1754582400-1754593200@fantastische-welten-rostock.de
SUMMARY:Pokémon Go Liga
DESCRIPTION:Anmeldungen ab 16.30 Uhr\, Beginn: 17.00 Uhr\, Teilnahme: 3\,00 €
URL:https://fantastische-welten-rostock.de/event/pokemon-go-2-6-2-2-2-2-6-2/
CATEGORIES:Pokémon
END:VEVENT
BEGIN:VEVENT
DTSTART;TZID=UTC:20250807T160000
DTEND;TZID=UTC:20250807T190000
DTSTAMP:20260421T101233
CREATED:20250724T134002Z
LAST-MODIFIED:20250724T134002Z
UID:1761-1754582400-1754593200@fantastische-welten-rostock.de
SUMMARY:Tabletop Hobby-Treff
DESCRIPTION:Start 16.00 Uhr\, kostenlos \nJede Woche Donnerstag wird nach vorheriger Absprache mit der Spielergemeinschaft Tabletop gespielt.\nFür einen ersten Eindruck kommt einfach vorbei\, schaut zu und besprecht bei Interesse\, wie ihr dabei sein könnt. 🙂
URL:https://fantastische-welten-rostock.de/event/tabletop-hobby-treff-3-2-2-5-4-5-5-3-2-3-2-5-2/
CATEGORIES:Tabletop
END:VEVENT
BEGIN:VEVENT
DTSTART;TZID=UTC:20250807T170000
DTEND;TZID=UTC:20250807T190000
DTSTAMP:20260421T101233
CREATED:20250724T130327Z
LAST-MODIFIED:20250724T130327Z
UID:1673-1754586000-1754593200@fantastische-welten-rostock.de
SUMMARY:Pokémon Pocket Liga
DESCRIPTION:Anmeldungen ab 17.30 Uhr\, Beginn: 18.00 Uhr\, Teilnahme: 3\,00 €
URL:https://fantastische-welten-rostock.de/event/pokemon-go-2-2-2-2-3-3-2-2-2-2-6-2/
CATEGORIES:Pokémon
END:VEVENT
BEGIN:VEVENT
DTSTART;TZID=UTC:20250808T160000
DTEND;TZID=UTC:20250808T190000
DTSTAMP:20260421T101233
CREATED:20250724T124535Z
LAST-MODIFIED:20250724T124535Z
UID:1628-1754668800-1754679600@fantastische-welten-rostock.de
SUMMARY:Yu-Gi-Oh! OTS
DESCRIPTION:Anmeldungen ab 15.30 Uhr\, Beginn: 16.00 Uhr\, Teilnahme: 5\,00 €
URL:https://fantastische-welten-rostock.de/event/yu-gi-oh-ots-3-2-2-3-4-2-4-2-3-2-2-2-2-2-4-3/
CATEGORIES:Yu-Gi-Oh!
END:VEVENT
BEGIN:VEVENT
DTSTART;TZID=UTC:20250808T160000
DTEND;TZID=UTC:20250808T190000
DTSTAMP:20260421T101233
CREATED:20250724T132213Z
LAST-MODIFIED:20250724T132213Z
UID:1729-1754668800-1754679600@fantastische-welten-rostock.de
SUMMARY:Star Wars Unlimited Liga
DESCRIPTION:Anmeldungen ab 15.30 Uhr\, Beginn: 16.00 Uhr\, Teilnahme: 0\,00 €
URL:https://fantastische-welten-rostock.de/event/star-wars-unlimited-weekly-play-4-2-3-2-2-4-5-2/
CATEGORIES:Star Wars
END:VEVENT
BEGIN:VEVENT
DTSTART;TZID=UTC:20250808T160000
DTEND;TZID=UTC:20250808T190000
DTSTAMP:20260421T101233
CREATED:20250724T132930Z
LAST-MODIFIED:20250724T132930Z
UID:1749-1754668800-1754679600@fantastische-welten-rostock.de
SUMMARY:Altered Liga
DESCRIPTION:Anmeldungen ab 16.00 Uhr\, Beginn: 16.30 Uhr \nTeilnahme: 0\,00 €
URL:https://fantastische-welten-rostock.de/event/altered-local-4-4-3-3-2/
CATEGORIES:Altered
END:VEVENT
BEGIN:VEVENT
DTSTART;TZID=UTC:20250809T110000
DTEND;TZID=UTC:20250809T180000
DTSTAMP:20260421T101233
CREATED:20250724T125037Z
LAST-MODIFIED:20250724T125037Z
UID:1643-1754737200-1754762400@fantastische-welten-rostock.de
SUMMARY:Yu-Gi-Oh! OTS Championship Duelist's Advance
DESCRIPTION:Anmeldungen ab 10.30 Uhr\, Beginn: 11.00 Uhr\, Teilnahme: 15\,00 € \nJeder Teilnehmer erhält 3 OTS Packs\, 2 weitere OTS Packs wandern in den Preispool# \nAchtung! Das Event findet im neuen Laden (Kistenmacherstraße 17-18\, 18055 Rostock) statt!
URL:https://fantastische-welten-rostock.de/event/yu-gi-oh-ots-3-2-2-3-4-2-2-2-2/
CATEGORIES:Yu-Gi-Oh!
END:VEVENT
BEGIN:VEVENT
DTSTART;TZID=UTC:20250809T110000
DTEND;TZID=UTC:20250809T180000
DTSTAMP:20260421T101233
CREATED:20250724T130547Z
LAST-MODIFIED:20250724T130737Z
UID:1681-1754737200-1754762400@fantastische-welten-rostock.de
SUMMARY:Pokémon TCG Cup
DESCRIPTION:Anmeldungen ab 10.30 Uhr\, Beginn: 11.00 Uhr \nTeilnahme: 10\,00€
URL:https://fantastische-welten-rostock.de/event/275-2-2-2-2-2/
CATEGORIES:Pokémon
END:VEVENT
BEGIN:VEVENT
DTSTART;TZID=UTC:20250809T120000
DTEND;TZID=UTC:20250809T180000
DTSTAMP:20260421T101233
CREATED:20250724T131026Z
LAST-MODIFIED:20250724T131026Z
UID:1690-1754740800-1754762400@fantastische-welten-rostock.de
SUMMARY:One Piece Store Tournament
DESCRIPTION:Anmeldungen ab 11.30 Uhr\, Beginn: 12.00 Uhr\, Teilnahme: 5\,00 €
URL:https://fantastische-welten-rostock.de/event/one-piece-store-tournament-2-5-2-4-2-3-3-3-2-2/
CATEGORIES:One Piece
END:VEVENT
BEGIN:VEVENT
DTSTART;TZID=UTC:20250811T163000
DTEND;TZID=UTC:20250811T190000
DTSTAMP:20260421T101233
CREATED:20250724T133236Z
LAST-MODIFIED:20250724T133236Z
UID:1754-1754929800-1754938800@fantastische-welten-rostock.de
SUMMARY:Zeichner:innen-Treff
DESCRIPTION:Start 16.30 Uhr\, kostenlos \nJede Woche Montag gibt es ein zwangloses Treffen der Zeichner:innen.
URL:https://fantastische-welten-rostock.de/event/tabletop-hobby-treff-3-2-2-2-4-5-6-4-3-4-2-5-3/
END:VEVENT
BEGIN:VEVENT
DTSTART;TZID=UTC:20250812T170000
DTEND;TZID=UTC:20250812T190000
DTSTAMP:20260421T101233
CREATED:20250724T124730Z
LAST-MODIFIED:20250724T124730Z
UID:1634-1755018000-1755025200@fantastische-welten-rostock.de
SUMMARY:Yu-Gi-Oh! OTS Edison
DESCRIPTION:Anmeldungen ab 16.30 Uhr\, Beginn: 17.00 Uhr\, Teilnahme: 5\,00 €
URL:https://fantastische-welten-rostock.de/event/yu-gi-oh-ots-edison-2-2-3-5-4-5-2-2-2-2-2-5-3/
CATEGORIES:Yu-Gi-Oh!
END:VEVENT
BEGIN:VEVENT
DTSTART;TZID=UTC:20250812T170000
DTEND;TZID=UTC:20250812T190000
DTSTAMP:20260421T101233
CREATED:20250724T125439Z
LAST-MODIFIED:20250724T125439Z
UID:1648-1755018000-1755025200@fantastische-welten-rostock.de
SUMMARY:Magic Casual Multiplayer-Commander
DESCRIPTION:Anmeldungen ab 16.30 Uhr\, Beginn: 17.00 Uhr\, Teilnahme: 6\,00 €
URL:https://fantastische-welten-rostock.de/event/magic-commander-casual-2-2-2-4-5-5-2-2-2-2-5-3/
CATEGORIES:Magic
END:VEVENT
BEGIN:VEVENT
DTSTART;TZID=UTC:20250812T170000
DTEND;TZID=UTC:20250812T190000
DTSTAMP:20260421T101233
CREATED:20250724T131348Z
LAST-MODIFIED:20250724T131348Z
UID:1702-1755018000-1755025200@fantastische-welten-rostock.de
SUMMARY:Digimon Store Tournament
DESCRIPTION:Anmeldungen ab 16:30 Uhr\, Beginn: 17:00 Uhr\, Teilnahme: 5\,00 €
URL:https://fantastische-welten-rostock.de/event/store-tournament-4-2-2-5-5-5-3-2-4-6-4/
CATEGORIES:Digimon
END:VEVENT
BEGIN:VEVENT
DTSTART;TZID=UTC:20250813T150000
DTEND;TZID=UTC:20250813T190000
DTSTAMP:20260421T101233
CREATED:20250724T131937Z
LAST-MODIFIED:20250724T131937Z
UID:1715-1755097200-1755111600@fantastische-welten-rostock.de
SUMMARY:Lorcana Liga
DESCRIPTION:Beginn: 15.00 Uhr\, Teilnahme: kostenlos
URL:https://fantastische-welten-rostock.de/event/lorcana-ligaspiel-6-3-7-9-8-2-10-2-4-9-11-4/
CATEGORIES:Lorcana
END:VEVENT
BEGIN:VEVENT
DTSTART;TZID=UTC:20250813T163000
DTEND;TZID=UTC:20250813T190000
DTSTAMP:20260421T101233
CREATED:20250724T132722Z
LAST-MODIFIED:20250724T132722Z
UID:1740-1755102600-1755111600@fantastische-welten-rostock.de
SUMMARY:Flesh & Blood Armory Event
DESCRIPTION:Anmeldungen ab 16.00 Uhr\, Beginn: 16.30 Uhr\, Teilnahme: 10\,00 €
URL:https://fantastische-welten-rostock.de/event/flesh-blood-armory-event-3-2-4-5-5-6-3-5-6-3/
CATEGORIES:Flesh & Blood
END:VEVENT
BEGIN:VEVENT
DTSTART;TZID=UTC:20250814T150000
DTEND;TZID=UTC:20250814T190000
DTSTAMP:20260421T101233
CREATED:20250724T131956Z
LAST-MODIFIED:20250724T131956Z
UID:1716-1755183600-1755198000@fantastische-welten-rostock.de
SUMMARY:Lorcana Liga
DESCRIPTION:Beginn: 15.00 Uhr\, Teilnahme: kostenlos
URL:https://fantastische-welten-rostock.de/event/lorcana-ligaspiel-6-3-7-9-8-2-10-2-4-9-11-5/
CATEGORIES:Lorcana
END:VEVENT
BEGIN:VEVENT
DTSTART;TZID=UTC:20250814T160000
DTEND;TZID=UTC:20250814T190000
DTSTAMP:20260421T101233
CREATED:20250724T130048Z
LAST-MODIFIED:20250724T130048Z
UID:1666-1755187200-1755198000@fantastische-welten-rostock.de
SUMMARY:Pokémon Go Liga
DESCRIPTION:Anmeldungen ab 16.30 Uhr\, Beginn: 17.00 Uhr\, Teilnahme: 3\,00 €
URL:https://fantastische-welten-rostock.de/event/pokemon-go-2-6-2-2-2-2-6-3/
CATEGORIES:Pokémon
END:VEVENT
BEGIN:VEVENT
DTSTART;TZID=UTC:20250814T160000
DTEND;TZID=UTC:20250814T190000
DTSTAMP:20260421T101233
CREATED:20250724T134055Z
LAST-MODIFIED:20250724T134055Z
UID:1762-1755187200-1755198000@fantastische-welten-rostock.de
SUMMARY:Tabletop Hobby-Treff
DESCRIPTION:Start 16.00 Uhr\, kostenlos \nJede Woche Donnerstag wird nach vorheriger Absprache mit der Spielergemeinschaft Tabletop gespielt.\nFür einen ersten Eindruck kommt einfach vorbei\, schaut zu und besprecht bei Interesse\, wie ihr dabei sein könnt. 🙂
URL:https://fantastische-welten-rostock.de/event/tabletop-hobby-treff-3-2-2-5-4-5-5-3-2-3-2-5-3/
CATEGORIES:Tabletop
END:VEVENT
END:VCALENDAR