BEGIN:VCALENDAR
VERSION:2.0
PRODID:-// - ECPv6.15.20//NONSGML v1.0//EN
CALSCALE:GREGORIAN
METHOD:PUBLISH
X-ORIGINAL-URL:https://fantastische-welten-rostock.de
X-WR-CALDESC:Veranstaltungen für 
REFRESH-INTERVAL;VALUE=DURATION:PT1H
X-Robots-Tag:noindex
X-PUBLISHED-TTL:PT1H
BEGIN:VTIMEZONE
TZID:UTC
BEGIN:STANDARD
TZOFFSETFROM:+0000
TZOFFSETTO:+0000
TZNAME:UTC
DTSTART:20240101T000000
END:STANDARD
END:VTIMEZONE
BEGIN:VEVENT
DTSTART;TZID=UTC:20251101T120000
DTEND;TZID=UTC:20251101T180000
DTSTAMP:20260420T135842
CREATED:20250905T103749Z
LAST-MODIFIED:20251010T102808Z
UID:2009-1761998400-1762020000@fantastische-welten-rostock.de
SUMMARY:Riftbound Learn-to-play - constructed
DESCRIPTION:Anmeldungen ab 11:30 Uhr\, Beginn: 12:00 Uhr\, Teilnahme: 0\,00 €
URL:https://fantastische-welten-rostock.de/event/store-tournament-4-5-2-2-2-4-2-2-2/
CATEGORIES:Digimon
END:VEVENT
BEGIN:VEVENT
DTSTART;TZID=UTC:20251102T120000
DTEND;TZID=UTC:20251102T180000
DTSTAMP:20260420T135842
CREATED:20251020T133706Z
LAST-MODIFIED:20251029T122223Z
UID:2198-1762084800-1762106400@fantastische-welten-rostock.de
SUMMARY:Digimon Store Tournament
DESCRIPTION:
URL:https://fantastische-welten-rostock.de/event/store-tournament-4-2-2-5-5-5-3-2-4-6-6-5-5-2-4-2/
CATEGORIES:Digimon
END:VEVENT
BEGIN:VEVENT
DTSTART;TZID=UTC:20251104T170000
DTEND;TZID=UTC:20251104T190000
DTSTAMP:20260420T135842
CREATED:20251020T133454Z
LAST-MODIFIED:20251020T133454Z
UID:2190-1762275600-1762282800@fantastische-welten-rostock.de
SUMMARY:Digimon Store Tournament
DESCRIPTION:
URL:https://fantastische-welten-rostock.de/event/store-tournament-4-2-2-5-5-5-3-2-4-6-6-5-5-2/
CATEGORIES:Digimon
END:VEVENT
BEGIN:VEVENT
DTSTART;TZID=UTC:20251111T170000
DTEND;TZID=UTC:20251111T190000
DTSTAMP:20260420T135842
CREATED:20251020T133530Z
LAST-MODIFIED:20251020T133530Z
UID:2192-1762880400-1762887600@fantastische-welten-rostock.de
SUMMARY:Digimon Store Tournament
DESCRIPTION:
URL:https://fantastische-welten-rostock.de/event/store-tournament-4-2-2-5-5-5-3-2-4-6-6-5-5-2-2/
CATEGORIES:Digimon
END:VEVENT
BEGIN:VEVENT
DTSTART;TZID=UTC:20251118T170000
DTEND;TZID=UTC:20251118T190000
DTSTAMP:20260420T135842
CREATED:20251020T133552Z
LAST-MODIFIED:20251020T133552Z
UID:2193-1763485200-1763492400@fantastische-welten-rostock.de
SUMMARY:Digimon Store Tournament
DESCRIPTION:
URL:https://fantastische-welten-rostock.de/event/store-tournament-4-2-2-5-5-5-3-2-4-6-6-5-5-2-3/
CATEGORIES:Digimon
END:VEVENT
BEGIN:VEVENT
DTSTART;TZID=UTC:20251125T170000
DTEND;TZID=UTC:20251125T190000
DTSTAMP:20260420T135842
CREATED:20251020T133611Z
LAST-MODIFIED:20251020T133611Z
UID:2194-1764090000-1764097200@fantastische-welten-rostock.de
SUMMARY:Digimon Store Tournament
DESCRIPTION:
URL:https://fantastische-welten-rostock.de/event/store-tournament-4-2-2-5-5-5-3-2-4-6-6-5-5-2-4/
CATEGORIES:Digimon
END:VEVENT
END:VCALENDAR