BEGIN:VCALENDAR
VERSION:2.0
PRODID:-// - ECPv6.15.20//NONSGML v1.0//EN
CALSCALE:GREGORIAN
METHOD:PUBLISH
X-ORIGINAL-URL:https://fantastische-welten-rostock.de
X-WR-CALDESC:Veranstaltungen für 
REFRESH-INTERVAL;VALUE=DURATION:PT1H
X-Robots-Tag:noindex
X-PUBLISHED-TTL:PT1H
BEGIN:VTIMEZONE
TZID:UTC
BEGIN:STANDARD
TZOFFSETFROM:+0000
TZOFFSETTO:+0000
TZNAME:UTC
DTSTART:20240101T000000
END:STANDARD
END:VTIMEZONE
BEGIN:VEVENT
DTSTART;TZID=UTC:20250102T150000
DTEND;TZID=UTC:20250102T190000
DTSTAMP:20260422T181732
CREATED:20241217T182743Z
LAST-MODIFIED:20241217T184822Z
UID:377-1735830000-1735844400@fantastische-welten-rostock.de
SUMMARY:Lorcana Liga
DESCRIPTION:Beginn: 15.00 Uhr\, Teilnahme: kostenlos
URL:https://fantastische-welten-rostock.de/event/lorcana-ligaspiel-6-4/
LOCATION:Fantastische Welten\, Kistenmacherstr. 17\, Rostock\, Mecklenburg-Vorpommern\, 18055\, Germany
CATEGORIES:Lorcana
ORGANIZER;CN="Fantastische Welten":MAILTO:Sven-adam@fantastische-welten-rostock.de
END:VEVENT
BEGIN:VEVENT
DTSTART;TZID=UTC:20250108T150000
DTEND;TZID=UTC:20250108T190000
DTSTAMP:20260422T181732
CREATED:20241217T182950Z
LAST-MODIFIED:20241217T184804Z
UID:380-1736348400-1736362800@fantastische-welten-rostock.de
SUMMARY:Lorcana Liga
DESCRIPTION:Beginn: 15.00 Uhr\, Teilnahme: kostenlos
URL:https://fantastische-welten-rostock.de/event/lorcana-ligaspiel-6-2/
LOCATION:Fantastische Welten\, Kistenmacherstr. 17\, Rostock\, Mecklenburg-Vorpommern\, 18055\, Germany
CATEGORIES:Lorcana
ORGANIZER;CN="Fantastische Welten":MAILTO:Sven-adam@fantastische-welten-rostock.de
END:VEVENT
BEGIN:VEVENT
DTSTART;TZID=UTC:20250109T150000
DTEND;TZID=UTC:20250109T190000
DTSTAMP:20260422T181732
CREATED:20241217T183107Z
LAST-MODIFIED:20241217T184746Z
UID:381-1736434800-1736449200@fantastische-welten-rostock.de
SUMMARY:Lorcana Liga
DESCRIPTION:Beginn: 15.00 Uhr\, Teilnahme: kostenlos
URL:https://fantastische-welten-rostock.de/event/lorcana-ligaspiel-6-3/
LOCATION:Fantastische Welten\, Kistenmacherstr. 17\, Rostock\, Mecklenburg-Vorpommern\, 18055\, Germany
CATEGORIES:Lorcana
ORGANIZER;CN="Fantastische Welten":MAILTO:Sven-adam@fantastische-welten-rostock.de
END:VEVENT
BEGIN:VEVENT
DTSTART;TZID=UTC:20250115T150000
DTEND;TZID=UTC:20250115T190000
DTSTAMP:20260422T181732
CREATED:20241217T192710Z
LAST-MODIFIED:20241217T192710Z
UID:415-1736953200-1736967600@fantastische-welten-rostock.de
SUMMARY:Lorcana Liga
DESCRIPTION:Beginn: 15.00 Uhr\, Teilnahme: kostenlos
URL:https://fantastische-welten-rostock.de/event/lorcana-ligaspiel-6-3-2/
LOCATION:Fantastische Welten\, Kistenmacherstr. 17\, Rostock\, Mecklenburg-Vorpommern\, 18055\, Germany
CATEGORIES:Lorcana
ORGANIZER;CN="Fantastische Welten":MAILTO:Sven-adam@fantastische-welten-rostock.de
END:VEVENT
BEGIN:VEVENT
DTSTART;TZID=UTC:20250116T150000
DTEND;TZID=UTC:20250116T190000
DTSTAMP:20260422T181732
CREATED:20241217T192812Z
LAST-MODIFIED:20241217T192812Z
UID:416-1737039600-1737054000@fantastische-welten-rostock.de
SUMMARY:Lorcana Liga
DESCRIPTION:Beginn: 15.00 Uhr\, Teilnahme: kostenlos
URL:https://fantastische-welten-rostock.de/event/lorcana-ligaspiel-6-3-3/
LOCATION:Fantastische Welten\, Kistenmacherstr. 17\, Rostock\, Mecklenburg-Vorpommern\, 18055\, Germany
CATEGORIES:Lorcana
ORGANIZER;CN="Fantastische Welten":MAILTO:Sven-adam@fantastische-welten-rostock.de
END:VEVENT
BEGIN:VEVENT
DTSTART;TZID=UTC:20250118T110000
DTEND;TZID=UTC:20250118T153000
DTSTAMP:20260422T181732
CREATED:20241218T165643Z
LAST-MODIFIED:20241218T165643Z
UID:516-1737198000-1737214200@fantastische-welten-rostock.de
SUMMARY:Lorcana Local
DESCRIPTION:Anmeldungen ab 10.30 Uhr\, Beginn: 11.00 Uhr\, Teilnahme: 10\,00 € \nJeder Teilnehmer bekommt ein Teilnahmebooster und ein Booster geht in den Preispool.
URL:https://fantastische-welten-rostock.de/event/lorcana-localturnier-2/
LOCATION:Fantastische Welten\, Kistenmacherstr. 17\, Rostock\, Mecklenburg-Vorpommern\, 18055\, Germany
CATEGORIES:Lorcana
ORGANIZER;CN="Fantastische Welten":MAILTO:Sven-adam@fantastische-welten-rostock.de
END:VEVENT
BEGIN:VEVENT
DTSTART;TZID=UTC:20250122T150000
DTEND;TZID=UTC:20250122T190000
DTSTAMP:20260422T181732
CREATED:20241217T192908Z
LAST-MODIFIED:20241217T192908Z
UID:417-1737558000-1737572400@fantastische-welten-rostock.de
SUMMARY:Lorcana Liga
DESCRIPTION:Beginn: 15.00 Uhr\, Teilnahme: kostenlos
URL:https://fantastische-welten-rostock.de/event/lorcana-ligaspiel-6-3-4/
LOCATION:Fantastische Welten\, Kistenmacherstr. 17\, Rostock\, Mecklenburg-Vorpommern\, 18055\, Germany
CATEGORIES:Lorcana
ORGANIZER;CN="Fantastische Welten":MAILTO:Sven-adam@fantastische-welten-rostock.de
END:VEVENT
BEGIN:VEVENT
DTSTART;TZID=UTC:20250123T150000
DTEND;TZID=UTC:20250123T190000
DTSTAMP:20260422T181732
CREATED:20241217T192956Z
LAST-MODIFIED:20241217T193052Z
UID:418-1737644400-1737658800@fantastische-welten-rostock.de
SUMMARY:Lorcana Liga
DESCRIPTION:Beginn: 15.00 Uhr\, Teilnahme: kostenlos
URL:https://fantastische-welten-rostock.de/event/lorcana-ligaspiel-6-3-5/
LOCATION:Fantastische Welten\, Kistenmacherstr. 17\, Rostock\, Mecklenburg-Vorpommern\, 18055\, Germany
CATEGORIES:Lorcana
ORGANIZER;CN="Fantastische Welten":MAILTO:Sven-adam@fantastische-welten-rostock.de
END:VEVENT
BEGIN:VEVENT
DTSTART;TZID=UTC:20250125T110000
DTEND;TZID=UTC:20250125T170000
DTSTAMP:20260422T181732
CREATED:20241218T172928Z
LAST-MODIFIED:20250124T192219Z
UID:533-1737802800-1737824400@fantastische-welten-rostock.de
SUMMARY:Lorcana Setmeisterschaft Azurblaues Meer
DESCRIPTION:Anmeldungen ab 10.30 Uhr\, Beginn: 11.00 Uhr\, Teilnahme: 15\,00 € \nJeder Teilnehmer bekommt ein Teilnahmebooster und zwei Booster gehen in den Preispool.
URL:https://fantastische-welten-rostock.de/event/lorcana-localturnier-2-2/
LOCATION:Fantastische Welten\, Kistenmacherstr. 17\, Rostock\, Mecklenburg-Vorpommern\, 18055\, Germany
CATEGORIES:Lorcana
ORGANIZER;CN="Fantastische Welten":MAILTO:Sven-adam@fantastische-welten-rostock.de
END:VEVENT
BEGIN:VEVENT
DTSTART;TZID=UTC:20250129T150000
DTEND;TZID=UTC:20250129T190000
DTSTAMP:20260422T181732
CREATED:20241217T193206Z
LAST-MODIFIED:20241217T193206Z
UID:419-1738162800-1738177200@fantastische-welten-rostock.de
SUMMARY:Lorcana Liga
DESCRIPTION:Beginn: 15.00 Uhr\, Teilnahme: kostenlos
URL:https://fantastische-welten-rostock.de/event/lorcana-ligaspiel-6-3-6/
LOCATION:Fantastische Welten\, Kistenmacherstr. 17\, Rostock\, Mecklenburg-Vorpommern\, 18055\, Germany
CATEGORIES:Lorcana
ORGANIZER;CN="Fantastische Welten":MAILTO:Sven-adam@fantastische-welten-rostock.de
END:VEVENT
BEGIN:VEVENT
DTSTART;TZID=UTC:20250130T150000
DTEND;TZID=UTC:20250130T190000
DTSTAMP:20260422T181732
CREATED:20241217T193253Z
LAST-MODIFIED:20241217T193253Z
UID:420-1738249200-1738263600@fantastische-welten-rostock.de
SUMMARY:Lorcana Liga
DESCRIPTION:Beginn: 15.00 Uhr\, Teilnahme: kostenlos
URL:https://fantastische-welten-rostock.de/event/lorcana-ligaspiel-6-3-7/
LOCATION:Fantastische Welten\, Kistenmacherstr. 17\, Rostock\, Mecklenburg-Vorpommern\, 18055\, Germany
CATEGORIES:Lorcana
ORGANIZER;CN="Fantastische Welten":MAILTO:Sven-adam@fantastische-welten-rostock.de
END:VEVENT
END:VCALENDAR