BEGIN:VCALENDAR
VERSION:2.0
PRODID:-// - ECPv6.15.20//NONSGML v1.0//EN
CALSCALE:GREGORIAN
METHOD:PUBLISH
X-ORIGINAL-URL:https://fantastische-welten-rostock.de
X-WR-CALDESC:Veranstaltungen für 
REFRESH-INTERVAL;VALUE=DURATION:PT1H
X-Robots-Tag:noindex
X-PUBLISHED-TTL:PT1H
BEGIN:VTIMEZONE
TZID:UTC
BEGIN:STANDARD
TZOFFSETFROM:+0000
TZOFFSETTO:+0000
TZNAME:UTC
DTSTART:20240101T000000
END:STANDARD
END:VTIMEZONE
BEGIN:VEVENT
DTSTART;TZID=UTC:20250806T150000
DTEND;TZID=UTC:20250806T190000
DTSTAMP:20260420T105539
CREATED:20250724T131900Z
LAST-MODIFIED:20250724T131900Z
UID:1713-1754492400-1754506800@fantastische-welten-rostock.de
SUMMARY:Lorcana Liga
DESCRIPTION:Beginn: 15.00 Uhr\, Teilnahme: kostenlos
URL:https://fantastische-welten-rostock.de/event/lorcana-ligaspiel-6-3-7-9-8-2-10-2-4-9-11-2/
CATEGORIES:Lorcana
END:VEVENT
BEGIN:VEVENT
DTSTART;TZID=UTC:20250807T150000
DTEND;TZID=UTC:20250807T190000
DTSTAMP:20260420T105539
CREATED:20250724T131919Z
LAST-MODIFIED:20250724T131919Z
UID:1714-1754578800-1754593200@fantastische-welten-rostock.de
SUMMARY:Lorcana Liga
DESCRIPTION:Beginn: 15.00 Uhr\, Teilnahme: kostenlos
URL:https://fantastische-welten-rostock.de/event/lorcana-ligaspiel-6-3-7-9-8-2-10-2-4-9-11-3/
CATEGORIES:Lorcana
END:VEVENT
BEGIN:VEVENT
DTSTART;TZID=UTC:20250813T150000
DTEND;TZID=UTC:20250813T190000
DTSTAMP:20260420T105539
CREATED:20250724T131937Z
LAST-MODIFIED:20250724T131937Z
UID:1715-1755097200-1755111600@fantastische-welten-rostock.de
SUMMARY:Lorcana Liga
DESCRIPTION:Beginn: 15.00 Uhr\, Teilnahme: kostenlos
URL:https://fantastische-welten-rostock.de/event/lorcana-ligaspiel-6-3-7-9-8-2-10-2-4-9-11-4/
CATEGORIES:Lorcana
END:VEVENT
BEGIN:VEVENT
DTSTART;TZID=UTC:20250814T150000
DTEND;TZID=UTC:20250814T190000
DTSTAMP:20260420T105539
CREATED:20250724T131956Z
LAST-MODIFIED:20250724T131956Z
UID:1716-1755183600-1755198000@fantastische-welten-rostock.de
SUMMARY:Lorcana Liga
DESCRIPTION:Beginn: 15.00 Uhr\, Teilnahme: kostenlos
URL:https://fantastische-welten-rostock.de/event/lorcana-ligaspiel-6-3-7-9-8-2-10-2-4-9-11-5/
CATEGORIES:Lorcana
END:VEVENT
BEGIN:VEVENT
DTSTART;TZID=UTC:20250820T150000
DTEND;TZID=UTC:20250820T190000
DTSTAMP:20260420T105539
CREATED:20250724T132015Z
LAST-MODIFIED:20250724T132015Z
UID:1717-1755702000-1755716400@fantastische-welten-rostock.de
SUMMARY:Lorcana Liga
DESCRIPTION:Beginn: 15.00 Uhr\, Teilnahme: kostenlos
URL:https://fantastische-welten-rostock.de/event/lorcana-ligaspiel-6-3-7-9-8-2-10-2-4-9-11-6/
CATEGORIES:Lorcana
END:VEVENT
BEGIN:VEVENT
DTSTART;TZID=UTC:20250821T150000
DTEND;TZID=UTC:20250821T190000
DTSTAMP:20260420T105539
CREATED:20250724T132031Z
LAST-MODIFIED:20250724T132031Z
UID:1718-1755788400-1755802800@fantastische-welten-rostock.de
SUMMARY:Lorcana Liga
DESCRIPTION:Beginn: 15.00 Uhr\, Teilnahme: kostenlos
URL:https://fantastische-welten-rostock.de/event/lorcana-ligaspiel-6-3-7-9-8-2-10-2-4-9-11-7/
CATEGORIES:Lorcana
END:VEVENT
BEGIN:VEVENT
DTSTART;TZID=UTC:20250823T110000
DTEND;TZID=UTC:20250823T180000
DTSTAMP:20260420T105539
CREATED:20250724T131800Z
LAST-MODIFIED:20250724T131800Z
UID:1711-1755946800-1755972000@fantastische-welten-rostock.de
SUMMARY:Lorcana Store Tournament
DESCRIPTION:Anmeldungen ab 10.30\, Beginn: 11.00 Uhr\, Teilnahme: 10\,00 € \nJeder Teilnehmer bekommt ein Teilnahmebooster und ein Booster geht in den Preispool.
URL:https://fantastische-welten-rostock.de/event/lorcana-ligaspiel-6-3-7-9-9-2-2-2/
CATEGORIES:Lorcana
END:VEVENT
BEGIN:VEVENT
DTSTART;TZID=UTC:20250827T150000
DTEND;TZID=UTC:20250827T190000
DTSTAMP:20260420T105539
CREATED:20250724T132047Z
LAST-MODIFIED:20250724T132056Z
UID:1719-1756306800-1756321200@fantastische-welten-rostock.de
SUMMARY:Lorcana Liga
DESCRIPTION:Beginn: 15.00 Uhr\, Teilnahme: kostenlos
URL:https://fantastische-welten-rostock.de/event/lorcana-ligaspiel-6-3-7-9-8-2-10-2-4-9-11-8/
CATEGORIES:Lorcana
END:VEVENT
BEGIN:VEVENT
DTSTART;TZID=UTC:20250828T150000
DTEND;TZID=UTC:20250828T190000
DTSTAMP:20260420T105539
CREATED:20250724T132115Z
LAST-MODIFIED:20250724T132115Z
UID:1720-1756393200-1756407600@fantastische-welten-rostock.de
SUMMARY:Lorcana Liga
DESCRIPTION:Beginn: 15.00 Uhr\, Teilnahme: kostenlos
URL:https://fantastische-welten-rostock.de/event/lorcana-ligaspiel-6-3-7-9-8-2-10-2-4-9-11-9/
CATEGORIES:Lorcana
END:VEVENT
BEGIN:VEVENT
DTSTART;TZID=UTC:20250830T103000
DTEND;TZID=UTC:20250830T180000
DTSTAMP:20260420T105539
CREATED:20250728T112611Z
LAST-MODIFIED:20250728T112611Z
UID:1797-1756549800-1756576800@fantastische-welten-rostock.de
SUMMARY:Lorcana Prerelease Mythen - sealed
DESCRIPTION:Anmeldungen ab 10.00 Uhr\, Beginn: 10.30 Uhr\, Teilnahme: 40\,00 € \n  \nJeder Teilnehmer bekommt 6 Booster zum Deckbau\, 2 weitere Booster gehen in den Preispool.
URL:https://fantastische-welten-rostock.de/event/magic-commander-casual-2-2-2-5-3-2-4-2/
CATEGORIES:Lorcana
END:VEVENT
END:VCALENDAR