BEGIN:VCALENDAR
VERSION:2.0
PRODID:-// - ECPv6.15.20//NONSGML v1.0//EN
CALSCALE:GREGORIAN
METHOD:PUBLISH
X-ORIGINAL-URL:https://fantastische-welten-rostock.de
X-WR-CALDESC:Veranstaltungen für 
REFRESH-INTERVAL;VALUE=DURATION:PT1H
X-Robots-Tag:noindex
X-PUBLISHED-TTL:PT1H
BEGIN:VTIMEZONE
TZID:UTC
BEGIN:STANDARD
TZOFFSETFROM:+0000
TZOFFSETTO:+0000
TZNAME:UTC
DTSTART:20240101T000000
END:STANDARD
END:VTIMEZONE
BEGIN:VEVENT
DTSTART;TZID=UTC:20250903T170000
DTEND;TZID=UTC:20250903T190000
DTSTAMP:20260422T090314
CREATED:20250819T121255Z
LAST-MODIFIED:20250819T121255Z
UID:1911-1756918800-1756926000@fantastische-welten-rostock.de
SUMMARY:Lorcana Liga
DESCRIPTION:Beginn: 15.00 Uhr\, Teilnahme: kostenlos
URL:https://fantastische-welten-rostock.de/event/lorcana-ligaspiel-6-3-7-9-8-2-10-2-4-9-11-8-2/
CATEGORIES:Lorcana
END:VEVENT
BEGIN:VEVENT
DTSTART;TZID=UTC:20250904T150000
DTEND;TZID=UTC:20250904T190000
DTSTAMP:20260422T090314
CREATED:20250819T121429Z
LAST-MODIFIED:20250819T121429Z
UID:1915-1756998000-1757012400@fantastische-welten-rostock.de
SUMMARY:Lorcana Liga
DESCRIPTION:Beginn: 15.00 Uhr\, Teilnahme: kostenlos
URL:https://fantastische-welten-rostock.de/event/lorcana-ligaspiel-6-3-7-9-8-2-10-2-4-9-11-9-2/
CATEGORIES:Lorcana
END:VEVENT
BEGIN:VEVENT
DTSTART;TZID=UTC:20250910T170000
DTEND;TZID=UTC:20250910T190000
DTSTAMP:20260422T090314
CREATED:20250819T121315Z
LAST-MODIFIED:20250819T121315Z
UID:1912-1757523600-1757530800@fantastische-welten-rostock.de
SUMMARY:Lorcana Liga
DESCRIPTION:Beginn: 15.00 Uhr\, Teilnahme: kostenlos
URL:https://fantastische-welten-rostock.de/event/lorcana-ligaspiel-6-3-7-9-8-2-10-2-4-9-11-8-3/
CATEGORIES:Lorcana
END:VEVENT
BEGIN:VEVENT
DTSTART;TZID=UTC:20250911T150000
DTEND;TZID=UTC:20250911T190000
DTSTAMP:20260422T090314
CREATED:20250819T121448Z
LAST-MODIFIED:20250819T121448Z
UID:1916-1757602800-1757617200@fantastische-welten-rostock.de
SUMMARY:Lorcana Liga
DESCRIPTION:Beginn: 15.00 Uhr\, Teilnahme: kostenlos
URL:https://fantastische-welten-rostock.de/event/lorcana-ligaspiel-6-3-7-9-8-2-10-2-4-9-11-9-3/
CATEGORIES:Lorcana
END:VEVENT
BEGIN:VEVENT
DTSTART;TZID=UTC:20250917T170000
DTEND;TZID=UTC:20250917T190000
DTSTAMP:20260422T090314
CREATED:20250819T121336Z
LAST-MODIFIED:20250819T121336Z
UID:1913-1758128400-1758135600@fantastische-welten-rostock.de
SUMMARY:Lorcana Liga
DESCRIPTION:Beginn: 15.00 Uhr\, Teilnahme: kostenlos
URL:https://fantastische-welten-rostock.de/event/lorcana-ligaspiel-6-3-7-9-8-2-10-2-4-9-11-8-4/
CATEGORIES:Lorcana
END:VEVENT
BEGIN:VEVENT
DTSTART;TZID=UTC:20250918T150000
DTEND;TZID=UTC:20250918T190000
DTSTAMP:20260422T090314
CREATED:20250819T121506Z
LAST-MODIFIED:20250819T121506Z
UID:1917-1758207600-1758222000@fantastische-welten-rostock.de
SUMMARY:Lorcana Liga
DESCRIPTION:Beginn: 15.00 Uhr\, Teilnahme: kostenlos
URL:https://fantastische-welten-rostock.de/event/lorcana-ligaspiel-6-3-7-9-8-2-10-2-4-9-11-9-4/
CATEGORIES:Lorcana
END:VEVENT
BEGIN:VEVENT
DTSTART;TZID=UTC:20250921T110000
DTEND;TZID=UTC:20250921T180000
DTSTAMP:20260422T090314
CREATED:20250819T121647Z
LAST-MODIFIED:20250902T110957Z
UID:1927-1758452400-1758477600@fantastische-welten-rostock.de
SUMMARY:Lorcana Store Tournament
DESCRIPTION:Anmeldungen ab 10.30\, Beginn: 11.00 Uhr\, Teilnahme: 10\,00 € \nJeder Teilnehmer bekommt ein Teilnahmebooster und ein Booster geht in den Preispool.
URL:https://fantastische-welten-rostock.de/event/lorcana-ligaspiel-6-3-7-9-9-2-2-2-2/
CATEGORIES:Lorcana
END:VEVENT
BEGIN:VEVENT
DTSTART;TZID=UTC:20250924T150000
DTEND;TZID=UTC:20250924T190000
DTSTAMP:20260422T090314
CREATED:20250819T121406Z
LAST-MODIFIED:20250819T121406Z
UID:1914-1758726000-1758740400@fantastische-welten-rostock.de
SUMMARY:Lorcana Liga
DESCRIPTION:Beginn: 15.00 Uhr\, Teilnahme: kostenlos
URL:https://fantastische-welten-rostock.de/event/lorcana-ligaspiel-6-3-7-9-8-2-10-2-4-9-11-8-5/
CATEGORIES:Lorcana
END:VEVENT
BEGIN:VEVENT
DTSTART;TZID=UTC:20250925T150000
DTEND;TZID=UTC:20250925T190000
DTSTAMP:20260422T090314
CREATED:20250819T121524Z
LAST-MODIFIED:20250819T121524Z
UID:1918-1758812400-1758826800@fantastische-welten-rostock.de
SUMMARY:Lorcana Liga
DESCRIPTION:Beginn: 15.00 Uhr\, Teilnahme: kostenlos
URL:https://fantastische-welten-rostock.de/event/lorcana-ligaspiel-6-3-7-9-8-2-10-2-4-9-11-9-5/
CATEGORIES:Lorcana
END:VEVENT
END:VCALENDAR