BEGIN:VCALENDAR
VERSION:2.0
PRODID:-// - ECPv6.15.20//NONSGML v1.0//EN
CALSCALE:GREGORIAN
METHOD:PUBLISH
X-ORIGINAL-URL:https://fantastische-welten-rostock.de
X-WR-CALDESC:Veranstaltungen für 
REFRESH-INTERVAL;VALUE=DURATION:PT1H
X-Robots-Tag:noindex
X-PUBLISHED-TTL:PT1H
BEGIN:VTIMEZONE
TZID:UTC
BEGIN:STANDARD
TZOFFSETFROM:+0000
TZOFFSETTO:+0000
TZNAME:UTC
DTSTART:20240101T000000
END:STANDARD
END:VTIMEZONE
BEGIN:VEVENT
DTSTART;TZID=UTC:20251004T113000
DTEND;TZID=UTC:20251004T180000
DTSTAMP:20260422T120937
CREATED:20250917T132741Z
LAST-MODIFIED:20250917T132741Z
UID:2057-1759577400-1759600800@fantastische-welten-rostock.de
SUMMARY:Bluthelden Release-Event Origins
DESCRIPTION:Anmeldungen ab 11.00 Uhr\, Beginn: 11.30 Uhr\, Teilnahme: 30\,00 € \nJeder Teilnehmer bekommt 5 Booster zum Deckbau\, 2 weitere Booster gehen in den Preispool.
URL:https://fantastische-welten-rostock.de/event/magic-commander-casual-2-2-4-2-2-2-2-2-2-2-2-2-2/
CATEGORIES:Magic
END:VEVENT
BEGIN:VEVENT
DTSTART;TZID=UTC:20251007T170000
DTEND;TZID=UTC:20251007T190000
DTSTAMP:20260422T120937
CREATED:20250819T112500Z
LAST-MODIFIED:20250819T112500Z
UID:1909-1759856400-1759863600@fantastische-welten-rostock.de
SUMMARY:Magic Casual Multiplayer-Commander Party (mit Promo)
DESCRIPTION:Anmeldungen ab 16.30 Uhr\, Beginn: 17.00 Uhr\, Teilnahme: 6\,00 €
URL:https://fantastische-welten-rostock.de/event/magic-commander-casual-2-2-2-4-4-2-2-2-2-2-2/
CATEGORIES:Magic
END:VEVENT
BEGIN:VEVENT
DTSTART;TZID=UTC:20251008T160000
DTEND;TZID=UTC:20251008T190000
DTSTAMP:20260422T120937
CREATED:20250926T142008Z
LAST-MODIFIED:20250926T142008Z
UID:2156-1759939200-1759950000@fantastische-welten-rostock.de
SUMMARY:Bluthelden Store Tournament
DESCRIPTION:Anmeldungen ab 15.30 Uhr\, Beginn: 16.00 Uhr\, Teilnahme: 5\,00 €
URL:https://fantastische-welten-rostock.de/event/magic-commander-casual-2-2-4-2-2-2-2-2-2-2-2-2-2-2/
CATEGORIES:Magic
END:VEVENT
BEGIN:VEVENT
DTSTART;TZID=UTC:20251010T170000
DTEND;TZID=UTC:20251010T190000
DTSTAMP:20260422T120937
CREATED:20250917T132101Z
LAST-MODIFIED:20251010T112906Z
UID:2046-1760115600-1760122800@fantastische-welten-rostock.de
SUMMARY:Magic FNM Pioneer
DESCRIPTION:
URL:https://fantastische-welten-rostock.de/event/magic-fnm-pioneer-3/
CATEGORIES:Magic
END:VEVENT
BEGIN:VEVENT
DTSTART;TZID=UTC:20251014T170000
DTEND;TZID=UTC:20251014T190000
DTSTAMP:20260422T120937
CREATED:20250917T132350Z
LAST-MODIFIED:20250917T132350Z
UID:2049-1760461200-1760468400@fantastische-welten-rostock.de
SUMMARY:Magic Casual Multiplayer-Commander
DESCRIPTION:Anmeldungen ab 16.30 Uhr\, Beginn: 17.00 Uhr\, Teilnahme: 6\,00 €
URL:https://fantastische-welten-rostock.de/event/magic-commander-casual-2-2-2-4-5-5-2-2-2-2-5-3-4-2/
CATEGORIES:Magic
END:VEVENT
BEGIN:VEVENT
DTSTART;TZID=UTC:20251018T113000
DTEND;TZID=UTC:20251018T180000
DTSTAMP:20260422T120937
CREATED:20250917T132535Z
LAST-MODIFIED:20250917T132535Z
UID:2055-1760787000-1760810400@fantastische-welten-rostock.de
SUMMARY:Magic Casual Multiplayer-Commander
DESCRIPTION:Anmeldungen ab 11.00 Uhr\, Beginn: 11.30 Uhr\, Teilnahme: 6\,00 €
URL:https://fantastische-welten-rostock.de/event/magic-commander-casual-2-2-4-2-2-2-2-2-2-2-2-2/
CATEGORIES:Magic
END:VEVENT
BEGIN:VEVENT
DTSTART;TZID=UTC:20251021T170000
DTEND;TZID=UTC:20251021T190000
DTSTAMP:20260422T120937
CREATED:20250917T132412Z
LAST-MODIFIED:20250917T132412Z
UID:2050-1761066000-1761073200@fantastische-welten-rostock.de
SUMMARY:Magic Casual Multiplayer-Commander
DESCRIPTION:Anmeldungen ab 16.30 Uhr\, Beginn: 17.00 Uhr\, Teilnahme: 6\,00 €
URL:https://fantastische-welten-rostock.de/event/magic-commander-casual-2-2-2-4-5-5-2-2-2-2-5-3-4-3/
CATEGORIES:Magic
END:VEVENT
BEGIN:VEVENT
DTSTART;TZID=UTC:20251022T160000
DTEND;TZID=UTC:20251022T190000
DTSTAMP:20260422T120937
CREATED:20250926T142101Z
LAST-MODIFIED:20250926T142101Z
UID:2158-1761148800-1761159600@fantastische-welten-rostock.de
SUMMARY:Bluthelden Store Tournament
DESCRIPTION:Anmeldungen ab 15.30 Uhr\, Beginn: 16.00 Uhr\, Teilnahme: 5\,00 €
URL:https://fantastische-welten-rostock.de/event/bluthelden/
CATEGORIES:Magic
END:VEVENT
BEGIN:VEVENT
DTSTART;TZID=UTC:20251028T170000
DTEND;TZID=UTC:20251028T190000
DTSTAMP:20260422T120937
CREATED:20250917T132443Z
LAST-MODIFIED:20250917T132443Z
UID:2051-1761670800-1761678000@fantastische-welten-rostock.de
SUMMARY:Magic Casual Multiplayer-Commander
DESCRIPTION:Anmeldungen ab 16.30 Uhr\, Beginn: 17.00 Uhr\, Teilnahme: 6\,00 €
URL:https://fantastische-welten-rostock.de/event/magic-commander-casual-2-2-2-4-5-5-2-2-2-2-5-3-4-4/
CATEGORIES:Magic
END:VEVENT
END:VCALENDAR