BEGIN:VCALENDAR
VERSION:2.0
PRODID:-// - ECPv6.15.20//NONSGML v1.0//EN
CALSCALE:GREGORIAN
METHOD:PUBLISH
X-ORIGINAL-URL:https://fantastische-welten-rostock.de
X-WR-CALDESC:Veranstaltungen für 
REFRESH-INTERVAL;VALUE=DURATION:PT1H
X-Robots-Tag:noindex
X-PUBLISHED-TTL:PT1H
BEGIN:VTIMEZONE
TZID:UTC
BEGIN:STANDARD
TZOFFSETFROM:+0000
TZOFFSETTO:+0000
TZNAME:UTC
DTSTART:20240101T000000
END:STANDARD
END:VTIMEZONE
BEGIN:VEVENT
DTSTART;TZID=UTC:20251104T170000
DTEND;TZID=UTC:20251104T190000
DTSTAMP:20260422T104027
CREATED:20251020T133942Z
LAST-MODIFIED:20251020T133949Z
UID:2200-1762275600-1762282800@fantastische-welten-rostock.de
SUMMARY:Magic Casual Multiplayer-Commander
DESCRIPTION:
URL:https://fantastische-welten-rostock.de/event/magic-commander-casual-2-2-4-2-2-2-2-2-2-2-2-2-3/
CATEGORIES:Magic
END:VEVENT
BEGIN:VEVENT
DTSTART;TZID=UTC:20251105T160000
DTEND;TZID=UTC:20251105T190000
DTSTAMP:20260422T104027
CREATED:20251020T141219Z
LAST-MODIFIED:20251020T141219Z
UID:2233-1762358400-1762369200@fantastische-welten-rostock.de
SUMMARY:Bluthelden Store Tournament
DESCRIPTION:
URL:https://fantastische-welten-rostock.de/event/bluthelden-2/
CATEGORIES:Magic
END:VEVENT
BEGIN:VEVENT
DTSTART;TZID=UTC:20251107T170000
DTEND;TZID=UTC:20251107T190000
DTSTAMP:20260422T104027
CREATED:20251020T144538Z
LAST-MODIFIED:20251020T144538Z
UID:2311-1762534800-1762542000@fantastische-welten-rostock.de
SUMMARY:Magic FNM Pioneer
DESCRIPTION:Proxies sind erlaubt.
URL:https://fantastische-welten-rostock.de/event/magic-fnm-pioneer-3-2/
CATEGORIES:Magic
END:VEVENT
BEGIN:VEVENT
DTSTART;TZID=UTC:20251108T113000
DTEND;TZID=UTC:20251108T180000
DTSTAMP:20260422T104027
CREATED:20251020T145829Z
LAST-MODIFIED:20251021T111726Z
UID:2327-1762601400-1762624800@fantastische-welten-rostock.de
SUMMARY:Magic Marvel's Spider-Man Final Battle
DESCRIPTION:
URL:https://fantastische-welten-rostock.de/event/magic-draft-foundations-3-3-2-2-4/
CATEGORIES:Magic
END:VEVENT
BEGIN:VEVENT
DTSTART;TZID=UTC:20251111T170000
DTEND;TZID=UTC:20251111T190000
DTSTAMP:20260422T104027
CREATED:20251020T134045Z
LAST-MODIFIED:20251021T111550Z
UID:2204-1762880400-1762887600@fantastische-welten-rostock.de
SUMMARY:Magic Casual Multiplayer-Commander Party (mit Promo)
DESCRIPTION:
URL:https://fantastische-welten-rostock.de/event/magic-commander-casual-2-2-4-2-2-2-2-2-2-2-2-2-3-2/
CATEGORIES:Magic
END:VEVENT
BEGIN:VEVENT
DTSTART;TZID=UTC:20251112T160000
DTEND;TZID=UTC:20251112T190000
DTSTAMP:20260422T104027
CREATED:20251020T141236Z
LAST-MODIFIED:20251020T141236Z
UID:2234-1762963200-1762974000@fantastische-welten-rostock.de
SUMMARY:Bluthelden Store Tournament
DESCRIPTION:
URL:https://fantastische-welten-rostock.de/event/bluthelden-3/
CATEGORIES:Magic
END:VEVENT
BEGIN:VEVENT
DTSTART;TZID=UTC:20251114T160000
DTEND;TZID=UTC:20251114T190000
DTSTAMP:20260422T104027
CREATED:20250819T101733Z
LAST-MODIFIED:20250819T101733Z
UID:1837-1763136000-1763146800@fantastische-welten-rostock.de
SUMMARY:Magic Prerelease Avatar: The Last Airbender - sealed
DESCRIPTION:Anmeldungen ab 15.30 Uhr\, Beginn: 16.00 Uhr\, Teilnahme: 45\,00 € \nEs werden maximal 5 Runden gespielt.
URL:https://fantastische-welten-rostock.de/event/magic-commander-casual-2-2-2-5-3-6-3-2-2-2-2-2/
CATEGORIES:Magic
END:VEVENT
BEGIN:VEVENT
DTSTART;TZID=UTC:20251115T113000
DTEND;TZID=UTC:20251115T180000
DTSTAMP:20260422T104027
CREATED:20250819T101811Z
LAST-MODIFIED:20250819T101811Z
UID:1838-1763206200-1763229600@fantastische-welten-rostock.de
SUMMARY:Magic Prerelease Avatar: The Last Airbender - sealed
DESCRIPTION:Anmeldungen ab 11.00 Uhr\, Beginn: 11.30 Uhr\, Teilnahme: 45\,00 €
URL:https://fantastische-welten-rostock.de/event/magic-commander-casual-2-2-2-5-3-6-3-2-2-2-3/
CATEGORIES:Magic
END:VEVENT
BEGIN:VEVENT
DTSTART;TZID=UTC:20251116T113000
DTEND;TZID=UTC:20251116T180000
DTSTAMP:20260422T104027
CREATED:20250819T101834Z
LAST-MODIFIED:20251115T155647Z
UID:1839-1763292600-1763316000@fantastische-welten-rostock.de
SUMMARY:Magic Prerelease Avatar: The Last Airbender - sealed
DESCRIPTION:Anmeldungen ab 11.00 Uhr\, Beginn: 11.30 Uhr\, Teilnahme: 40\,00 € \nLeider sind keine PreRelease-Packs mehr vorhanden. Wir spielen daher mit 6 normalen Play-Boostern. Dafür gibt es das Event für 5 € weniger.
URL:https://fantastische-welten-rostock.de/event/magic-commander-casual-2-2-2-5-3-6-3-2-2-2-4/
CATEGORIES:Magic
END:VEVENT
BEGIN:VEVENT
DTSTART;TZID=UTC:20251118T170000
DTEND;TZID=UTC:20251118T190000
DTSTAMP:20260422T104027
CREATED:20251020T134110Z
LAST-MODIFIED:20251020T134110Z
UID:2205-1763485200-1763492400@fantastische-welten-rostock.de
SUMMARY:Magic Casual Multiplayer-Commander
DESCRIPTION:
URL:https://fantastische-welten-rostock.de/event/magic-commander-casual-2-2-4-2-2-2-2-2-2-2-2-2-3-3/
CATEGORIES:Magic
END:VEVENT
BEGIN:VEVENT
DTSTART;TZID=UTC:20251119T160000
DTEND;TZID=UTC:20251119T190000
DTSTAMP:20260422T104027
CREATED:20251020T141255Z
LAST-MODIFIED:20251020T141255Z
UID:2235-1763568000-1763578800@fantastische-welten-rostock.de
SUMMARY:Bluthelden Store Tournament
DESCRIPTION:
URL:https://fantastische-welten-rostock.de/event/bluthelden-4/
CATEGORIES:Magic
END:VEVENT
BEGIN:VEVENT
DTSTART;TZID=UTC:20251122T113000
DTEND;TZID=UTC:20251122T180000
DTSTAMP:20260422T104027
CREATED:20250819T101409Z
LAST-MODIFIED:20250819T101548Z
UID:1833-1763811000-1763834400@fantastische-welten-rostock.de
SUMMARY:Magic Release-Draft Avatar: The Last Airbender
DESCRIPTION:Anmeldungen ab 11.00 Uhr\, Beginn: 11.30 Uhr\, Teilnahme: 25\,00 € \nJeder Spieler bekommt 3 Booster für den Draft\, 1 Booster geht in den Preispool.
URL:https://fantastische-welten-rostock.de/event/magic-draft-foundations-3-3-2-2-3-2/
CATEGORIES:Magic
END:VEVENT
BEGIN:VEVENT
DTSTART;TZID=UTC:20251125T170000
DTEND;TZID=UTC:20251125T190000
DTSTAMP:20260422T104027
CREATED:20251020T134149Z
LAST-MODIFIED:20251020T134149Z
UID:2203-1764090000-1764097200@fantastische-welten-rostock.de
SUMMARY:Magic Casual Multiplayer-Commander
DESCRIPTION:
URL:https://fantastische-welten-rostock.de/event/magic-commander-casual-2-2-4-2-2-2-2-2-2-2-2-2-3-4/
CATEGORIES:Magic
END:VEVENT
BEGIN:VEVENT
DTSTART;TZID=UTC:20251126T160000
DTEND;TZID=UTC:20251126T190000
DTSTAMP:20260422T104027
CREATED:20251020T141315Z
LAST-MODIFIED:20251020T141315Z
UID:2236-1764172800-1764183600@fantastische-welten-rostock.de
SUMMARY:Bluthelden Store Tournament
DESCRIPTION:
URL:https://fantastische-welten-rostock.de/event/bluthelden-5/
CATEGORIES:Magic
END:VEVENT
BEGIN:VEVENT
DTSTART;TZID=UTC:20251129T113000
DTEND;TZID=UTC:20251129T180000
DTSTAMP:20260422T104027
CREATED:20251020T150653Z
LAST-MODIFIED:20251020T150653Z
UID:2335-1764415800-1764439200@fantastische-welten-rostock.de
SUMMARY:Magic Casual Multiplayer-Commander
DESCRIPTION:
URL:https://fantastische-welten-rostock.de/event/magic-commander-casual-2-2-4-2-2-2-2-2-2-2-2-2-3-4-2/
CATEGORIES:Magic
END:VEVENT
END:VCALENDAR