BEGIN:VCALENDAR
VERSION:2.0
PRODID:-// - ECPv6.15.20//NONSGML v1.0//EN
CALSCALE:GREGORIAN
METHOD:PUBLISH
X-ORIGINAL-URL:https://fantastische-welten-rostock.de
X-WR-CALDESC:Veranstaltungen für 
REFRESH-INTERVAL;VALUE=DURATION:PT1H
X-Robots-Tag:noindex
X-PUBLISHED-TTL:PT1H
BEGIN:VTIMEZONE
TZID:UTC
BEGIN:STANDARD
TZOFFSETFROM:+0000
TZOFFSETTO:+0000
TZNAME:UTC
DTSTART:20250101T000000
END:STANDARD
END:VTIMEZONE
BEGIN:VEVENT
DTSTART;TZID=UTC:20260123T170000
DTEND;TZID=UTC:20260123T190000
DTSTAMP:20260421T131544
CREATED:20251223T132336Z
LAST-MODIFIED:20260123T091702Z
UID:2718-1769187600-1769194800@fantastische-welten-rostock.de
SUMMARY:Magic FNM Modern
DESCRIPTION:Proxies sind erlaubt.
URL:https://fantastische-welten-rostock.de/event/magic-fnm-modern-2-2-2-2/
CATEGORIES:Magic
END:VEVENT
END:VCALENDAR