BEGIN:VCALENDAR
VERSION:2.0
PRODID:-// - ECPv6.15.20//NONSGML v1.0//EN
CALSCALE:GREGORIAN
METHOD:PUBLISH
X-ORIGINAL-URL:https://fantastische-welten-rostock.de
X-WR-CALDESC:Veranstaltungen für 
REFRESH-INTERVAL;VALUE=DURATION:PT1H
X-Robots-Tag:noindex
X-PUBLISHED-TTL:PT1H
BEGIN:VTIMEZONE
TZID:UTC
BEGIN:STANDARD
TZOFFSETFROM:+0000
TZOFFSETTO:+0000
TZNAME:UTC
DTSTART:20240101T000000
END:STANDARD
END:VTIMEZONE
BEGIN:VEVENT
DTSTART;TZID=UTC:20250901T163000
DTEND;TZID=UTC:20250901T190000
DTSTAMP:20260422T103816
CREATED:20250819T112204Z
LAST-MODIFIED:20250819T112204Z
UID:1899-1756744200-1756753200@fantastische-welten-rostock.de
SUMMARY:Zeichner:innen-Treff
DESCRIPTION:Start 16.30 Uhr\, kostenlos \nJede Woche Montag gibt es ein zwangloses Treffen der Zeichner:innen.
URL:https://fantastische-welten-rostock.de/event/tabletop-hobby-treff-3-2-2-2-4-5-6-4-3-4-2-5-5-2/
END:VEVENT
BEGIN:VEVENT
DTSTART;TZID=UTC:20250904T160000
DTEND;TZID=UTC:20250904T190000
DTSTAMP:20260422T103816
CREATED:20250819T123654Z
LAST-MODIFIED:20250819T123654Z
UID:1941-1757001600-1757012400@fantastische-welten-rostock.de
SUMMARY:Tabletop Hobby-Treff
DESCRIPTION:Start 16.00 Uhr\, kostenlos \nJede Woche Donnerstag wird nach vorheriger Absprache mit der Spielergemeinschaft Tabletop gespielt.\nFür einen ersten Eindruck kommt einfach vorbei\, schaut zu und besprecht bei Interesse\, wie ihr dabei sein könnt. 🙂
URL:https://fantastische-welten-rostock.de/event/tabletop-hobby-treff-3-2-2-5-4-5-5-3-2-3-2-5-5-3/
CATEGORIES:Tabletop
END:VEVENT
BEGIN:VEVENT
DTSTART;TZID=UTC:20250908T163000
DTEND;TZID=UTC:20250908T190000
DTSTAMP:20260422T103816
CREATED:20250819T112221Z
LAST-MODIFIED:20250819T112221Z
UID:1900-1757349000-1757358000@fantastische-welten-rostock.de
SUMMARY:Zeichner:innen-Treff
DESCRIPTION:Start 16.30 Uhr\, kostenlos \nJede Woche Montag gibt es ein zwangloses Treffen der Zeichner:innen.
URL:https://fantastische-welten-rostock.de/event/tabletop-hobby-treff-3-2-2-2-4-5-6-4-3-4-2-5-5-3/
END:VEVENT
BEGIN:VEVENT
DTSTART;TZID=UTC:20250911T160000
DTEND;TZID=UTC:20250911T190000
DTSTAMP:20260422T103816
CREATED:20250819T123716Z
LAST-MODIFIED:20250819T123716Z
UID:1942-1757606400-1757617200@fantastische-welten-rostock.de
SUMMARY:Tabletop Hobby-Treff
DESCRIPTION:Start 16.00 Uhr\, kostenlos \nJede Woche Donnerstag wird nach vorheriger Absprache mit der Spielergemeinschaft Tabletop gespielt.\nFür einen ersten Eindruck kommt einfach vorbei\, schaut zu und besprecht bei Interesse\, wie ihr dabei sein könnt. 🙂
URL:https://fantastische-welten-rostock.de/event/tabletop-hobby-treff-3-2-2-5-4-5-5-3-2-3-2-5-5-4/
CATEGORIES:Tabletop
END:VEVENT
BEGIN:VEVENT
DTSTART;TZID=UTC:20250915T163000
DTEND;TZID=UTC:20250915T190000
DTSTAMP:20260422T103816
CREATED:20250819T112244Z
LAST-MODIFIED:20250819T112244Z
UID:1901-1757953800-1757962800@fantastische-welten-rostock.de
SUMMARY:Zeichner:innen-Treff
DESCRIPTION:Start 16.30 Uhr\, kostenlos \nJede Woche Montag gibt es ein zwangloses Treffen der Zeichner:innen.
URL:https://fantastische-welten-rostock.de/event/tabletop-hobby-treff-3-2-2-2-4-5-6-4-3-4-2-5-5-4/
END:VEVENT
BEGIN:VEVENT
DTSTART;TZID=UTC:20250917T160000
DTEND;TZID=UTC:20250917T190000
DTSTAMP:20260422T103816
CREATED:20250819T123831Z
LAST-MODIFIED:20250819T123831Z
UID:1949-1758124800-1758135600@fantastische-welten-rostock.de
SUMMARY:Tabletop Competitive-Treff
DESCRIPTION:Jeden 3. Mittwoch im Monat ab 16.30 Uhr\, Teilnahme: kostenlos \nEs wird 2 – 4 Tische geben auf denen 2k Punkte auf Turnierniveau gespielt werden. \nZiel dieser Treffen:\n– Anlaufpunkt für Turnierinteressierte\n– Listenchecks und Verbesserungen\n– Spiele auf Turnierniveau\n– Austausch zu aktuellen Turnieren
URL:https://fantastische-welten-rostock.de/event/tabletop-treff-2-2-2-2-2-2-2-2/
CATEGORIES:Tabletop
END:VEVENT
BEGIN:VEVENT
DTSTART;TZID=UTC:20250918T160000
DTEND;TZID=UTC:20250918T190000
DTSTAMP:20260422T103816
CREATED:20250819T123739Z
LAST-MODIFIED:20250819T123739Z
UID:1943-1758211200-1758222000@fantastische-welten-rostock.de
SUMMARY:Tabletop Hobby-Treff
DESCRIPTION:Start 16.00 Uhr\, kostenlos \nJede Woche Donnerstag wird nach vorheriger Absprache mit der Spielergemeinschaft Tabletop gespielt.\nFür einen ersten Eindruck kommt einfach vorbei\, schaut zu und besprecht bei Interesse\, wie ihr dabei sein könnt. 🙂
URL:https://fantastische-welten-rostock.de/event/tabletop-hobby-treff-3-2-2-5-4-5-5-3-2-3-2-5-5-5/
CATEGORIES:Tabletop
END:VEVENT
BEGIN:VEVENT
DTSTART;TZID=UTC:20250922T163000
DTEND;TZID=UTC:20250922T190000
DTSTAMP:20260422T103816
CREATED:20250819T112304Z
LAST-MODIFIED:20250819T112304Z
UID:1902-1758558600-1758567600@fantastische-welten-rostock.de
SUMMARY:Zeichner:innen-Treff
DESCRIPTION:Start 16.30 Uhr\, kostenlos \nJede Woche Montag gibt es ein zwangloses Treffen der Zeichner:innen.
URL:https://fantastische-welten-rostock.de/event/tabletop-hobby-treff-3-2-2-2-4-5-6-4-3-4-2-5-5-5/
END:VEVENT
BEGIN:VEVENT
DTSTART;TZID=UTC:20250925T160000
DTEND;TZID=UTC:20250925T190000
DTSTAMP:20260422T103816
CREATED:20250819T123759Z
LAST-MODIFIED:20250819T123759Z
UID:1944-1758816000-1758826800@fantastische-welten-rostock.de
SUMMARY:Tabletop Hobby-Treff
DESCRIPTION:Start 16.00 Uhr\, kostenlos \nJede Woche Donnerstag wird nach vorheriger Absprache mit der Spielergemeinschaft Tabletop gespielt.\nFür einen ersten Eindruck kommt einfach vorbei\, schaut zu und besprecht bei Interesse\, wie ihr dabei sein könnt. 🙂
URL:https://fantastische-welten-rostock.de/event/tabletop-hobby-treff-3-2-2-5-4-5-5-3-2-3-2-5-5-6/
CATEGORIES:Tabletop
END:VEVENT
BEGIN:VEVENT
DTSTART;TZID=UTC:20250929T163000
DTEND;TZID=UTC:20250929T190000
DTSTAMP:20260422T103816
CREATED:20250819T112325Z
LAST-MODIFIED:20250819T112325Z
UID:1903-1759163400-1759172400@fantastische-welten-rostock.de
SUMMARY:Zeichner:innen-Treff
DESCRIPTION:Start 16.30 Uhr\, kostenlos \nJede Woche Montag gibt es ein zwangloses Treffen der Zeichner:innen.
URL:https://fantastische-welten-rostock.de/event/tabletop-hobby-treff-3-2-2-2-4-5-6-4-3-4-2-5-5-6/
END:VEVENT
END:VCALENDAR