BEGIN:VCALENDAR
VERSION:2.0
PRODID:-// - ECPv6.15.20//NONSGML v1.0//EN
CALSCALE:GREGORIAN
METHOD:PUBLISH
X-ORIGINAL-URL:https://fantastische-welten-rostock.de
X-WR-CALDESC:Veranstaltungen für 
REFRESH-INTERVAL;VALUE=DURATION:PT1H
X-Robots-Tag:noindex
X-PUBLISHED-TTL:PT1H
BEGIN:VTIMEZONE
TZID:UTC
BEGIN:STANDARD
TZOFFSETFROM:+0000
TZOFFSETTO:+0000
TZNAME:UTC
DTSTART:20240101T000000
END:STANDARD
END:VTIMEZONE
BEGIN:VEVENT
DTSTART;TZID=UTC:20251001T170000
DTEND;TZID=UTC:20251001T190000
DTSTAMP:20260420T160020
CREATED:20250923T115352Z
LAST-MODIFIED:20250923T115640Z
UID:2096-1759338000-1759345200@fantastische-welten-rostock.de
SUMMARY:Red Bull Tetris Race
DESCRIPTION:Start 17.00 Uhr\, kostenlos \nSpielt Tetris bei uns auf dem Handy\, trinkt kostenfreien Red Bull und der Sieger mit dem höchsten Highscore gewinnt einen tollen Preis.
URL:https://fantastische-welten-rostock.de/event/tabletop-hobby-treff-3-2-2-2-4-5-6-4-3-4-2-5-5-6-2/
END:VEVENT
BEGIN:VEVENT
DTSTART;TZID=UTC:20251002T160000
DTEND;TZID=UTC:20251002T190000
DTSTAMP:20260420T160020
CREATED:20250923T120540Z
LAST-MODIFIED:20250923T120540Z
UID:2134-1759420800-1759431600@fantastische-welten-rostock.de
SUMMARY:Tabletop Hobby-Treff
DESCRIPTION:Start 16.00 Uhr\, kostenlos \nJede Woche Donnerstag wird nach vorheriger Absprache mit der Spielergemeinschaft Tabletop gespielt.\nFür einen ersten Eindruck kommt einfach vorbei\, schaut zu und besprecht bei Interesse\, wie ihr dabei sein könnt. 🙂
URL:https://fantastische-welten-rostock.de/event/tabletop-hobby-treff-3-2-2-5-4-5-5-3-2-3-2-5-5-6-2/
CATEGORIES:Tabletop
END:VEVENT
BEGIN:VEVENT
DTSTART;TZID=UTC:20251005T130000
DTEND;TZID=UTC:20251005T180000
DTSTAMP:20260420T160020
CREATED:20250925T125015Z
LAST-MODIFIED:20250925T125505Z
UID:2150-1759669200-1759687200@fantastische-welten-rostock.de
SUMMARY:Verkaufsoffener Sonntag
DESCRIPTION:Wir haben geöffnet: 13 Uhr bis 18 Uhr.
URL:https://fantastische-welten-rostock.de/event/tabletop-hobby-treff-3-2-2-2-4-5-6-4-3-4-2-5-5-6-2-2/
END:VEVENT
BEGIN:VEVENT
DTSTART;TZID=UTC:20251006T163000
DTEND;TZID=UTC:20251006T170000
DTSTAMP:20260420T160020
CREATED:20250923T115753Z
LAST-MODIFIED:20250923T115753Z
UID:2106-1759768200-1759770000@fantastische-welten-rostock.de
SUMMARY:Zeichner:innen-Treff
DESCRIPTION:Start 16.30 Uhr\, kostenlos \nJede Woche Montag gibt es ein zwangloses Treffen der Zeichner:innen.
URL:https://fantastische-welten-rostock.de/event/tabletop-hobby-treff-3-2-2-2-4-5-6-4-3-4-2-5-5-6-3-2/
END:VEVENT
BEGIN:VEVENT
DTSTART;TZID=UTC:20251009T160000
DTEND;TZID=UTC:20251009T190000
DTSTAMP:20260420T160020
CREATED:20250923T120605Z
LAST-MODIFIED:20250923T120605Z
UID:2135-1760025600-1760036400@fantastische-welten-rostock.de
SUMMARY:Tabletop Hobby-Treff
DESCRIPTION:Start 16.00 Uhr\, kostenlos \nJede Woche Donnerstag wird nach vorheriger Absprache mit der Spielergemeinschaft Tabletop gespielt.\nFür einen ersten Eindruck kommt einfach vorbei\, schaut zu und besprecht bei Interesse\, wie ihr dabei sein könnt. 🙂
URL:https://fantastische-welten-rostock.de/event/tabletop-hobby-treff-3-2-2-5-4-5-5-3-2-3-2-5-5-6-3/
CATEGORIES:Tabletop
END:VEVENT
BEGIN:VEVENT
DTSTART;TZID=UTC:20251013T163000
DTEND;TZID=UTC:20251013T190000
DTSTAMP:20260420T160020
CREATED:20250923T115415Z
LAST-MODIFIED:20250923T115415Z
UID:2097-1760373000-1760382000@fantastische-welten-rostock.de
SUMMARY:Zeichner:innen-Treff
DESCRIPTION:Start 16.30 Uhr\, kostenlos \nJede Woche Montag gibt es ein zwangloses Treffen der Zeichner:innen.
URL:https://fantastische-welten-rostock.de/event/tabletop-hobby-treff-3-2-2-2-4-5-6-4-3-4-2-5-5-6-3/
END:VEVENT
BEGIN:VEVENT
DTSTART;TZID=UTC:20251015T160000
DTEND;TZID=UTC:20251015T190000
DTSTAMP:20260420T160020
CREATED:20250923T120739Z
LAST-MODIFIED:20250923T120739Z
UID:2144-1760544000-1760554800@fantastische-welten-rostock.de
SUMMARY:Tabletop Competitive-Treff
DESCRIPTION:Jeden 3. Mittwoch im Monat ab 16.30 Uhr\, Teilnahme: kostenlos \nEs wird 2 – 4 Tische geben auf denen 2k Punkte auf Turnierniveau gespielt werden. \nZiel dieser Treffen:\n– Anlaufpunkt für Turnierinteressierte\n– Listenchecks und Verbesserungen\n– Spiele auf Turnierniveau\n– Austausch zu aktuellen Turnieren
URL:https://fantastische-welten-rostock.de/event/tabletop-treff-2-2-2-2-2-2-2-2-2/
CATEGORIES:Tabletop
END:VEVENT
BEGIN:VEVENT
DTSTART;TZID=UTC:20251016T160000
DTEND;TZID=UTC:20251016T190000
DTSTAMP:20260420T160020
CREATED:20250923T120625Z
LAST-MODIFIED:20250923T120625Z
UID:2136-1760630400-1760641200@fantastische-welten-rostock.de
SUMMARY:Tabletop Hobby-Treff
DESCRIPTION:Start 16.00 Uhr\, kostenlos \nJede Woche Donnerstag wird nach vorheriger Absprache mit der Spielergemeinschaft Tabletop gespielt.\nFür einen ersten Eindruck kommt einfach vorbei\, schaut zu und besprecht bei Interesse\, wie ihr dabei sein könnt. 🙂
URL:https://fantastische-welten-rostock.de/event/tabletop-hobby-treff-3-2-2-5-4-5-5-3-2-3-2-5-5-6-4/
CATEGORIES:Tabletop
END:VEVENT
BEGIN:VEVENT
DTSTART;TZID=UTC:20251020T163000
DTEND;TZID=UTC:20251020T190000
DTSTAMP:20260420T160020
CREATED:20250923T115435Z
LAST-MODIFIED:20250923T115435Z
UID:2098-1760977800-1760986800@fantastische-welten-rostock.de
SUMMARY:Zeichner:innen-Treff
DESCRIPTION:Start 16.30 Uhr\, kostenlos \nJede Woche Montag gibt es ein zwangloses Treffen der Zeichner:innen.
URL:https://fantastische-welten-rostock.de/event/tabletop-hobby-treff-3-2-2-2-4-5-6-4-3-4-2-5-5-6-4/
END:VEVENT
BEGIN:VEVENT
DTSTART;TZID=UTC:20251023T160000
DTEND;TZID=UTC:20251023T190000
DTSTAMP:20260420T160020
CREATED:20250923T120643Z
LAST-MODIFIED:20250923T120643Z
UID:2137-1761235200-1761246000@fantastische-welten-rostock.de
SUMMARY:Tabletop Hobby-Treff
DESCRIPTION:Start 16.00 Uhr\, kostenlos \nJede Woche Donnerstag wird nach vorheriger Absprache mit der Spielergemeinschaft Tabletop gespielt.\nFür einen ersten Eindruck kommt einfach vorbei\, schaut zu und besprecht bei Interesse\, wie ihr dabei sein könnt. 🙂
URL:https://fantastische-welten-rostock.de/event/tabletop-hobby-treff-3-2-2-5-4-5-5-3-2-3-2-5-5-6-5/
CATEGORIES:Tabletop
END:VEVENT
BEGIN:VEVENT
DTSTART;TZID=UTC:20251027T163000
DTEND;TZID=UTC:20251027T190000
DTSTAMP:20260420T160020
CREATED:20250923T115454Z
LAST-MODIFIED:20250923T115454Z
UID:2099-1761582600-1761591600@fantastische-welten-rostock.de
SUMMARY:Zeichner:innen-Treff
DESCRIPTION:Start 16.30 Uhr\, kostenlos \nJede Woche Montag gibt es ein zwangloses Treffen der Zeichner:innen.
URL:https://fantastische-welten-rostock.de/event/tabletop-hobby-treff-3-2-2-2-4-5-6-4-3-4-2-5-5-6-5/
END:VEVENT
BEGIN:VEVENT
DTSTART;TZID=UTC:20251030T160000
DTEND;TZID=UTC:20251030T190000
DTSTAMP:20260420T160020
CREATED:20250923T120702Z
LAST-MODIFIED:20250923T120702Z
UID:2138-1761840000-1761850800@fantastische-welten-rostock.de
SUMMARY:Tabletop Hobby-Treff
DESCRIPTION:Start 16.00 Uhr\, kostenlos \nJede Woche Donnerstag wird nach vorheriger Absprache mit der Spielergemeinschaft Tabletop gespielt.\nFür einen ersten Eindruck kommt einfach vorbei\, schaut zu und besprecht bei Interesse\, wie ihr dabei sein könnt. 🙂
URL:https://fantastische-welten-rostock.de/event/tabletop-hobby-treff-3-2-2-5-4-5-5-3-2-3-2-5-5-6-6/
CATEGORIES:Tabletop
END:VEVENT
END:VCALENDAR