BEGIN:VCALENDAR
VERSION:2.0
PRODID:-// - ECPv6.15.20//NONSGML v1.0//EN
CALSCALE:GREGORIAN
METHOD:PUBLISH
X-ORIGINAL-URL:https://fantastische-welten-rostock.de
X-WR-CALDESC:Veranstaltungen für 
REFRESH-INTERVAL;VALUE=DURATION:PT1H
X-Robots-Tag:noindex
X-PUBLISHED-TTL:PT1H
BEGIN:VTIMEZONE
TZID:UTC
BEGIN:STANDARD
TZOFFSETFROM:+0000
TZOFFSETTO:+0000
TZNAME:UTC
DTSTART:20240101T000000
END:STANDARD
END:VTIMEZONE
BEGIN:VEVENT
DTSTART;TZID=UTC:20251201T163000
DTEND;TZID=UTC:20251201T163000
DTSTAMP:20260420T124956
CREATED:20251023T114022Z
LAST-MODIFIED:20251023T114030Z
UID:2349-1764606600-1764606600@fantastische-welten-rostock.de
SUMMARY:Zeichner:innen-Treff
DESCRIPTION:
URL:https://fantastische-welten-rostock.de/event/zeichnen-4-2/
END:VEVENT
BEGIN:VEVENT
DTSTART;TZID=UTC:20251204T160000
DTEND;TZID=UTC:20251204T190000
DTSTAMP:20260420T124956
CREATED:20251117T125240Z
LAST-MODIFIED:20251117T125240Z
UID:2494-1764864000-1764874800@fantastische-welten-rostock.de
SUMMARY:Tabletop Hobby-Treff
DESCRIPTION:Jede Woche Donnerstag wird nach vorheriger Absprache mit der Spielergemeinschaft Tabletop gespielt.\nFür einen ersten Eindruck kommt einfach vorbei\, schaut zu und besprecht bei Interesse\, wie ihr dabei sein könnt. 🙂
URL:https://fantastische-welten-rostock.de/event/tabletop-hobby-treff-3-2-2-5-4-5-5-3-2-3-2-5-5-6-6-5-2/
CATEGORIES:Tabletop
END:VEVENT
BEGIN:VEVENT
DTSTART;TZID=UTC:20251208T163000
DTEND;TZID=UTC:20251208T163000
DTSTAMP:20260420T124956
CREATED:20251023T114052Z
LAST-MODIFIED:20251023T114932Z
UID:2350-1765211400-1765211400@fantastische-welten-rostock.de
SUMMARY:Zeichner:innen-Treff
DESCRIPTION:
URL:https://fantastische-welten-rostock.de/event/zeichnen-4-3/
END:VEVENT
BEGIN:VEVENT
DTSTART;TZID=UTC:20251211T160000
DTEND;TZID=UTC:20251211T190000
DTSTAMP:20260420T124956
CREATED:20251117T125305Z
LAST-MODIFIED:20251117T125305Z
UID:2495-1765468800-1765479600@fantastische-welten-rostock.de
SUMMARY:Tabletop Hobby-Treff
DESCRIPTION:Jede Woche Donnerstag wird nach vorheriger Absprache mit der Spielergemeinschaft Tabletop gespielt.\nFür einen ersten Eindruck kommt einfach vorbei\, schaut zu und besprecht bei Interesse\, wie ihr dabei sein könnt. 🙂
URL:https://fantastische-welten-rostock.de/event/tabletop-hobby-treff-3-2-2-5-4-5-5-3-2-3-2-5-5-6-6-5-3/
CATEGORIES:Tabletop
END:VEVENT
BEGIN:VEVENT
DTSTART;TZID=UTC:20251215T163000
DTEND;TZID=UTC:20251215T163000
DTSTAMP:20260420T124956
CREATED:20251023T114109Z
LAST-MODIFIED:20251023T114940Z
UID:2351-1765816200-1765816200@fantastische-welten-rostock.de
SUMMARY:Zeichner:innen-Treff
DESCRIPTION:
URL:https://fantastische-welten-rostock.de/event/zeichnen-4-4/
END:VEVENT
BEGIN:VEVENT
DTSTART;TZID=UTC:20251217T160000
DTEND;TZID=UTC:20251217T190000
DTSTAMP:20260420T124956
CREATED:20251117T125145Z
LAST-MODIFIED:20251117T125152Z
UID:2491-1765987200-1765998000@fantastische-welten-rostock.de
SUMMARY:Tabletop Competitive-Treff
DESCRIPTION:Es wird 2 – 4 Tische geben\, auf denen 2k Punkte auf Turnierniveau gespielt werden. \nZiel dieser Treffen:\n– Anlaufpunkt für Turnierinteressierte\n– Listenchecks und Verbesserungen\n– Spiele auf Turnierniveau\n– Austausch zu aktuellen Turnieren
URL:https://fantastische-welten-rostock.de/event/tabletop-treff-2-2-2-2-2-2-2-2-2-2-2/
CATEGORIES:Tabletop
END:VEVENT
BEGIN:VEVENT
DTSTART;TZID=UTC:20251218T160000
DTEND;TZID=UTC:20251218T190000
DTSTAMP:20260420T124956
CREATED:20251117T125329Z
LAST-MODIFIED:20251117T125329Z
UID:2496-1766073600-1766084400@fantastische-welten-rostock.de
SUMMARY:Tabletop Hobby-Treff
DESCRIPTION:Jede Woche Donnerstag wird nach vorheriger Absprache mit der Spielergemeinschaft Tabletop gespielt.\nFür einen ersten Eindruck kommt einfach vorbei\, schaut zu und besprecht bei Interesse\, wie ihr dabei sein könnt. 🙂
URL:https://fantastische-welten-rostock.de/event/tabletop-hobby-treff-3-2-2-5-4-5-5-3-2-3-2-5-5-6-6-5-4/
CATEGORIES:Tabletop
END:VEVENT
BEGIN:VEVENT
DTSTART;TZID=UTC:20251222T163000
DTEND;TZID=UTC:20251222T163000
DTSTAMP:20260420T124956
CREATED:20251023T114126Z
LAST-MODIFIED:20251023T114938Z
UID:2352-1766421000-1766421000@fantastische-welten-rostock.de
SUMMARY:Zeichner:innen-Treff
DESCRIPTION:
URL:https://fantastische-welten-rostock.de/event/zeichnen-4-5/
END:VEVENT
BEGIN:VEVENT
DTSTART;TZID=UTC:20251224T100000
DTEND;TZID=UTC:20251224T140000
DTSTAMP:20260420T124956
CREATED:20251114T144611Z
LAST-MODIFIED:20251114T144611Z
UID:2403-1766570400-1766584800@fantastische-welten-rostock.de
SUMMARY:Free Play für jedes TCG
DESCRIPTION:Wir haben geöffnet: 10 Uhr bis 14 Uhr.
URL:https://fantastische-welten-rostock.de/event/tabletop-hobby-treff-3-2-2-2-4-5-6-4-3-4-2-5-5-6-2-2-2-2/
END:VEVENT
BEGIN:VEVENT
DTSTART;TZID=UTC:20251229T163000
DTEND;TZID=UTC:20251229T163000
DTSTAMP:20260420T124956
CREATED:20251023T114205Z
LAST-MODIFIED:20251023T114935Z
UID:2353-1767025800-1767025800@fantastische-welten-rostock.de
SUMMARY:Zeichner:innen-Treff
DESCRIPTION:
URL:https://fantastische-welten-rostock.de/event/zeichnen-4-6/
END:VEVENT
BEGIN:VEVENT
DTSTART;TZID=UTC:20251231T100000
DTEND;TZID=UTC:20251231T140000
DTSTAMP:20260420T124956
CREATED:20251114T144636Z
LAST-MODIFIED:20251114T144636Z
UID:2404-1767175200-1767189600@fantastische-welten-rostock.de
SUMMARY:Free Play für jedes TCG
DESCRIPTION:Wir haben geöffnet: 10 Uhr bis 14 Uhr.
URL:https://fantastische-welten-rostock.de/event/tabletop-hobby-treff-3-2-2-2-4-5-6-4-3-4-2-5-5-6-2-2-2-3/
END:VEVENT
END:VCALENDAR