BEGIN:VCALENDAR
VERSION:2.0
PRODID:-// - ECPv6.15.20//NONSGML v1.0//EN
CALSCALE:GREGORIAN
METHOD:PUBLISH
X-ORIGINAL-URL:https://fantastische-welten-rostock.de
X-WR-CALDESC:Veranstaltungen für 
REFRESH-INTERVAL;VALUE=DURATION:PT1H
X-Robots-Tag:noindex
X-PUBLISHED-TTL:PT1H
BEGIN:VTIMEZONE
TZID:UTC
BEGIN:STANDARD
TZOFFSETFROM:+0000
TZOFFSETTO:+0000
TZNAME:UTC
DTSTART:20250101T000000
END:STANDARD
END:VTIMEZONE
BEGIN:VEVENT
DTSTART;TZID=UTC:20260105T163000
DTEND;TZID=UTC:20260105T190000
DTSTAMP:20260420T111639
CREATED:20251222T150526Z
LAST-MODIFIED:20251222T150526Z
UID:2573-1767630600-1767639600@fantastische-welten-rostock.de
SUMMARY:Zeichner:innen-Treff
DESCRIPTION:
URL:https://fantastische-welten-rostock.de/event/zeichnen-4-6-2/
END:VEVENT
BEGIN:VEVENT
DTSTART;TZID=UTC:20260108T160000
DTEND;TZID=UTC:20260108T190000
DTSTAMP:20260420T111639
CREATED:20251222T153705Z
LAST-MODIFIED:20251222T153705Z
UID:2654-1767888000-1767898800@fantastische-welten-rostock.de
SUMMARY:Tabletop Hobby-Treff
DESCRIPTION:Jede Woche Donnerstag wird nach vorheriger Absprache mit der Spielergemeinschaft Tabletop gespielt.\nFür einen ersten Eindruck kommt einfach vorbei\, schaut zu und besprecht bei Interesse\, wie ihr dabei sein könnt. 🙂
URL:https://fantastische-welten-rostock.de/event/tabletop-hobby-treff-3-2-2-5-4-5-5-3-2-3-2-5-5-6-6-5-4-2/
CATEGORIES:Tabletop
END:VEVENT
BEGIN:VEVENT
DTSTART;TZID=UTC:20260112T163000
DTEND;TZID=UTC:20260112T190000
DTSTAMP:20260420T111639
CREATED:20251222T150543Z
LAST-MODIFIED:20251222T150543Z
UID:2574-1768235400-1768244400@fantastische-welten-rostock.de
SUMMARY:Zeichner:innen-Treff
DESCRIPTION:
URL:https://fantastische-welten-rostock.de/event/zeichnen-4-6-3/
END:VEVENT
BEGIN:VEVENT
DTSTART;TZID=UTC:20260115T160000
DTEND;TZID=UTC:20260115T190000
DTSTAMP:20260420T111639
CREATED:20251222T153726Z
LAST-MODIFIED:20251222T153726Z
UID:2655-1768492800-1768503600@fantastische-welten-rostock.de
SUMMARY:Tabletop Hobby-Treff
DESCRIPTION:Jede Woche Donnerstag wird nach vorheriger Absprache mit der Spielergemeinschaft Tabletop gespielt.\nFür einen ersten Eindruck kommt einfach vorbei\, schaut zu und besprecht bei Interesse\, wie ihr dabei sein könnt. 🙂
URL:https://fantastische-welten-rostock.de/event/tabletop-hobby-treff-3-2-2-5-4-5-5-3-2-3-2-5-5-6-6-5-4-3/
CATEGORIES:Tabletop
END:VEVENT
BEGIN:VEVENT
DTSTART;TZID=UTC:20260119T163000
DTEND;TZID=UTC:20260119T190000
DTSTAMP:20260420T111639
CREATED:20251222T150604Z
LAST-MODIFIED:20251222T150604Z
UID:2575-1768840200-1768849200@fantastische-welten-rostock.de
SUMMARY:Zeichner:innen-Treff
DESCRIPTION:
URL:https://fantastische-welten-rostock.de/event/zeichnen-4-6-4/
END:VEVENT
BEGIN:VEVENT
DTSTART;TZID=UTC:20260121T160000
DTEND;TZID=UTC:20260121T190000
DTSTAMP:20260420T111639
CREATED:20251222T153843Z
LAST-MODIFIED:20251222T153843Z
UID:2662-1769011200-1769022000@fantastische-welten-rostock.de
SUMMARY:Tabletop Competitive-Treff
DESCRIPTION:Es wird 2 – 4 Tische geben\, auf denen 2k Punkte auf Turnierniveau gespielt werden. \nZiel dieser Treffen:\n– Anlaufpunkt für Turnierinteressierte\n– Listenchecks und Verbesserungen\n– Spiele auf Turnierniveau\n– Austausch zu aktuellen Turnieren
URL:https://fantastische-welten-rostock.de/event/tabletop-treff-2-2-2-2-2-2-2-2-2-2-2-2/
CATEGORIES:Tabletop
END:VEVENT
BEGIN:VEVENT
DTSTART;TZID=UTC:20260122T160000
DTEND;TZID=UTC:20260122T190000
DTSTAMP:20260420T111639
CREATED:20251222T153743Z
LAST-MODIFIED:20251222T153743Z
UID:2656-1769097600-1769108400@fantastische-welten-rostock.de
SUMMARY:Tabletop Hobby-Treff
DESCRIPTION:Jede Woche Donnerstag wird nach vorheriger Absprache mit der Spielergemeinschaft Tabletop gespielt.\nFür einen ersten Eindruck kommt einfach vorbei\, schaut zu und besprecht bei Interesse\, wie ihr dabei sein könnt. 🙂
URL:https://fantastische-welten-rostock.de/event/tabletop-hobby-treff-3-2-2-5-4-5-5-3-2-3-2-5-5-6-6-5-4-4/
CATEGORIES:Tabletop
END:VEVENT
BEGIN:VEVENT
DTSTART;TZID=UTC:20260126T163000
DTEND;TZID=UTC:20260126T190000
DTSTAMP:20260420T111639
CREATED:20251222T150626Z
LAST-MODIFIED:20251222T150626Z
UID:2576-1769445000-1769454000@fantastische-welten-rostock.de
SUMMARY:Zeichner:innen-Treff
DESCRIPTION:
URL:https://fantastische-welten-rostock.de/event/zeichnen-4-6-5/
END:VEVENT
BEGIN:VEVENT
DTSTART;TZID=UTC:20260129T160000
DTEND;TZID=UTC:20260129T190000
DTSTAMP:20260420T111639
CREATED:20251222T153803Z
LAST-MODIFIED:20251222T153803Z
UID:2657-1769702400-1769713200@fantastische-welten-rostock.de
SUMMARY:Tabletop Hobby-Treff
DESCRIPTION:Jede Woche Donnerstag wird nach vorheriger Absprache mit der Spielergemeinschaft Tabletop gespielt.\nFür einen ersten Eindruck kommt einfach vorbei\, schaut zu und besprecht bei Interesse\, wie ihr dabei sein könnt. 🙂
URL:https://fantastische-welten-rostock.de/event/tabletop-hobby-treff-3-2-2-5-4-5-5-3-2-3-2-5-5-6-6-5-4-5/
CATEGORIES:Tabletop
END:VEVENT
END:VCALENDAR