BEGIN:VCALENDAR
VERSION:2.0
PRODID:-// - ECPv6.15.20//NONSGML v1.0//EN
CALSCALE:GREGORIAN
METHOD:PUBLISH
X-ORIGINAL-URL:https://fantastische-welten-rostock.de
X-WR-CALDESC:Veranstaltungen für 
REFRESH-INTERVAL;VALUE=DURATION:PT1H
X-Robots-Tag:noindex
X-PUBLISHED-TTL:PT1H
BEGIN:VTIMEZONE
TZID:UTC
BEGIN:STANDARD
TZOFFSETFROM:+0000
TZOFFSETTO:+0000
TZNAME:UTC
DTSTART:20250101T000000
END:STANDARD
END:VTIMEZONE
BEGIN:VEVENT
DTSTART;TZID=UTC:20260102T160000
DTEND;TZID=UTC:20260102T190000
DTSTAMP:20260420T124402
CREATED:20251223T131509Z
LAST-MODIFIED:20251223T131509Z
UID:2688-1767369600-1767380400@fantastische-welten-rostock.de
SUMMARY:Yu-Gi-Oh! OTS
DESCRIPTION:
URL:https://fantastische-welten-rostock.de/event/yu-gi-oh-ots-3-2-2-3-4-2-4-2-3-2-2-2-2-2-4-4-4-4-2-2-4-2/
CATEGORIES:Yu-Gi-Oh!
END:VEVENT
BEGIN:VEVENT
DTSTART;TZID=UTC:20260106T170000
DTEND;TZID=UTC:20260106T190000
DTSTAMP:20260420T124402
CREATED:20251222T151541Z
LAST-MODIFIED:20251222T151541Z
UID:2599-1767718800-1767726000@fantastische-welten-rostock.de
SUMMARY:Yu-Gi-Oh! OTS Edison
DESCRIPTION:
URL:https://fantastische-welten-rostock.de/event/yu-gi-oh-ots-edison-3/
CATEGORIES:Yu-Gi-Oh!
END:VEVENT
BEGIN:VEVENT
DTSTART;TZID=UTC:20260109T160000
DTEND;TZID=UTC:20260109T190000
DTSTAMP:20260420T124402
CREATED:20251223T131528Z
LAST-MODIFIED:20251223T131528Z
UID:2689-1767974400-1767985200@fantastische-welten-rostock.de
SUMMARY:Yu-Gi-Oh! OTS
DESCRIPTION:
URL:https://fantastische-welten-rostock.de/event/yu-gi-oh-ots-3-2-2-3-4-2-4-2-3-2-2-2-2-2-4-4-4-4-2-2-4-3/
CATEGORIES:Yu-Gi-Oh!
END:VEVENT
BEGIN:VEVENT
DTSTART;TZID=UTC:20260113T170000
DTEND;TZID=UTC:20260113T190000
DTSTAMP:20260420T124402
CREATED:20251222T151601Z
LAST-MODIFIED:20251222T151601Z
UID:2600-1768323600-1768330800@fantastische-welten-rostock.de
SUMMARY:Yu-Gi-Oh! OTS Edison
DESCRIPTION:
URL:https://fantastische-welten-rostock.de/event/yu-gi-oh-ots-edison-4/
CATEGORIES:Yu-Gi-Oh!
END:VEVENT
BEGIN:VEVENT
DTSTART;TZID=UTC:20260116T160000
DTEND;TZID=UTC:20260116T190000
DTSTAMP:20260420T124402
CREATED:20251223T131550Z
LAST-MODIFIED:20251223T131550Z
UID:2690-1768579200-1768590000@fantastische-welten-rostock.de
SUMMARY:Yu-Gi-Oh! OTS
DESCRIPTION:
URL:https://fantastische-welten-rostock.de/event/yu-gi-oh-ots-3-2-2-3-4-2-4-2-3-2-2-2-2-2-4-4-4-4-2-2-4-4/
CATEGORIES:Yu-Gi-Oh!
END:VEVENT
BEGIN:VEVENT
DTSTART;TZID=UTC:20260117T110000
DTEND;TZID=UTC:20260117T180000
DTSTAMP:20260420T124402
CREATED:20251223T131746Z
LAST-MODIFIED:20251223T131746Z
UID:2698-1768647600-1768672800@fantastische-welten-rostock.de
SUMMARY:Yu-Gi-Oh! OTS Genesys 100
DESCRIPTION:Alle Infos: https://www.yugioh-card.com/en/genesys/ Anmerkung: Die Karte Last Turn ist verboten!
URL:https://fantastische-welten-rostock.de/event/yu-gi-oh-ots-edison-2-2-3-2-3-3-3-2-2-2-2-3-2-3/
CATEGORIES:Yu-Gi-Oh!
END:VEVENT
BEGIN:VEVENT
DTSTART;TZID=UTC:20260120T170000
DTEND;TZID=UTC:20260120T190000
DTSTAMP:20260420T124402
CREATED:20251222T151620Z
LAST-MODIFIED:20251222T151620Z
UID:2601-1768928400-1768935600@fantastische-welten-rostock.de
SUMMARY:Yu-Gi-Oh! OTS Edison
DESCRIPTION:
URL:https://fantastische-welten-rostock.de/event/yu-gi-oh-ots-edison-5/
CATEGORIES:Yu-Gi-Oh!
END:VEVENT
BEGIN:VEVENT
DTSTART;TZID=UTC:20260123T160000
DTEND;TZID=UTC:20260123T190000
DTSTAMP:20260420T124402
CREATED:20251223T131616Z
LAST-MODIFIED:20251223T131616Z
UID:2691-1769184000-1769194800@fantastische-welten-rostock.de
SUMMARY:Yu-Gi-Oh! OTS
DESCRIPTION:
URL:https://fantastische-welten-rostock.de/event/yu-gi-oh-ots-3-2-2-3-4-2-4-2-3-2-2-2-2-2-4-4-4-4-2-2-4-5/
CATEGORIES:Yu-Gi-Oh!
END:VEVENT
BEGIN:VEVENT
DTSTART;TZID=UTC:20260124T110000
DTEND;TZID=UTC:20260124T180000
DTSTAMP:20260420T124402
CREATED:20251223T132701Z
LAST-MODIFIED:20251223T133614Z
UID:2722-1769252400-1769277600@fantastische-welten-rostock.de
SUMMARY:Yu-Gi-Oh! Release-Event SD Spirit Charmers
DESCRIPTION:Jeder Teilnehmer erhält ein THE CHRONICLES DECK: Spirit Charmers. 2 OTS Packs pro Spieler gehen in den Preispool.
URL:https://fantastische-welten-rostock.de/event/yu-gi-oh-ots-edison-2-2-3-2-3-3-3-2-2-2-2-2-2/
CATEGORIES:Yu-Gi-Oh!
END:VEVENT
BEGIN:VEVENT
DTSTART;TZID=UTC:20260127T170000
DTEND;TZID=UTC:20260127T190000
DTSTAMP:20260420T124402
CREATED:20251222T151703Z
LAST-MODIFIED:20251222T151703Z
UID:2605-1769533200-1769540400@fantastische-welten-rostock.de
SUMMARY:Yu-Gi-Oh! OTS Goat
DESCRIPTION:
URL:https://fantastische-welten-rostock.de/event/yu-gi-oh-ots-goat-2/
CATEGORIES:Yu-Gi-Oh!
END:VEVENT
BEGIN:VEVENT
DTSTART;TZID=UTC:20260130T160000
DTEND;TZID=UTC:20260130T190000
DTSTAMP:20260420T124402
CREATED:20251223T131635Z
LAST-MODIFIED:20251223T131635Z
UID:2692-1769788800-1769799600@fantastische-welten-rostock.de
SUMMARY:Yu-Gi-Oh! OTS
DESCRIPTION:
URL:https://fantastische-welten-rostock.de/event/yu-gi-oh-ots-3-2-2-3-4-2-4-2-3-2-2-2-2-2-4-4-4-4-2-2-4-6/
CATEGORIES:Yu-Gi-Oh!
END:VEVENT
BEGIN:VEVENT
DTSTART;TZID=UTC:20260131T110000
DTEND;TZID=UTC:20260131T180000
DTSTAMP:20260420T124402
CREATED:20251223T132754Z
LAST-MODIFIED:20251223T132816Z
UID:2724-1769857200-1769882400@fantastische-welten-rostock.de
SUMMARY:Yu-Gi-Oh! Core Booster Premiere Burst Protocol
DESCRIPTION:
URL:https://fantastische-welten-rostock.de/event/yu-gi-oh-ots-edison-2-2-3-2-2-2-2-2/
CATEGORIES:Yu-Gi-Oh!
END:VEVENT
END:VCALENDAR