BEGIN:VCALENDAR
VERSION:2.0
PRODID:-// - ECPv6.15.20//NONSGML v1.0//EN
CALSCALE:GREGORIAN
METHOD:PUBLISH
X-ORIGINAL-URL:https://fantastische-welten-rostock.de
X-WR-CALDESC:Veranstaltungen für 
REFRESH-INTERVAL;VALUE=DURATION:PT1H
X-Robots-Tag:noindex
X-PUBLISHED-TTL:PT1H
BEGIN:VTIMEZONE
TZID:UTC
BEGIN:STANDARD
TZOFFSETFROM:+0000
TZOFFSETTO:+0000
TZNAME:UTC
DTSTART:20250101T000000
END:STANDARD
END:VTIMEZONE
BEGIN:VEVENT
DTSTART;TZID=UTC:20260203T170000
DTEND;TZID=UTC:20260203T190000
DTSTAMP:20260422T172617
CREATED:20260121T151112Z
LAST-MODIFIED:20260121T151112Z
UID:2755-1770138000-1770145200@fantastische-welten-rostock.de
SUMMARY:Yu-Gi-Oh! OTS Edison
DESCRIPTION:
URL:https://fantastische-welten-rostock.de/event/yu-gi-oh-ots-edison-5-2/
CATEGORIES:Yu-Gi-Oh!
END:VEVENT
BEGIN:VEVENT
DTSTART;TZID=UTC:20260206T160000
DTEND;TZID=UTC:20260206T190000
DTSTAMP:20260422T172617
CREATED:20260121T161712Z
LAST-MODIFIED:20260121T161712Z
UID:2863-1770393600-1770404400@fantastische-welten-rostock.de
SUMMARY:Yu-Gi-Oh! OTS
DESCRIPTION:
URL:https://fantastische-welten-rostock.de/event/yu-gi-oh-ots-3-2-2-3-4-2-4-2-3-2-2-2-2-2-4-4-4-4-2-2-4-6-2/
CATEGORIES:Yu-Gi-Oh!
END:VEVENT
BEGIN:VEVENT
DTSTART;TZID=UTC:20260210T170000
DTEND;TZID=UTC:20260210T190000
DTSTAMP:20260422T172617
CREATED:20260121T151129Z
LAST-MODIFIED:20260213T153658Z
UID:2756-1770742800-1770750000@fantastische-welten-rostock.de
SUMMARY:Yu-Gi-Oh! OTS Edison
DESCRIPTION:
URL:https://fantastische-welten-rostock.de/event/yu-gi-oh-ots-edison-5-3/
CATEGORIES:Yu-Gi-Oh!
END:VEVENT
BEGIN:VEVENT
DTSTART;TZID=UTC:20260213T160000
DTEND;TZID=UTC:20260213T190000
DTSTAMP:20260422T172617
CREATED:20260121T161724Z
LAST-MODIFIED:20260121T161724Z
UID:2864-1770998400-1771009200@fantastische-welten-rostock.de
SUMMARY:Yu-Gi-Oh! OTS
DESCRIPTION:
URL:https://fantastische-welten-rostock.de/event/yu-gi-oh-ots-3-2-2-3-4-2-4-2-3-2-2-2-2-2-4-4-4-4-2-2-4-6-3/
CATEGORIES:Yu-Gi-Oh!
END:VEVENT
BEGIN:VEVENT
DTSTART;TZID=UTC:20260217T170000
DTEND;TZID=UTC:20260217T190000
DTSTAMP:20260422T172617
CREATED:20260121T151144Z
LAST-MODIFIED:20260123T120603Z
UID:2757-1771347600-1771354800@fantastische-welten-rostock.de
SUMMARY:Yu-Gi-Oh! OTS Edison
DESCRIPTION:
URL:https://fantastische-welten-rostock.de/event/yu-gi-oh-ots-edison-5-4/
CATEGORIES:Yu-Gi-Oh!
END:VEVENT
BEGIN:VEVENT
DTSTART;TZID=UTC:20260220T160000
DTEND;TZID=UTC:20260220T190000
DTSTAMP:20260422T172617
CREATED:20260121T161738Z
LAST-MODIFIED:20260121T161738Z
UID:2865-1771603200-1771614000@fantastische-welten-rostock.de
SUMMARY:Yu-Gi-Oh! OTS
DESCRIPTION:
URL:https://fantastische-welten-rostock.de/event/yu-gi-oh-ots-3-2-2-3-4-2-4-2-3-2-2-2-2-2-4-4-4-4-2-2-4-6-4/
CATEGORIES:Yu-Gi-Oh!
END:VEVENT
BEGIN:VEVENT
DTSTART;TZID=UTC:20260221T110000
DTEND;TZID=UTC:20260221T180000
DTSTAMP:20260422T172617
CREATED:20260121T161641Z
LAST-MODIFIED:20260121T161641Z
UID:2862-1771671600-1771696800@fantastische-welten-rostock.de
SUMMARY:Yu-Gi-Oh! OTS Genesys 100
DESCRIPTION:Alle Infos: https://www.yugioh-card.com/en/genesys/ Anmerkung: Die Karte Last Turn ist verboten!
URL:https://fantastische-welten-rostock.de/event/yu-gi-oh-ots-edison-2-2-3-2-3-3-3-2-2-2-2-3-2-3-2/
CATEGORIES:Yu-Gi-Oh!
END:VEVENT
BEGIN:VEVENT
DTSTART;TZID=UTC:20260224T170000
DTEND;TZID=UTC:20260224T190000
DTSTAMP:20260422T172617
CREATED:20260121T151220Z
LAST-MODIFIED:20260121T151220Z
UID:2761-1771952400-1771959600@fantastische-welten-rostock.de
SUMMARY:Yu-Gi-Oh! OTS Goat
DESCRIPTION:
URL:https://fantastische-welten-rostock.de/event/yu-gi-oh-ots-goat-2-2/
CATEGORIES:Yu-Gi-Oh!
END:VEVENT
BEGIN:VEVENT
DTSTART;TZID=UTC:20260227T160000
DTEND;TZID=UTC:20260227T190000
DTSTAMP:20260422T172617
CREATED:20260121T161753Z
LAST-MODIFIED:20260121T161753Z
UID:2866-1772208000-1772218800@fantastische-welten-rostock.de
SUMMARY:Yu-Gi-Oh! OTS
DESCRIPTION:
URL:https://fantastische-welten-rostock.de/event/yu-gi-oh-ots-3-2-2-3-4-2-4-2-3-2-2-2-2-2-4-4-4-4-2-2-4-6-5/
CATEGORIES:Yu-Gi-Oh!
END:VEVENT
BEGIN:VEVENT
DTSTART;TZID=UTC:20260228T110000
DTEND;TZID=UTC:20260228T180000
DTSTAMP:20260422T172617
CREATED:20260218T144018Z
LAST-MODIFIED:20260218T144018Z
UID:2954-1772276400-1772301600@fantastische-welten-rostock.de
SUMMARY:Yu-Gi-Oh! OTS Genesys 100
DESCRIPTION:Alle Infos: https://www.yugioh-card.com/en/genesys/ Anmerkung: Die Karte Last Turn ist verboten!
URL:https://fantastische-welten-rostock.de/event/yu-gi-oh-ots-edison-2-2-3-2-3-3-3-2-2-2-2-3-2-3-2-2/
CATEGORIES:Yu-Gi-Oh!
END:VEVENT
END:VCALENDAR